BEGIN:VCALENDAR
VERSION:2.0
PRODID:-//Helms Design District - ECPv6.15.18//NONSGML v1.0//EN
CALSCALE:GREGORIAN
METHOD:PUBLISH
X-ORIGINAL-URL:https://helmsdesigndistrict.com
X-WR-CALDESC:Events for Helms Design District
REFRESH-INTERVAL;VALUE=DURATION:PT1H
X-Robots-Tag:noindex
X-PUBLISHED-TTL:PT1H
BEGIN:VTIMEZONE
TZID:America/Los_Angeles
BEGIN:DAYLIGHT
TZOFFSETFROM:-0800
TZOFFSETTO:-0700
TZNAME:PDT
DTSTART:20200308T100000
END:DAYLIGHT
BEGIN:STANDARD
TZOFFSETFROM:-0700
TZOFFSETTO:-0800
TZNAME:PST
DTSTART:20201101T090000
END:STANDARD
BEGIN:DAYLIGHT
TZOFFSETFROM:-0800
TZOFFSETTO:-0700
TZNAME:PDT
DTSTART:20210314T100000
END:DAYLIGHT
BEGIN:STANDARD
TZOFFSETFROM:-0700
TZOFFSETTO:-0800
TZNAME:PST
DTSTART:20211107T090000
END:STANDARD
BEGIN:DAYLIGHT
TZOFFSETFROM:-0800
TZOFFSETTO:-0700
TZNAME:PDT
DTSTART:20220313T100000
END:DAYLIGHT
BEGIN:STANDARD
TZOFFSETFROM:-0700
TZOFFSETTO:-0800
TZNAME:PST
DTSTART:20221106T090000
END:STANDARD
END:VTIMEZONE
BEGIN:VEVENT
DTSTART;TZID=America/Los_Angeles:20210317T183000
DTEND;TZID=America/Los_Angeles:20210317T200000
DTSTAMP:20260424T003622
CREATED:20210303T235252Z
LAST-MODIFIED:20210303T235252Z
UID:10000419-1616005800-1616011200@helmsdesigndistrict.com
SUMMARY:A Convo with Jiseon Lee Isbara\, Provost of OTIS College of Art and Design
DESCRIPTION:On Wednesday\, March 17th from 6:30 to 8:00 PM\, Textile Arts | Los Angeles invites you to join them for Displaced\, a conversation with the new provost of OTIS College of Art and Design\, artist\, and curator Jiseon Lee Isbara. \nJiseon Lee Isbara will speak about the inquiries addressed in her work and the use of visual languages and processes developed over time to communicate her concepts and emotions. Her work mirrors her life and its complexities of a displaced person in two countries: conversant in the language and culture of both places\, but not considered a full-fledged member of either one. Through her work\, she embodies two cultures\, times and identities colliding and merging together. \nTICKETS\n$10 members; $20 public \nPracticeLAB is a series of talks exploring the ideas\, issues\, and inspiration that inform a robust creative practice. Textile Arts | Los Angeles invites artists\, authors\, architects\, and creatives to present content that addresses the nature of a practice\, as well as educational sessions that offer an opportunity to practice. We look forward to meeting more of  LA’s creative community with these engaging sessions. \n \nABOUT JISEON LEE ISBARA\nJiseon Lee Isbara is an artist and educator who serves as the Provost at Otis College of Art and Design in Los Angeles\, CA. She exhibits nationally\, engages with viewers through lectures and discussions\, and collaborates with and contributes to the community by serving in various roles for regional and national art and education organizations. Amplified by her experience as a first-generation immigrant\, she engages with socially and culturally charged dialogue through the accumulated aesthetics\, materials\, and processes she has garnered as an emigrant from her native culture. Through her artwork\, Jiseon questions the congruity around her emotions and cultural topics. Jiseon earned her MFA in Fibers\, one from Colorado State University and one from Ewha Woman’s University\, Seoul\, South Korea. She is Professor and Dean of Academic Affairs at Oregon College of Art and Craft.
URL:https://helmsdesigndistrict.com/event/a-convo-with-jiseon-lee-isbara-provost-of-otis-college-of-art-and-design/
LOCATION:Zoom\, CA
CATEGORIES:News
ATTACH;FMTTYPE=image/jpeg:https://helmsdesigndistrict.com/wp-content/uploads/2021/03/PreciousMany-1-002.jpg
END:VEVENT
END:VCALENDAR