BEGIN:VCALENDAR
VERSION:2.0
PRODID:-//Helms Design District - ECPv6.15.18//NONSGML v1.0//EN
CALSCALE:GREGORIAN
METHOD:PUBLISH
X-WR-CALNAME:Helms Design District
X-ORIGINAL-URL:https://helmsdesigndistrict.com
X-WR-CALDESC:Events for Helms Design District
REFRESH-INTERVAL;VALUE=DURATION:PT1H
X-Robots-Tag:noindex
X-PUBLISHED-TTL:PT1H
BEGIN:VTIMEZONE
TZID:America/Los_Angeles
BEGIN:DAYLIGHT
TZOFFSETFROM:-0800
TZOFFSETTO:-0700
TZNAME:PDT
DTSTART:20220313T100000
END:DAYLIGHT
BEGIN:STANDARD
TZOFFSETFROM:-0700
TZOFFSETTO:-0800
TZNAME:PST
DTSTART:20221106T090000
END:STANDARD
BEGIN:DAYLIGHT
TZOFFSETFROM:-0800
TZOFFSETTO:-0700
TZNAME:PDT
DTSTART:20230312T100000
END:DAYLIGHT
BEGIN:STANDARD
TZOFFSETFROM:-0700
TZOFFSETTO:-0800
TZNAME:PST
DTSTART:20231105T090000
END:STANDARD
BEGIN:DAYLIGHT
TZOFFSETFROM:-0800
TZOFFSETTO:-0700
TZNAME:PDT
DTSTART:20240310T100000
END:DAYLIGHT
BEGIN:STANDARD
TZOFFSETFROM:-0700
TZOFFSETTO:-0800
TZNAME:PST
DTSTART:20241103T090000
END:STANDARD
END:VTIMEZONE
BEGIN:VEVENT
DTSTART;TZID=America/Los_Angeles:20231113T080000
DTEND;TZID=America/Los_Angeles:20231114T170000
DTSTAMP:20260424T033423
CREATED:20231113T175040Z
LAST-MODIFIED:20231113T215351Z
UID:10001857-1699862400-1699981200@helmsdesigndistrict.com
SUMMARY:Cisco Home's Floor Sample Sale is here!
DESCRIPTION:Anyone who has ever stepped into the Cisco Home showroom knows that their beautiful pieces are all custom-designed to perfectly fit your home’s decor. Cisco Home is located in a 5\,000 square foot space along Washington Boulevard\, featuring a large selection of sofas\, sectionals\, chairs and beds\, as well as a unique handblown glass lighting collection made in Los Angeles. \nBut Cisco rarely has the luxury of inventory that is readily available to their clients. Fortunately for us\, Cisco has a selection of items presented during High Point Furniture Market this year and is passing on the savings to you. Stop in the showroom to enjoy a rare floor model sale at 20 – 60% off regular prices! \nIn case you didn’t know: Noblessa shares the Cisco showroom.  On your visit\, enjoy exploring this high-end brand offering long-lasting kitchens\, built with modern lines from the best German materials. The interior parking garage is located at 8711 Washington Boulevard\, just a few short steps west of the Cisco showroom. \nBook an Appointment Today!
URL:https://helmsdesigndistrict.com/event/cisco-homes-floor-sample-sale-is-here/
LOCATION:Cisco Home\, 8705 Washington Boulevard\, Culver City\, CA\, 90232\, United States
CATEGORIES:News
ATTACH;FMTTYPE=image/jpeg:https://helmsdesigndistrict.com/wp-content/uploads/2023/11/Sample-Sale-23.11.13.jpeg
END:VEVENT
END:VCALENDAR