BEGIN:VCALENDAR
VERSION:2.0
PRODID:-//Helms Design District - ECPv6.15.18//NONSGML v1.0//EN
CALSCALE:GREGORIAN
METHOD:PUBLISH
X-WR-CALNAME:Helms Design District
X-ORIGINAL-URL:https://helmsdesigndistrict.com
X-WR-CALDESC:Events for Helms Design District
REFRESH-INTERVAL;VALUE=DURATION:PT1H
X-Robots-Tag:noindex
X-PUBLISHED-TTL:PT1H
BEGIN:VTIMEZONE
TZID:America/Los_Angeles
BEGIN:DAYLIGHT
TZOFFSETFROM:-0800
TZOFFSETTO:-0700
TZNAME:PDT
DTSTART:20210314T100000
END:DAYLIGHT
BEGIN:STANDARD
TZOFFSETFROM:-0700
TZOFFSETTO:-0800
TZNAME:PST
DTSTART:20211107T090000
END:STANDARD
BEGIN:DAYLIGHT
TZOFFSETFROM:-0800
TZOFFSETTO:-0700
TZNAME:PDT
DTSTART:20220313T100000
END:DAYLIGHT
BEGIN:STANDARD
TZOFFSETFROM:-0700
TZOFFSETTO:-0800
TZNAME:PST
DTSTART:20221106T090000
END:STANDARD
BEGIN:DAYLIGHT
TZOFFSETFROM:-0800
TZOFFSETTO:-0700
TZNAME:PDT
DTSTART:20230312T100000
END:DAYLIGHT
BEGIN:STANDARD
TZOFFSETFROM:-0700
TZOFFSETTO:-0800
TZNAME:PST
DTSTART:20231105T090000
END:STANDARD
END:VTIMEZONE
BEGIN:VEVENT
DTSTART;TZID=America/Los_Angeles:20220814T133000
DTEND;TZID=America/Los_Angeles:20220814T153000
DTSTAMP:20260423T215600
CREATED:20220805T232319Z
LAST-MODIFIED:20220805T232319Z
UID:10000342-1660483800-1660491000@helmsdesigndistrict.com
SUMMARY:Knitting Workshop with Welcome Blanket's Linda Preuss and Joanne Poyourow
DESCRIPTION:Free\nAre you learning to knit? Have you been knitting for years? On Sunday August 14th from 1:30 to 3:30 PM\, please join us for a FREE workshop led by Linda Preuss and Joanne Poyourow who over the years have knitted 9 blankets with a group of friends for the Welcome Blanket project. Come be part of making a Welcome Blanket\, meet new friends from the fiber community\, and share your immigration stories. \nPattern and yarn will be supplied\, although you may also bring yarn from your stash (DK gauge acrylic or superwash-wool\, please; any color.) If you have #7 or #8 needles\, pop them in your bag as well. Otherwise we’ll have some for you to borrow. \nThis is a knitting workshop and although we won’t be mentoring crocheting or quilting skills at this workshop\, feel free to join us. The more the merrier! \nThis workshop will be an indoor event. Out of consideration for others we kindly ask that participants wear masks. \nQuestions? Contact welcomeblanketvolunteer@gmail.com
URL:https://helmsdesigndistrict.com/event/knitting-workshop-with-welcome-blankets-linda-preuss-and-joanne-poyourow/
LOCATION:Helms Design Center\, 8745 Washington Boulevard\, Culver City\, CA\, 90232
CATEGORIES:News
ATTACH;FMTTYPE=image/jpeg:https://helmsdesigndistrict.com/wp-content/uploads/2022/08/Workshop-750x500_22.08.14_web.jpg
GEO:34.0286594;-118.3857496
X-APPLE-STRUCTURED-LOCATION;VALUE=URI;X-ADDRESS=Helms Design Center 8745 Washington Boulevard Culver City CA 90232;X-APPLE-RADIUS=500;X-TITLE=8745 Washington Boulevard:geo:-118.3857496,34.0286594
END:VEVENT
END:VCALENDAR