BEGIN:VCALENDAR
VERSION:2.0
PRODID:-//Helms Design District - ECPv6.15.18//NONSGML v1.0//EN
CALSCALE:GREGORIAN
METHOD:PUBLISH
X-ORIGINAL-URL:https://helmsdesigndistrict.com
X-WR-CALDESC:Events for Helms Design District
REFRESH-INTERVAL;VALUE=DURATION:PT1H
X-Robots-Tag:noindex
X-PUBLISHED-TTL:PT1H
BEGIN:VTIMEZONE
TZID:America/Los_Angeles
BEGIN:DAYLIGHT
TZOFFSETFROM:-0800
TZOFFSETTO:-0700
TZNAME:PDT
DTSTART:20230312T100000
END:DAYLIGHT
BEGIN:STANDARD
TZOFFSETFROM:-0700
TZOFFSETTO:-0800
TZNAME:PST
DTSTART:20231105T090000
END:STANDARD
BEGIN:DAYLIGHT
TZOFFSETFROM:-0800
TZOFFSETTO:-0700
TZNAME:PDT
DTSTART:20240310T100000
END:DAYLIGHT
BEGIN:STANDARD
TZOFFSETFROM:-0700
TZOFFSETTO:-0800
TZNAME:PST
DTSTART:20241103T090000
END:STANDARD
BEGIN:DAYLIGHT
TZOFFSETFROM:-0800
TZOFFSETTO:-0700
TZNAME:PDT
DTSTART:20250309T100000
END:DAYLIGHT
BEGIN:STANDARD
TZOFFSETFROM:-0700
TZOFFSETTO:-0800
TZNAME:PST
DTSTART:20251102T090000
END:STANDARD
END:VTIMEZONE
BEGIN:VEVENT
DTSTART;TZID=America/Los_Angeles:20241001T080000
DTEND;TZID=America/Los_Angeles:20241031T170000
DTSTAMP:20260423T220320
CREATED:20240920T205208Z
LAST-MODIFIED:20241001T174314Z
UID:10001916-1727769600-1730394000@helmsdesigndistrict.com
SUMMARY:Fresh Perks: October Instagram Giveaway
DESCRIPTION:Nothing brings us joy like sharing in some social fun with our followers. September’s Fresh Perks giveaway is brought to you by our friends at Kohler\, a company built on a passionate love affair with history\, architecture\, and dedicated to bringing back the best lighting and house parts ever made. \nEnter-to-Win a Castia Rite-temp Shower Trim Kit at Kohler. Drawing inspiration from the archives\, the Castia bathroom faucet and accessory collection from Kohler x Studio McGee combines classic and modern influences in a timeless expression for the home. Crafted with meticulous attention to detail\, this ever-versatile product from the Castia collection effortlessly harmonizes with the other elements within your space. \nBe sure to follow us on Instagram @helmsbakerydistrict to be eligible to participate. This Fresh Perks giveaway runs from October 1st at 9:00 am thru October 31st at 5:00 pm. One lucky winner will be contacted after the end of the giveaway. \nWe are officially calling 2024 the year of Fresh Perks as a way to show our thanks and gratitude. We appreciate  you for choosing Helms Bakery District as your go-to design hub\, your shopping destination\, and a favorite spot to dine. Thank you for spending time with us throughout the entire year and thank you for always showing up. We love seeing you! \n\nTo enter is simple: \n(1) You must Follow us on Instagram. \n(2) Tag two friends in your comment so they can follow us and enter too. \n(3) Tell us about your favorite song to sing in the shower\, though this one isn’t mandatory. \nSign up for our newsletter and automatically be entered for a second chance to win.  \nPlus\, you’ll find out when the next Helms Fresh Perk drops. Good luck! \n\nRules & Regs \nNo purchase is required to enter. \nWinners will be selected randomly\, contacted after each giveaway closes\, and announced in our comments on Instagram. \nOpen to US residents only\, 18 years and older.  By entering\, entrants confirm they are at least 18+ years of age. \nThis is a “GIVEAWAY” and is not eligible for return\, refund\, or exchange at any of our showrooms or restaurants. \nThe “Helms Perks” giveaway  is not sponsored\, endorsed\, administered by or associated with Instagram. Entrants release Instagram and all brands of all responsibility and agree to Instagram’s terms of use. \nOne entry per Instagram user. Duplicate entries will not be considered. \nThis giveaway is open to residents of Los Angeles County.
URL:https://helmsdesigndistrict.com/event/fresh-perks-october-instagram-giveaway/
LOCATION:Online\, CA
CATEGORIES:Long Term Events
ATTACH;FMTTYPE=image/jpeg:https://helmsdesigndistrict.com/wp-content/uploads/2024/09/Fresh-Perks_2024.10_Post_1080px-1.jpg
END:VEVENT
BEGIN:VEVENT
DTSTART;TZID=America/Los_Angeles:20240315T100000
DTEND;TZID=America/Los_Angeles:20240316T180000
DTSTAMP:20260423T220320
CREATED:20240308T162527Z
LAST-MODIFIED:20240308T162527Z
UID:10001875-1710496800-1710612000@helmsdesigndistrict.com
SUMMARY:Book a 20-Minute Design Consultation with a KOHLER Expert!
DESCRIPTION:KOHLER Signature Store offers daily customer service and advice about the latest and greatest products in bathroom design. On Friday\, March 15th and Saturday\, March 16th\, you’re invited to book a complimentary 20-minute bathroom design consultation with KOHLER’S expert designers in-store for a limited time only. \nAppointment required\, limited availability. \nBOOK AN APPOINTMENT\nWHAT TO EXPECT\nYou will receive a complimentary 20-minute speed design session with a KOHLER Bathroom Design expert. During the consultation\, our designer could offer recommendations such as floorplan changes\, or product or design considerations. If you’re interested in a full design solution\, we will be extending a special offer in store on our KOHLER Bathroom Design Services-starting at $299. \nWe encourage you to bring inspiration\, measurements\, questions\, or photos of your current bathroom to the consultation (not required). \nABOUT KOHLER SIGNATURE STORE\nDiscover the latest KOHLER products and unparalleled service at the KOHLER Signature Store in Culver City\, CA. The KOHLER Signature Store offers a unique and comprehensive shopping experience that is distinguished by a modern\, innovative store and a merchandise mix that completely indulges you as you experience the KOHLER brand. KOHLER project consultants with expertise in bath design\, offer design development and project assistance. Additionally\, the store features functioning products from KOHLER\, Kallista\, Robern\, KOHLER Surfaces tile and stone and KOHLER Custom Vanities.
URL:https://helmsdesigndistrict.com/event/book-a-20-minute-design-consultation-with-a-kohler-expert/
LOCATION:Kohler Signature Store\, 3250 Helms Ave\, Los Angeles\, CA\, 90034
CATEGORIES:News
ATTACH;FMTTYPE=image/jpeg:https://helmsdesigndistrict.com/wp-content/uploads/2024/03/Kohler_thumbnail_WF635802-The-Design-Open-House-KSS-Culver-City_Social.psd_LinkedIn.jpg
END:VEVENT
END:VCALENDAR