BEGIN:VCALENDAR
VERSION:2.0
PRODID:-//Helms Design District - ECPv6.15.18//NONSGML v1.0//EN
CALSCALE:GREGORIAN
METHOD:PUBLISH
X-ORIGINAL-URL:https://helmsdesigndistrict.com
X-WR-CALDESC:Events for Helms Design District
REFRESH-INTERVAL;VALUE=DURATION:PT1H
X-Robots-Tag:noindex
X-PUBLISHED-TTL:PT1H
BEGIN:VTIMEZONE
TZID:America/Los_Angeles
BEGIN:DAYLIGHT
TZOFFSETFROM:-0800
TZOFFSETTO:-0700
TZNAME:PDT
DTSTART:20210314T100000
END:DAYLIGHT
BEGIN:STANDARD
TZOFFSETFROM:-0700
TZOFFSETTO:-0800
TZNAME:PST
DTSTART:20211107T090000
END:STANDARD
BEGIN:DAYLIGHT
TZOFFSETFROM:-0800
TZOFFSETTO:-0700
TZNAME:PDT
DTSTART:20220313T100000
END:DAYLIGHT
BEGIN:STANDARD
TZOFFSETFROM:-0700
TZOFFSETTO:-0800
TZNAME:PST
DTSTART:20221106T090000
END:STANDARD
BEGIN:DAYLIGHT
TZOFFSETFROM:-0800
TZOFFSETTO:-0700
TZNAME:PDT
DTSTART:20230312T100000
END:DAYLIGHT
BEGIN:STANDARD
TZOFFSETFROM:-0700
TZOFFSETTO:-0800
TZNAME:PST
DTSTART:20231105T090000
END:STANDARD
END:VTIMEZONE
BEGIN:VEVENT
DTSTART;TZID=America/Los_Angeles:20220526T183000
DTEND;TZID=America/Los_Angeles:20220526T203000
DTSTAMP:20260423T232126
CREATED:20220517T194125Z
LAST-MODIFIED:20220520T163715Z
UID:10000497-1653589800-1653597000@helmsdesigndistrict.com
SUMMARY:A reception\, lecture\, and discussion with Michael Young & Kutan Ayata
DESCRIPTION:Join us on Thursday\, May 26th\, 6:30-8:30 pm\, for a reception\, lecture\, and discussion with Michael Young & Kutan Ayata\nIn collaboration with the Helms Bakery District and the Cal Poly SLO LA Metro Program in Architecture and Urban Design \nHELMS DESIGN CENTER        \n8745 Washington Blvd.\, Culver City\, CA 90232 \nFree Parking is available at the corner of Helms Ave. and Venice Blvd. \nLecture is Free and Open to the Public \nRSVP\n\nYoung & Ayata \nYoung & Ayata formed as a partnership in New York in 2008 to explore the conceptual and aesthetic possibilities of architecture and urbanism. The practice is dedicated to building commissions\, exploratory mediations\, and published arguments where the reality of the contemporary environment is engaged as a provocation for experiments in form\, material\, and imagery. Both principals teach and view pedagogy as crucial to the continual development of architectural ideas. Young & Ayata have received the Progressive Architecture award\, the Design Vanguard Award\, the Young Architects Prize\, the AIA Honor Award\, and a first-place prize for the design of the Bauhaus Museum in Dessau\, Germany. \nMichael Young is an Assistant Professor at The Irwin S. Chanin School of Architecture at the Cooper Union. He is the recipient of the 2019-20 Rome Prize from the American Academy of Rome. He is the author of The Estranged Object (Graham Foundation 2015) and Reality Modeled After Images (Routledge 2021). Michael received his Masters of Architecture from Princeton University and his Bachelor of Architecture from Cal Poly San Luis Obispo. Michael is a Registered Architect in the State of New York. \nKutan Ayata is an Associate Professor and the Vice Chair in the Department of Architecture and Urbanism at UCLA\, where he also serves as the Director of Master of Architecture Program. He received his Masters of Architecture from Princeton University and his Bachelor of Fine Arts from Massachusetts College of Art. He is a registered architect in the Chamber of Architects in Turkey. \nIntroduced and moderated by Stephen Phillips\, FAIA\, PhD\, Principal of Stephen Phillips Architects (SPARCHS) and professor\, director\, Cal Poly LA Metro Program in Architecture and Urban Design (California Polytechnic State University\, San Luis Obispo). \nPhotos (Left to Right): Image of Spectral Entourage No. 73\, Image of Michael Young and Kutan Ayata\, and Image of DL1310 Apartments. \n \n 
URL:https://helmsdesigndistrict.com/event/young-and-ayata/
LOCATION:Helms Design Center\, 8745 Washington Boulevard\, Culver City\, CA\, 90232
CATEGORIES:News
ATTACH;FMTTYPE=image/jpeg:https://helmsdesigndistrict.com/wp-content/uploads/2022/05/young-ayata-constant-contact-banner.jpg
GEO:34.0286594;-118.3857496
X-APPLE-STRUCTURED-LOCATION;VALUE=URI;X-ADDRESS=Helms Design Center 8745 Washington Boulevard Culver City CA 90232;X-APPLE-RADIUS=500;X-TITLE=8745 Washington Boulevard:geo:-118.3857496,34.0286594
END:VEVENT
END:VCALENDAR