BEGIN:VCALENDAR
VERSION:2.0
PRODID:-//Helms Design District - ECPv6.15.18//NONSGML v1.0//EN
CALSCALE:GREGORIAN
METHOD:PUBLISH
X-ORIGINAL-URL:https://helmsdesigndistrict.com
X-WR-CALDESC:Events for Helms Design District
REFRESH-INTERVAL;VALUE=DURATION:PT1H
X-Robots-Tag:noindex
X-PUBLISHED-TTL:PT1H
BEGIN:VTIMEZONE
TZID:America/Los_Angeles
BEGIN:DAYLIGHT
TZOFFSETFROM:-0800
TZOFFSETTO:-0700
TZNAME:PDT
DTSTART:20180311T100000
END:DAYLIGHT
BEGIN:STANDARD
TZOFFSETFROM:-0700
TZOFFSETTO:-0800
TZNAME:PST
DTSTART:20181104T090000
END:STANDARD
BEGIN:DAYLIGHT
TZOFFSETFROM:-0800
TZOFFSETTO:-0700
TZNAME:PDT
DTSTART:20190310T100000
END:DAYLIGHT
BEGIN:STANDARD
TZOFFSETFROM:-0700
TZOFFSETTO:-0800
TZNAME:PST
DTSTART:20191103T090000
END:STANDARD
BEGIN:DAYLIGHT
TZOFFSETFROM:-0800
TZOFFSETTO:-0700
TZNAME:PDT
DTSTART:20200308T100000
END:DAYLIGHT
BEGIN:STANDARD
TZOFFSETFROM:-0700
TZOFFSETTO:-0800
TZNAME:PST
DTSTART:20201101T090000
END:STANDARD
END:VTIMEZONE
BEGIN:VEVENT
DTSTART;TZID=America/Los_Angeles:20190620T180000
DTEND;TZID=America/Los_Angeles:20190620T200000
DTSTAMP:20260423T220319
CREATED:20190612T175212Z
LAST-MODIFIED:20190612T175212Z
UID:10000170-1561053600-1561060800@helmsdesigndistrict.com
SUMMARY:Join Us for a Lively Convo About Design x Wellness
DESCRIPTION:Free\nAchieving a healthy and organized life is not easy\, especially with our busy schedules. On Thursday\, June 20th from 6 to 8 pm\, help us kick off LA Design Festival with a lively conversation about Design x Wellness\, featuring panelists Amanda Barnes (Louis Poulsen)\, Nicole Caswell (California Closets)\, and Lesley Roberts (OceanParkStudio)\, moderated by California Interiors Editor-in-Chief Kelly Phillips Badal. \n6:00 – 6:30 pm    Welcome Reception – Light Bites and Refreshments\n6:30 – 7:15 pm    Panel Discussion\, followed by a Q & A\n7:30 – 8:00 pm    Meaningful Schmoozing \n  \n \nAbout Kelly Phillips Badal\nInteriors California editor-in-chief and Angeleno executive editor Kelly Phillips Badal is a writer and editor specializing in home design\, decor\, luxury lifestyle\, and travel\, with 15+ years of experience. She’s been a senior editor at Better Homes & Gardens\, Country Living\, and Luxury Retreats magazines\, and her work has also appeared in Sunset\, BBC Travel\, and Travel + Leisure\, among other outlets. A former New Yorker\, she now calls Los Angeles home and loves exploring California with her husband\, professional photographer Tanveer Badal\, and her one-year-old daughter\, Aria. \n  \nAbout Amanda Barnes\nAs the sales & event manager at Louis Poulsen’s L.A. showroom\, Amanda works to promote Louis Poulsen’s designs within the A+D community. After studying interior design at Pratt Institute\, Amanda went on to work for two iconic Danish manufacturers\, Louis Poulsen and Carl Hansen & Son. Louis Poulsen’s clients range from global architecture firms such as Gensler to homeowners and art collectors.  For over 100 years\, the company has grown to become one of the world’s leading experts in luminaire design. Louis Poulsen has always sought\, not to design lamps\, but to shape light. \n  \n \nAbout Nicole Caswell\nNicole has been in the design and construction industry for over 15 years and hired onto the California Closets team in 2014. When working with clients\, she gets to know their personal design preferences as well as their daily routines\, helping to create a space that is customized specifically for them.  In her work at California Closets\, Nicole finds it rewarding to not only create beautiful spaces for her clients\, but also strives to achieve a sense of calm through organization. Her goal is to help design better lives resulting in spaces that are lovely\, built to last\, and efficiently organized. \n  \nAbout Lesley Roberts\nLesley Roberts believes in the power of thoughtful ideas\, creative vision\, and clarity of purpose to achieve meaningful change and growth. Her consulting practice\, OceanParkStudio\, provides marketing and strategy services to brands and industries ranging from a luxury furniture company to an arts start-up\, from satellite-based tech to philanthropy. She also serves as the Executive Director of Textile Arts LA\, a professional membership organization for fiber artists\, designers\, and enthusiasts.
URL:https://helmsdesigndistrict.com/event/join-us-for-a-lively-convo-about-design-x-wellness/
LOCATION:Helms Design Center\, 8745 Washington Boulevard\, Culver City\, CA\, 90232
ATTACH;FMTTYPE=image/gif:https://helmsdesigndistrict.com/wp-content/uploads/2019/06/DesignxWellness-Invite-_500x500-web.gif
GEO:34.0286594;-118.3857496
X-APPLE-STRUCTURED-LOCATION;VALUE=URI;X-ADDRESS=Helms Design Center 8745 Washington Boulevard Culver City CA 90232;X-APPLE-RADIUS=500;X-TITLE=8745 Washington Boulevard:geo:-118.3857496,34.0286594
END:VEVENT
END:VCALENDAR