BEGIN:VCALENDAR
VERSION:2.0
PRODID:-//Helms Design District - ECPv6.15.18//NONSGML v1.0//EN
CALSCALE:GREGORIAN
METHOD:PUBLISH
X-ORIGINAL-URL:https://helmsdesigndistrict.com
X-WR-CALDESC:Events for Helms Design District
REFRESH-INTERVAL;VALUE=DURATION:PT1H
X-Robots-Tag:noindex
X-PUBLISHED-TTL:PT1H
BEGIN:VTIMEZONE
TZID:America/Los_Angeles
BEGIN:DAYLIGHT
TZOFFSETFROM:-0800
TZOFFSETTO:-0700
TZNAME:PDT
DTSTART:20180311T100000
END:DAYLIGHT
BEGIN:STANDARD
TZOFFSETFROM:-0700
TZOFFSETTO:-0800
TZNAME:PST
DTSTART:20181104T090000
END:STANDARD
BEGIN:DAYLIGHT
TZOFFSETFROM:-0800
TZOFFSETTO:-0700
TZNAME:PDT
DTSTART:20190310T100000
END:DAYLIGHT
BEGIN:STANDARD
TZOFFSETFROM:-0700
TZOFFSETTO:-0800
TZNAME:PST
DTSTART:20191103T090000
END:STANDARD
BEGIN:DAYLIGHT
TZOFFSETFROM:-0800
TZOFFSETTO:-0700
TZNAME:PDT
DTSTART:20200308T100000
END:DAYLIGHT
BEGIN:STANDARD
TZOFFSETFROM:-0700
TZOFFSETTO:-0800
TZNAME:PST
DTSTART:20201101T090000
END:STANDARD
END:VTIMEZONE
BEGIN:VEVENT
DTSTART;TZID=America/Los_Angeles:20190425T183000
DTEND;TZID=America/Los_Angeles:20190425T203000
DTSTAMP:20260423T231311
CREATED:20190416T214057Z
LAST-MODIFIED:20190423T214516Z
UID:10000307-1556217000-1556224200@helmsdesigndistrict.com
SUMMARY:Dialogues: A reception\, lecture\, and discussion with Dwayne Oyler and Jenny Wu of Oyler Wu Collaborative
DESCRIPTION:Free – Please RSVP\nOn Thursday\, April 25\, from 6:30 pm – 8:30 pm Helms Bakery District and the Cal Poly LA Metro Program in Architecture and Urban Design are excited to host a reception\, lecture\, and discussion with Dwayne Oyler and Jenny Wu of Oyler Wu Collaborative. \n\nOyler Wu Collaborative \nDwayne Oyler and Jenny Wu established the architecture and design firm of Oyler Wu Collaborative in Los Angeles in 2004. The firm is recognized for its experimentation in design\, material research\, and fabrication\, and was the winner of the 2013 Design Vanguard Award from Architectural Record and the 2017 J. Irwin and Xenia S. Miller Prize. \nTheir recently completed projects include the competition-winning design\, The Exchange\, for Exhibit Columbus\, a 3D printing Culinary Lab in Los Angeles\, and the Monarch Tower\, a 16-story residential high rise in Taipei\, Taiwan. The office was recently selected by the City of Los Angeles to design the LA River Bikeway and Greenway project\, a large scale public project. The office has won numerous awards including\, the 2013 Emerging Talent Award from AIA California Council\, the 2012 Presidential Honor Award for Emerging Practice from AIA LA\, Taiwan’s ADA Award for Emerging Architect\, and the 2011 Emerging Voices Award from the Architectural League in New York. \nTheir book\, Pendulum Plane\, was published in 2009 by the Los Angeles Forum for Architecture and Urban Design\, and a more recent book\, Trilogy: SCI-Arc Pavilions\, was published by SCI-Arc Press. Both partners are members of the design faculty at the Southern California Institute of Architecture (SCI-Arc) and have been visiting instructors at the Harvard Graduate School of Design\, Syracuse University\, and Columbia GSAPP. \n\nIntroduced and moderated by Stephen Phillips\, AIA\, PhD\, Principal of Stephen Phillips Architects (SPARCHS) and professor\, director\, Cal Poly LA Metro Program in Architecture and Urban Design (California Polytechnic State University\, San Luis Obispo) \nFree Parking is available at the corner of Helms Ave. and Venice Blvd. \nPhotos (Left to Right): Dwayne Oyler\, MONARCH Apartments by Oyler Wu Collaborative (Taipei\, Taiwan)\, Jenny Wu. \n\nUpcoming Schedule\nMay 23rd Sylvia Lavin (rescheduled)\nJune 4th Lucia Allais (Princeton) \n  \n 
URL:https://helmsdesigndistrict.com/event/dialogues-a-reception-lecture-and-discussion-with-dwayne-oyler-and-jenny-wu-of-oyler-wu-collaborative/
LOCATION:Helms Design Center\, 8745 Washington Boulevard\, Culver City\, CA\, 90232
CATEGORIES:News
ATTACH;FMTTYPE=image/jpeg:https://helmsdesigndistrict.com/wp-content/uploads/2019/04/Oyler-Wu-Graphic.jpg
GEO:34.0286594;-118.3857496
X-APPLE-STRUCTURED-LOCATION;VALUE=URI;X-ADDRESS=Helms Design Center 8745 Washington Boulevard Culver City CA 90232;X-APPLE-RADIUS=500;X-TITLE=8745 Washington Boulevard:geo:-118.3857496,34.0286594
END:VEVENT
END:VCALENDAR