BEGIN:VCALENDAR
VERSION:2.0
PRODID:-//Helms Design District - ECPv6.15.18//NONSGML v1.0//EN
CALSCALE:GREGORIAN
METHOD:PUBLISH
X-ORIGINAL-URL:https://helmsdesigndistrict.com
X-WR-CALDESC:Events for Helms Design District
REFRESH-INTERVAL;VALUE=DURATION:PT1H
X-Robots-Tag:noindex
X-PUBLISHED-TTL:PT1H
BEGIN:VTIMEZONE
TZID:America/Los_Angeles
BEGIN:DAYLIGHT
TZOFFSETFROM:-0800
TZOFFSETTO:-0700
TZNAME:PDT
DTSTART:20170312T100000
END:DAYLIGHT
BEGIN:STANDARD
TZOFFSETFROM:-0700
TZOFFSETTO:-0800
TZNAME:PST
DTSTART:20171105T090000
END:STANDARD
BEGIN:DAYLIGHT
TZOFFSETFROM:-0800
TZOFFSETTO:-0700
TZNAME:PDT
DTSTART:20180311T100000
END:DAYLIGHT
BEGIN:STANDARD
TZOFFSETFROM:-0700
TZOFFSETTO:-0800
TZNAME:PST
DTSTART:20181104T090000
END:STANDARD
BEGIN:DAYLIGHT
TZOFFSETFROM:-0800
TZOFFSETTO:-0700
TZNAME:PDT
DTSTART:20190310T100000
END:DAYLIGHT
BEGIN:STANDARD
TZOFFSETFROM:-0700
TZOFFSETTO:-0800
TZNAME:PST
DTSTART:20191103T090000
END:STANDARD
BEGIN:DAYLIGHT
TZOFFSETFROM:-0800
TZOFFSETTO:-0700
TZNAME:PDT
DTSTART:20200308T100000
END:DAYLIGHT
BEGIN:STANDARD
TZOFFSETFROM:-0700
TZOFFSETTO:-0800
TZNAME:PST
DTSTART:20201101T090000
END:STANDARD
BEGIN:DAYLIGHT
TZOFFSETFROM:-0800
TZOFFSETTO:-0700
TZNAME:PDT
DTSTART:20210314T100000
END:DAYLIGHT
BEGIN:STANDARD
TZOFFSETFROM:-0700
TZOFFSETTO:-0800
TZNAME:PST
DTSTART:20211107T090000
END:STANDARD
BEGIN:DAYLIGHT
TZOFFSETFROM:-0800
TZOFFSETTO:-0700
TZNAME:PDT
DTSTART:20220313T100000
END:DAYLIGHT
BEGIN:STANDARD
TZOFFSETFROM:-0700
TZOFFSETTO:-0800
TZNAME:PST
DTSTART:20221106T090000
END:STANDARD
BEGIN:DAYLIGHT
TZOFFSETFROM:-0800
TZOFFSETTO:-0700
TZNAME:PDT
DTSTART:20230312T100000
END:DAYLIGHT
BEGIN:STANDARD
TZOFFSETFROM:-0700
TZOFFSETTO:-0800
TZNAME:PST
DTSTART:20231105T090000
END:STANDARD
END:VTIMEZONE
BEGIN:VEVENT
DTSTART;TZID=America/Los_Angeles:20220609T183000
DTEND;TZID=America/Los_Angeles:20220609T203000
DTSTAMP:20260423T224326
CREATED:20220511T004036Z
LAST-MODIFIED:20220520T172538Z
UID:10000474-1654799400-1654806600@helmsdesigndistrict.com
SUMMARY:An Evening with AIA Gold Medal Winners Angela Brooks\, FAIA\, and Lawrence Scarpa\, FAIA
DESCRIPTION:Congratulations! \nHelms Bakery District Presents An Evening with AIA Gold Medal Winners Angela Brooks\, FAIA\, and Lawrence Scarpa\, FAIA\nThursday\, June 9th | 6:30 PM\nReception and Celebration of Brooks + Scarpa \nPrivate Invitation Only | RSVP Required\n8723 Washington Boulevard | Culver City \nAfter meeting at architecture school at the University of Florida\, Lawrence Scarpa\, raised in a family run restaurant\, and Angela Brooks resolved to not work together. That changed and now Brooks + Scarpa has won the AIA Gold Medal for a partnership dedicated to creating buildings that advance the art and technology of architecture. Through citizen activism they have also disrupted codes\, construction and the financing of buildings\, demonstrating the breadth of ways an architect can shape space and place. \n“Their efforts have fundamentally reshaped public policy initiatives that address critical issues and reforms that serve the public good\, increase housing equity\, and improve the built environment\,” wrote Steve Dumez\, FAIA\, and Douglas A. Benson\, FAIA\, in a letter nominating Brooks and Scarpa for the Gold Medal. \nBrooks + Scarpa has built on the foundations laid by Pugh + Scarpa\, founded in 1991 by Gwynne Pugh and Larry Scarpa. The firm has designed single and multi-family dwellings\, commercial\, institutional\, educational and governmental buildings. Most recently they won the commission to design a new Holocaust Memorial to be placed at the Florida State Capitol Building in Tallahassee. In Los Angeles they have made a deep imprint with affordable housing\, designing formally powerful buildings that also nurture social connection in contemporary variants on the Southland’s courtyard housing. “Form is important but it is experience that matters\,” say the duo\, adding that their body of work is united not by a signature look but rather an approach. “It is a sequence of spaces and not a form. We design from the inside-out.” \nBrooks and Scarpa also relish experimentation with texture and materials\, and have incorporated ping-pong balls\, crushed aluminum cans\, Dixie cups\, industrial brooms and glitter stucco into structures. “Architecture is most powerful when it is tactile. Many times people want to actually touch our buildings—walk up and feel the walls\,” says Scarpa. That material exploration met innovative sustainable design when they sheathed a wall at the Colorado Court affordable housing project\, for Community Corporation of Santa Monica\, with solar panels\, making the energy system into a decorative facade. Now they are pushing new limits with the NEST Toolkit\, a prefab home building system developed in collaboration with Plant Prefab\, that they hope will substantially cut construction costs. “That willingness to take risks has great rewards\,” says Brooks. “We are calculated risk takers.” \nDespite the seriousness with which they take their work\, they have held onto the love of a good party that Scarpa experienced at his father’s restaurant. \nSpecial thanks to the event sponsors:  \nAIA Los Angeles\, Bulthaup\, Labib Funk Engineers\, and Plant Prefab. 
URL:https://helmsdesigndistrict.com/event/10055/
LOCATION:Washington Corridor Gallery\, 8723 Washington Boulevard\, Culver City\, CA\, 90232\, United States
CATEGORIES:News
ATTACH;FMTTYPE=image/jpeg:https://helmsdesigndistrict.com/wp-content/uploads/2022/05/Hero-image.jpg
GEO:34.0315037;-118.3774661
X-APPLE-STRUCTURED-LOCATION;VALUE=URI;X-ADDRESS=Washington Corridor Gallery 8723 Washington Boulevard Culver City CA 90232 United States;X-APPLE-RADIUS=500;X-TITLE=8723 Washington Boulevard:geo:-118.3774661,34.0315037
END:VEVENT
BEGIN:VEVENT
DTSTART;TZID=America/Los_Angeles:20180405T183000
DTEND;TZID=America/Los_Angeles:20180405T203000
DTSTAMP:20260423T224326
CREATED:20180322T162019Z
LAST-MODIFIED:20180322T164556Z
UID:10000100-1522953000-1522960200@helmsdesigndistrict.com
SUMMARY:Lecture and Discussion with Lawrence Scarpa of Brooks + Scarpa
DESCRIPTION:Free\nOn Thursday\, April 5\, from 6:30pm – 8:30pm Helms Bakery District and the Cal Poly LA Metro Program in Architecture and Urban Design are excited to host a presentation and discussion with Lawrence Scarpa of Brooks + Scarpa. Lawrence Scarpa has garnered international acclaim for the creative use of conventional materials in unique and unexpected ways. He is also considered a pioneer and leader in the field of sustainable design. \nHe is the recipient of the Smithsonian Cooper-Hewitt National Design Museum Award in Architecture and was also awarded the State of California and National American Institute of Architects Architecture Firm Award. Over the last ten years\, Mr. Scarpa’s firm has received more than 50 major design awards\, including twenty-one National AIA Awards\, Record Houses\, Record Interiors\, the Rudy Bruner Prize\, five AIA Committee on the Environment “Top Ten Green Building” Awards and the World Habitat Award\, one of ten firms selected worldwide. He has also received the Gold Metal from the AIA Los Angeles\, the Lifetime achievement awards from Interior Design Magazine and the AIA California Council and the National AIA Collaborative Achievement Award \nMr. Scarpa’s is also the co-founder of the A+D Museum in Los Angeles\, Livable Places and the Affordable Housing Design Leadership Institute. \nHe in currently on the faculty at the University of Southern California and has taught and lectured at the university level for more than two decades.  Some of those institutions include UNC Charlotte\, Harvard University\, UCLA\, SCI-arc\, Washington University in St. Louis\, University of Florida\, University of Michigan\, University of Southern California and the University of California at Berkeley.  He is a co-founder of the Affordable Housing Design Leadership Institute Livable Places\, Inc.; a nonprofit development and public policy organization dedicated to building mixed-use housing and to help develop more sustainable and livable communities. \nbrooksscarpa.com\ncalpolylametro.com \nIntroduced and moderated by Stephen Phillips\, AIA\, PhD\, Principal of Stephen Phillips Architects (SPARCHS) and professor\, director\, Cal Poly LA Metro Program in Architecture and Urban Design (California Polytechnic State University\, San Luis Obispo) \nFree Parking is available at the corner of Helms Ave. and Venice Blvd. \nPhotos: Above: Lawrence Scarpa and AngleLake. Below: SUMA \n\nSeries Schedule: \nTuesday May 1: LADG – Andrew Holder      \nThursday May 3: Julia Körner     \nThursday May 17: Spinagu – Maxi Spina and Jia Gu   \nThursday May 24: Forward-slash/Back-slash – Christoph Kumpusch \nThursday May 31: Form:uLA – Bryan Cantley   
URL:https://helmsdesigndistrict.com/event/lecture-and-discussion-with-lawrence-scarpa-of-brooks-scarpa/
LOCATION:Helms Design Center\, 8745 Washington Boulevard\, Culver City\, CA\, 90232
CATEGORIES:News
ATTACH;FMTTYPE=image/jpeg:https://helmsdesigndistrict.com/wp-content/uploads/2018/03/492915f1aaf7ab8466c77637_1200x846.jpg
GEO:34.0286594;-118.3857496
X-APPLE-STRUCTURED-LOCATION;VALUE=URI;X-ADDRESS=Helms Design Center 8745 Washington Boulevard Culver City CA 90232;X-APPLE-RADIUS=500;X-TITLE=8745 Washington Boulevard:geo:-118.3857496,34.0286594
END:VEVENT
END:VCALENDAR