BEGIN:VCALENDAR
VERSION:2.0
PRODID:-//Helms Design District - ECPv6.15.18//NONSGML v1.0//EN
CALSCALE:GREGORIAN
METHOD:PUBLISH
X-WR-CALNAME:Helms Design District
X-ORIGINAL-URL:https://helmsdesigndistrict.com
X-WR-CALDESC:Events for Helms Design District
REFRESH-INTERVAL;VALUE=DURATION:PT1H
X-Robots-Tag:noindex
X-PUBLISHED-TTL:PT1H
BEGIN:VTIMEZONE
TZID:America/Los_Angeles
BEGIN:DAYLIGHT
TZOFFSETFROM:-0800
TZOFFSETTO:-0700
TZNAME:PDT
DTSTART:20160313T100000
END:DAYLIGHT
BEGIN:STANDARD
TZOFFSETFROM:-0700
TZOFFSETTO:-0800
TZNAME:PST
DTSTART:20161106T090000
END:STANDARD
BEGIN:DAYLIGHT
TZOFFSETFROM:-0800
TZOFFSETTO:-0700
TZNAME:PDT
DTSTART:20170312T100000
END:DAYLIGHT
BEGIN:STANDARD
TZOFFSETFROM:-0700
TZOFFSETTO:-0800
TZNAME:PST
DTSTART:20171105T090000
END:STANDARD
BEGIN:DAYLIGHT
TZOFFSETFROM:-0800
TZOFFSETTO:-0700
TZNAME:PDT
DTSTART:20180311T100000
END:DAYLIGHT
BEGIN:STANDARD
TZOFFSETFROM:-0700
TZOFFSETTO:-0800
TZNAME:PST
DTSTART:20181104T090000
END:STANDARD
END:VTIMEZONE
BEGIN:VEVENT
DTSTART;TZID=America/Los_Angeles:20170415T160000
DTEND;TZID=America/Los_Angeles:20170415T180000
DTSTAMP:20260423T222537
CREATED:20170407T185141Z
LAST-MODIFIED:20170407T185141Z
UID:10000076-1492272000-1492279200@helmsdesigndistrict.com
SUMMARY:Arcana Books Hosts a Celebration for Photographer Lenard Smith
DESCRIPTION:Free\nOn Saturday\, April 15th between 4:00 and 6:00 PM\, please join Arcana: Books on the Arts as they welcome their friend Lenard Smith to celebrate his lovely new limited edition\, nearly-sold-out survey of recent work: A Sort Of Looking. \nSmith’s first publication presents a selection of seductive images from the past five years of work that draw lines connecting the artist’s hand and chance. The formal compositions of his still lifes bring attention to the banal object form; tissue paper\, flower\, and in between the exploration of sculptural arrangements. Smith’s portrait work commands attention – bringing the viewer up close up to his subjects – whether they are photographed in the studio or quickly on the streets. These powerful portraits act as a metronome throughout the entire book\, grounding the audience. The title reveals the artist’s engagement with institutional critique\, and plays with the discourse that is commonly used in art conversations. A Sort of Looking is in fact Lenard Smith’s own looking\, and not a “sort of”\, but exactly how he is able to view the world in front of his lens just as he sees it.\n     \n  \n 
URL:https://helmsdesigndistrict.com/event/arcana-books-hosts-a-celebration-for-photographer-lenard-smith/
LOCATION:Arcana: Books on the Arts\, 8675 Washington Blvd.\, Culver City\, CA\, 90232
CATEGORIES:News
ATTACH;FMTTYPE=image/jpeg:https://helmsdesigndistrict.com/wp-content/uploads/2017/04/Book-Signing-17.04.15.jpg
GEO:34.0300679;-118.3835128
X-APPLE-STRUCTURED-LOCATION;VALUE=URI;X-ADDRESS=Arcana: Books on the Arts 8675 Washington Blvd. Culver City CA 90232;X-APPLE-RADIUS=500;X-TITLE=8675 Washington Blvd.:geo:-118.3835128,34.0300679
END:VEVENT
END:VCALENDAR