BEGIN:VCALENDAR
VERSION:2.0
PRODID:-//Helms Design District - ECPv6.15.18//NONSGML v1.0//EN
CALSCALE:GREGORIAN
METHOD:PUBLISH
X-WR-CALNAME:Helms Design District
X-ORIGINAL-URL:https://helmsdesigndistrict.com
X-WR-CALDESC:Events for Helms Design District
REFRESH-INTERVAL;VALUE=DURATION:PT1H
X-Robots-Tag:noindex
X-PUBLISHED-TTL:PT1H
BEGIN:VTIMEZONE
TZID:America/Los_Angeles
BEGIN:DAYLIGHT
TZOFFSETFROM:-0800
TZOFFSETTO:-0700
TZNAME:PDT
DTSTART:20170312T100000
END:DAYLIGHT
BEGIN:STANDARD
TZOFFSETFROM:-0700
TZOFFSETTO:-0800
TZNAME:PST
DTSTART:20171105T090000
END:STANDARD
BEGIN:DAYLIGHT
TZOFFSETFROM:-0800
TZOFFSETTO:-0700
TZNAME:PDT
DTSTART:20180311T100000
END:DAYLIGHT
BEGIN:STANDARD
TZOFFSETFROM:-0700
TZOFFSETTO:-0800
TZNAME:PST
DTSTART:20181104T090000
END:STANDARD
BEGIN:DAYLIGHT
TZOFFSETFROM:-0800
TZOFFSETTO:-0700
TZNAME:PDT
DTSTART:20190310T100000
END:DAYLIGHT
BEGIN:STANDARD
TZOFFSETFROM:-0700
TZOFFSETTO:-0800
TZNAME:PST
DTSTART:20191103T090000
END:STANDARD
END:VTIMEZONE
BEGIN:VEVENT
DTSTART;TZID=America/Los_Angeles:20181115T190000
DTEND;TZID=America/Los_Angeles:20181115T220000
DTSTAMP:20260424T002700
CREATED:20181018T222409Z
LAST-MODIFIED:20181018T222457Z
UID:10000137-1542308400-1542319200@helmsdesigndistrict.com
SUMMARY:Opening Exhibition with Artist Liza Philosof at the Helms Design Center
DESCRIPTION:Free\nOn Thursday\, November 15th from  7 to 10 pm\, please join us for the opening event of L A Y E R S\, the first solo exhibition by Liza Philosof to take place in Los Angeles. \nL A Y E R S contains paintings made by Philosof between 2015 and 2018\, along with a video made last year during an art residence on Pico Island.  One of the major inspiration sources for the artist was her visit to Pico Island and being surrounded by 3 elements: water\, basalt stone\, and plants. Some paintings are drawn with markers on canvas\, with most of the paintings produced with acrylics during the summer of 2018. \n“I see my paintings as a visual extension of my emotional journey in life. A reflection of the struggles and challenges we all have. Climbing a mountain or crossing an ocean are just metaphors of deep tectonic movement happening in our souls. Nature has endless layers\, as we have. In paintings\, I try to embrace observing nature with an interpretation of what our inner world looks like. I feel that one of my secret missions is to continue to see life in color.” \nAbout the Artist \nLiza Philosof is a visual artist\, art director\, and graphic designer based in West Hollywood and originally from Israel. Philosof is currently working with designers and artists\, but continues to participate in exhibitions\, festivals\, projects\, and partnerships all over the world. Brand collaborations include: Adidas originals\, Absolut\, Heineken\, Insight\, Azores Fringe Festival\, and Cannes Film Festival. Philosof graduated with a Bachelor of Arts in Visual Communication from the Bezalel Academy of Arts and Design in Jerusalem in 2011\, where her experimentation with color and shape depths began. \nFor more info about the artist:  lizaphilosof.com | liza.philosof@gmail.com | eventbrite | Facebook | Instagram \nClosing event: Thursday\, November 29th\, 7 to 10 pm
URL:https://helmsdesigndistrict.com/event/opening-exhibition-with-artist-liza-philosof-at-the-helms-design-center/
LOCATION:Helms Design Center\, 8745 Washington Boulevard\, Culver City\, CA\, 90232
CATEGORIES:News
ATTACH;FMTTYPE=image/jpeg:https://helmsdesigndistrict.com/wp-content/uploads/2018/10/Yellow-Sky_2016_16x20.jpg
GEO:34.0286594;-118.3857496
X-APPLE-STRUCTURED-LOCATION;VALUE=URI;X-ADDRESS=Helms Design Center 8745 Washington Boulevard Culver City CA 90232;X-APPLE-RADIUS=500;X-TITLE=8745 Washington Boulevard:geo:-118.3857496,34.0286594
END:VEVENT
END:VCALENDAR