BEGIN:VCALENDAR
VERSION:2.0
PRODID:-//Helms Design District - ECPv6.15.18//NONSGML v1.0//EN
CALSCALE:GREGORIAN
METHOD:PUBLISH
X-WR-CALNAME:Helms Design District
X-ORIGINAL-URL:https://helmsdesigndistrict.com
X-WR-CALDESC:Events for Helms Design District
REFRESH-INTERVAL;VALUE=DURATION:PT1H
X-Robots-Tag:noindex
X-PUBLISHED-TTL:PT1H
BEGIN:VTIMEZONE
TZID:America/Los_Angeles
BEGIN:DAYLIGHT
TZOFFSETFROM:-0800
TZOFFSETTO:-0700
TZNAME:PDT
DTSTART:20230312T100000
END:DAYLIGHT
BEGIN:STANDARD
TZOFFSETFROM:-0700
TZOFFSETTO:-0800
TZNAME:PST
DTSTART:20231105T090000
END:STANDARD
BEGIN:DAYLIGHT
TZOFFSETFROM:-0800
TZOFFSETTO:-0700
TZNAME:PDT
DTSTART:20240310T100000
END:DAYLIGHT
BEGIN:STANDARD
TZOFFSETFROM:-0700
TZOFFSETTO:-0800
TZNAME:PST
DTSTART:20241103T090000
END:STANDARD
BEGIN:DAYLIGHT
TZOFFSETFROM:-0800
TZOFFSETTO:-0700
TZNAME:PDT
DTSTART:20250309T100000
END:DAYLIGHT
BEGIN:STANDARD
TZOFFSETFROM:-0700
TZOFFSETTO:-0800
TZNAME:PST
DTSTART:20251102T090000
END:STANDARD
END:VTIMEZONE
BEGIN:VEVENT
DTSTART;TZID=America/Los_Angeles:20240504T183000
DTEND;TZID=America/Los_Angeles:20240504T203000
DTSTAMP:20260423T200041
CREATED:20240430T205124Z
LAST-MODIFIED:20240430T205810Z
UID:10001895-1714847400-1714854600@helmsdesigndistrict.com
SUMMARY:Thresholds 2024: Photography and Urban Architecture Opening Reception
DESCRIPTION:We are excited to partner with Los Angeles Center of Photography for the opening of Thresholds 2024: Photography and Urban Architecture on Saturday\, May 4th. Thresholds 2024 considers the relationship between photography\, urban architecture\, and their viewers/users. \nTaking street photography as its opening point\, Thresholds 2024 considers our connections with and the ways in which urban architecture informs our presence in the world. From expansive skyscrapers to minute ornate details\, from periodic styles to historic monuments\, from the mundane to the iconic\, photography of urban architecture investigates the elements that define our public spaces and engagement capturing the aesthetics of the ever-changing global cityscapes. \nOffering an expanded view of the world and street photography as a practice\, this juried annual open call brings together sights and visions for a virtual and digital exhibition at the Helms Design Center in Culver City. \nAdmission is FREE to the opening reception\, with RSVP. Donations to LACP are much appreciated. \nFREE Valet Parking is located at 8711 Washington Boulevard\, just east of the Helms Design Center. \nThe street-side projection exhibition runs through May 31st. \nPrize Winners \nFirst Place: Eric Smith\nSecond Place: Leanne Trivett S.\nThird Place: Jessica Stephens \nHonorable Mentions \nJordin Althaus\, Eric Anderson\, Karen Baker\, Trey Burnette\, Richard S. Chow\, Patrick Corrigan\, Dave Drage\, Kay Erickson\, Louie Escobar\, George Feucht\, Richard Hay Jr\, Douglas Hill\, Kenneth Hines Jr\, Mark Indig\, Jim Kerns\, Paul Kessel\, Rebecca Li\, Clay Lipsky\, Zak Long\, Rita Nannini\, Sai Narayan\, Chad Nelson\, Paul O’Malley\, Jeff Pressman\, Camilo Ramirez\, Ted Rigoni\, Christopher Rodriguez\, Karen Safer\, Jessica Stephens\, Barbara Strigel\, Joshua Tann\, Jason Tannen\, and Chengbin Zhang \nJuror & Curator\nCrista Dix\, Executive Director\, Griffin Museum of Photography\, Winchester\, Massachusetts. \n© Photo by Leanne Trivett S.\, Second Place Winner
URL:https://helmsdesigndistrict.com/event/thresholds-2024-photography-and-urban-architecture-opening-reception/
LOCATION:Helms Design Center\, 8745 Washington Boulevard\, Culver City\, CA\, 90232
CATEGORIES:News
ATTACH;FMTTYPE=image/jpeg:https://helmsdesigndistrict.com/wp-content/uploads/2024/04/500x500_Event-Image.jpg
GEO:34.0286594;-118.3857496
X-APPLE-STRUCTURED-LOCATION;VALUE=URI;X-ADDRESS=Helms Design Center 8745 Washington Boulevard Culver City CA 90232;X-APPLE-RADIUS=500;X-TITLE=8745 Washington Boulevard:geo:-118.3857496,34.0286594
END:VEVENT
END:VCALENDAR