BEGIN:VCALENDAR
VERSION:2.0
PRODID:-//Helms Design District - ECPv6.15.18//NONSGML v1.0//EN
CALSCALE:GREGORIAN
METHOD:PUBLISH
X-ORIGINAL-URL:https://helmsdesigndistrict.com
X-WR-CALDESC:Events for Helms Design District
REFRESH-INTERVAL;VALUE=DURATION:PT1H
X-Robots-Tag:noindex
X-PUBLISHED-TTL:PT1H
BEGIN:VTIMEZONE
TZID:America/Los_Angeles
BEGIN:DAYLIGHT
TZOFFSETFROM:-0800
TZOFFSETTO:-0700
TZNAME:PDT
DTSTART:20150308T100000
END:DAYLIGHT
BEGIN:STANDARD
TZOFFSETFROM:-0700
TZOFFSETTO:-0800
TZNAME:PST
DTSTART:20151101T090000
END:STANDARD
BEGIN:DAYLIGHT
TZOFFSETFROM:-0800
TZOFFSETTO:-0700
TZNAME:PDT
DTSTART:20160313T100000
END:DAYLIGHT
BEGIN:STANDARD
TZOFFSETFROM:-0700
TZOFFSETTO:-0800
TZNAME:PST
DTSTART:20161106T090000
END:STANDARD
BEGIN:DAYLIGHT
TZOFFSETFROM:-0800
TZOFFSETTO:-0700
TZNAME:PDT
DTSTART:20170312T100000
END:DAYLIGHT
BEGIN:STANDARD
TZOFFSETFROM:-0700
TZOFFSETTO:-0800
TZNAME:PST
DTSTART:20171105T090000
END:STANDARD
END:VTIMEZONE
BEGIN:VEVENT
DTSTART;TZID=America/Los_Angeles:20160710T160000
DTEND;TZID=America/Los_Angeles:20160710T180000
DTSTAMP:20260423T204251
CREATED:20160629T231301Z
LAST-MODIFIED:20160705T193331Z
UID:10000024-1468166400-1468173600@helmsdesigndistrict.com
SUMMARY:Arcana Books Hosts A Celebration For Bettina Hubby
DESCRIPTION:On Sunday\, July 10th from 4 to 6PM\, please join Arcana: Books on the Arts\, Klowden Mann\, and LAND (Los Angeles Nomadic Division) to celebrate the release of Bettina Hubby’s Thanks for the Mammaries. This artist’s book documents the various iterations of Hubby’s ongoing project Thanks for the Mammaries\, the Facebook feed which was originally installed at the LAND HQ from October through November of 2015. \nIn 2014\, Hubby announced her Breast Cancer diagnosis on Facebook and asked her friends and community to submit “boob-related imagery.” People showered Hubby with images\, videos\, and verbiage that helped her heal\, and inspired her to pay it forward. Touched by the uplifting effect of this communal support\, Hubby sent out a call to artists to submit works for an exhibition. The exhibitions and online Facebook feed displayed the outpouring of support that resulted from Hubby’s call to action; selections of which are documented in the publication. “What continues to bring me the most satisfaction is the feedback regarding my approach\, in that it has been positively impacting and inspiring people who have (and even many who have not) faced illness in their lives\, or in their loved ones’ lives. This is why I wanted to release this as a book to a wider audience. This book is dedicated to the medicinal power of boobishness”. \n8675 Washington Boulevard\, Culver City\n310.458.1499 \n 
URL:https://helmsdesigndistrict.com/event/arcana-books-hosts-a-celebration-for-bettina-hubby/
LOCATION:Arcana: Books on the Arts\, 8675 Washington Blvd.\, Culver City\, CA\, 90232
CATEGORIES:News
ATTACH;FMTTYPE=image/jpeg:https://helmsdesigndistrict.com/wp-content/uploads/2016/06/Book-Signing-16.07.10.jpg
GEO:34.0300679;-118.3835128
X-APPLE-STRUCTURED-LOCATION;VALUE=URI;X-ADDRESS=Arcana: Books on the Arts 8675 Washington Blvd. Culver City CA 90232;X-APPLE-RADIUS=500;X-TITLE=8675 Washington Blvd.:geo:-118.3835128,34.0300679
END:VEVENT
END:VCALENDAR