BEGIN:VCALENDAR
VERSION:2.0
PRODID:-//Helms Design District - ECPv6.15.18//NONSGML v1.0//EN
CALSCALE:GREGORIAN
METHOD:PUBLISH
X-ORIGINAL-URL:https://helmsdesigndistrict.com
X-WR-CALDESC:Events for Helms Design District
REFRESH-INTERVAL;VALUE=DURATION:PT1H
X-Robots-Tag:noindex
X-PUBLISHED-TTL:PT1H
BEGIN:VTIMEZONE
TZID:America/Los_Angeles
BEGIN:DAYLIGHT
TZOFFSETFROM:-0800
TZOFFSETTO:-0700
TZNAME:PDT
DTSTART:20200308T100000
END:DAYLIGHT
BEGIN:STANDARD
TZOFFSETFROM:-0700
TZOFFSETTO:-0800
TZNAME:PST
DTSTART:20201101T090000
END:STANDARD
BEGIN:DAYLIGHT
TZOFFSETFROM:-0800
TZOFFSETTO:-0700
TZNAME:PDT
DTSTART:20210314T100000
END:DAYLIGHT
BEGIN:STANDARD
TZOFFSETFROM:-0700
TZOFFSETTO:-0800
TZNAME:PST
DTSTART:20211107T090000
END:STANDARD
BEGIN:DAYLIGHT
TZOFFSETFROM:-0800
TZOFFSETTO:-0700
TZNAME:PDT
DTSTART:20220313T100000
END:DAYLIGHT
BEGIN:STANDARD
TZOFFSETFROM:-0700
TZOFFSETTO:-0800
TZNAME:PST
DTSTART:20221106T090000
END:STANDARD
BEGIN:DAYLIGHT
TZOFFSETFROM:-0800
TZOFFSETTO:-0700
TZNAME:PDT
DTSTART:20230312T100000
END:DAYLIGHT
BEGIN:STANDARD
TZOFFSETFROM:-0700
TZOFFSETTO:-0800
TZNAME:PST
DTSTART:20231105T090000
END:STANDARD
BEGIN:DAYLIGHT
TZOFFSETFROM:-0800
TZOFFSETTO:-0700
TZNAME:PDT
DTSTART:20240310T100000
END:DAYLIGHT
BEGIN:STANDARD
TZOFFSETFROM:-0700
TZOFFSETTO:-0800
TZNAME:PST
DTSTART:20241103T090000
END:STANDARD
BEGIN:DAYLIGHT
TZOFFSETFROM:-0800
TZOFFSETTO:-0700
TZNAME:PDT
DTSTART:20250309T100000
END:DAYLIGHT
BEGIN:STANDARD
TZOFFSETFROM:-0700
TZOFFSETTO:-0800
TZNAME:PST
DTSTART:20251102T090000
END:STANDARD
END:VTIMEZONE
BEGIN:VEVENT
DTSTART;TZID=America/Los_Angeles:20240628T130000
DTEND;TZID=America/Los_Angeles:20240628T180000
DTSTAMP:20260423T192136
CREATED:20240530T192439Z
LAST-MODIFIED:20240530T192439Z
UID:10001902-1719579600-1719597600@helmsdesigndistrict.com
SUMMARY:Save the Date! Love Local Makers Market at Helms
DESCRIPTION:On June 28th from 1:00 to 6:00 pm\, we are partnering with the City of Culver City to bring you a Love Local Makers Market\, featuring a collection of artisans\, makers and live music for a fun-filled Friday afternoon. Join us in celebrating and supporting local businesses with pop-up booths along Helms Avenue and inside selected showrooms. Come out for some summer fun and show your love for Culver City. \nStay tuned for more details!
URL:https://helmsdesigndistrict.com/event/save-the-date-love-local-makers-market-at-helms/
LOCATION:Helms Design District\, 8800 Venice Blvd.\, Los Angeles\, CA\, 90034\, United States
CATEGORIES:News
ATTACH;FMTTYPE=image/jpeg:https://helmsdesigndistrict.com/wp-content/uploads/2024/05/LL3.jpg
GEO:34.0306792;-118.3851538
X-APPLE-STRUCTURED-LOCATION;VALUE=URI;X-ADDRESS=Helms Design District 8800 Venice Blvd. Los Angeles CA 90034 United States;X-APPLE-RADIUS=500;X-TITLE=8800 Venice Blvd.:geo:-118.3851538,34.0306792
END:VEVENT
BEGIN:VEVENT
DTSTART;TZID=America/Los_Angeles:20220618T160000
DTEND;TZID=America/Los_Angeles:20220618T180000
DTSTAMP:20260423T192136
CREATED:20210903T221918Z
LAST-MODIFIED:20220617T224726Z
UID:10000446-1655568000-1655575200@helmsdesigndistrict.com
SUMMARY:Stop by Arcana Books for an In-Person "Show & Tell" Moderated by Jason E.C. Wright
DESCRIPTION:On Saturday\, June 18th at 4:00 PM\, join Arcana: Books on the Arts for an In-Person “Show & Tell” as we welcome back moderator Jason E.C. Wright of @burntsiennaresearchsociety. You are invited to pop into Arcana Books\, wander through the stacks\, gather up your selections of art books\, design books\, coffee table books and come nerd out with Jason. \nHere’s how it works: Jason will also be live @arcanabooks sharing some of his faves. Those who are in-person or virtual may ask a question\, chat about your most influential book or bookshop\, enjoy the hour\, meet some interesting people\, and support your local bookstore. @arcanabooks is a great place to start\, online or in person. Shop Local and Love Local. There’s nothing like a little book fun with Jason and our friends at Arcana! \nABOUT JASON\nJason E.C. Wright is the Founder of Burntsienna Research Society\, a critical-thinking research consultancy for design histories\, intangible culture\, and reference materials. Jason is Indiana born and raised\, who now considers Los Angeles home. Jason is an accomplished designer\, researcher\, writer\, with 20+ years as a retail and fashion professional\, who takes his love of books seriously\, serving as librarian-in-residence at home in Treehouse Hollywood.
URL:https://helmsdesigndistrict.com/event/join-arcanabooks-for-show-tell-moderated-by-jason-e-c-wright-3/
LOCATION:Arcana: Books on the Arts\, 8675 Washington Blvd.\, Culver City\, CA\, 90232
CATEGORIES:News
ATTACH;FMTTYPE=image/jpeg:https://helmsdesigndistrict.com/wp-content/uploads/2021/09/JECW-Bio-500x750-web.jpg
GEO:34.0300679;-118.3835128
X-APPLE-STRUCTURED-LOCATION;VALUE=URI;X-ADDRESS=Arcana: Books on the Arts 8675 Washington Blvd. Culver City CA 90232;X-APPLE-RADIUS=500;X-TITLE=8675 Washington Blvd.:geo:-118.3835128,34.0300679
END:VEVENT
BEGIN:VEVENT
DTSTART;TZID=America/Los_Angeles:20220317T170000
DTEND;TZID=America/Los_Angeles:20220317T180000
DTSTAMP:20260423T192136
CREATED:20220315T234248Z
LAST-MODIFIED:20220503T193602Z
UID:10000471-1647536400-1647540000@helmsdesigndistrict.com
SUMMARY:Join @arcanabooks for "Show & Tell" Moderated by Jason E.C. Wright
DESCRIPTION:On Thursday\, March 17th at 5:00 PM\, join Arcana: Books on the Arts for an Instagram “Show & Tell” as we welcome back moderator Jason E.C. Wright of @burntsiennaresearchsociety. You are in for a real treat so gather up your art books\, design books\, coffee table books or rare magazines and come nerd out with Jason. \nHere’s how it works: Jason will be live @arcanabooks sharing some of his faves with you. Raise your hand to share and he will tap you in.  Chat about your most influential book or bookshop. Enjoy the hour\, meet some interesting people\, and support your local bookstore. @arcanabooks is a great place to start\, online or in person. Shop Local and Love Local. We should be ready to gather in person next month so stay tuned for more details. There’s nothing like a little book fun in the middle of the week. Thanks Jason! \nABOUT JASON\nJason E.C. Wright is the Founder of Burntsienna Research Society\, a critical-thinking research consultancy for design histories\, intangible culture\, and reference materials. Jason is Indiana born and raised\, who now considers Los Angeles home. Jason is an accomplished designer\, researcher\, writer\, with 20+ years as a retail and fashion professional\, who takes his love of books seriously\, serving as librarian-in-residence at home in Treehouse Hollywood.
URL:https://helmsdesigndistrict.com/event/join-arcanabooks-for-show-tell-moderated-by-jason-e-c-wright-5/
LOCATION:Online\, CA
CATEGORIES:News
ATTACH;FMTTYPE=image/jpeg:https://helmsdesigndistrict.com/wp-content/uploads/2021/09/Jason-Wright-500x750-web.jpg
END:VEVENT
BEGIN:VEVENT
DTSTART;TZID=America/Los_Angeles:20220217T170000
DTEND;TZID=America/Los_Angeles:20220217T180000
DTSTAMP:20260423T192136
CREATED:20220616T232136Z
LAST-MODIFIED:20220616T232136Z
UID:10000496-1645117200-1645120800@helmsdesigndistrict.com
SUMMARY:Join @arcanabooks for "Show & Tell" Moderated by Jason E.C. Wright Copy
DESCRIPTION:On Thursday\, February 17th at 5:00 PM\, join Arcana: Books on the Arts for an Instagram “Show & Tell” as we welcome back moderator Jason E.C. Wright of @burntsiennaresearchsociety. You are in for a real treat so gather up your art books\, design books\, coffee table books or rare magazines and come nerd out with Jason. \nHere’s how it works: Jason will be live @arcanabooks sharing some of his faves with you. Raise your hand to share and he will tap you in.  Chat about your most influential book or bookshop. Enjoy the hour\, meet some interesting people\, and support your local bookstore. @arcanabooks is a great place to start\, online or in person. Shop Local and Love Local. We should be ready to gather in person next month so stay tuned for more details. There’s nothing like a little book fun in the middle of the week. Thanks Jason! \nABOUT JASON\nJason E.C. Wright is the Founder of Burntsienna Research Society\, a critical-thinking research consultancy for design histories\, intangible culture\, and reference materials. Jason is Indiana born and raised\, who now considers Los Angeles home. Jason is an accomplished designer\, researcher\, writer\, with 20+ years as a retail and fashion professional\, who takes his love of books seriously\, serving as librarian-in-residence at home in Treehouse Hollywood.
URL:https://helmsdesigndistrict.com/event/join-arcanabooks-for-show-tell-moderated-by-jason-e-c-wright-3-copy-2/
LOCATION:Online\, CA
CATEGORIES:News
ATTACH;FMTTYPE=image/jpeg:https://helmsdesigndistrict.com/wp-content/uploads/2021/09/JECW-Bio-500x750-web.jpg
END:VEVENT
BEGIN:VEVENT
DTSTART;TZID=America/Los_Angeles:20211117T170000
DTEND;TZID=America/Los_Angeles:20211117T180000
DTSTAMP:20260423T192136
CREATED:20210903T222220Z
LAST-MODIFIED:20210909T203416Z
UID:10000444-1637168400-1637172000@helmsdesigndistrict.com
SUMMARY:Join @arcanabooks for "Show & Tell" Moderated by Jason E.C. Wright
DESCRIPTION:On Wednesday\, November 17th at 5:00 PM\, join Arcana: Books on the Arts for an Instagram “Show & Tell” as we welcome back moderator Jason E.C. Wright of @burntsiennaresearchsociety. You are in for a real treat so gather up your art books\, design books\, coffee table books or rare magazines and come nerd out with Jason. \nHere’s how it works: Jason will be live @arcanabooks sharing some of his faves with you. Raise your hand to share and he will tap you in.  Chat about your most influential book or bookshop. Enjoy the hour\, meet some interesting people\, and support your local bookstore. @arcanabooks is a great place to start\, online or in person. Shop Local and Love Local. There’s nothing like a little book fun in the middle of the week. Thanks Jason! \nABOUT JASON\nJason E.C. Wright is the Founder of Burntsienna Research Society\, a critical-thinking research consultancy for design histories\, intangible culture\, and reference materials. Jason is Indiana born and raised\, who now considers Los Angeles home. Jason is an accomplished designer\, researcher\, writer\, with 20+ years as a retail and fashion professional\, who takes his love of books seriously\, serving as librarian-in-residence at home in Treehouse Hollywood.
URL:https://helmsdesigndistrict.com/event/join-arcanabooks-for-show-tell-moderated-by-jason-e-c-wright-4/
LOCATION:Online\, CA
CATEGORIES:News
ATTACH;FMTTYPE=image/jpeg:https://helmsdesigndistrict.com/wp-content/uploads/2021/09/JECW-Bio-750x500-web.jpg
END:VEVENT
BEGIN:VEVENT
DTSTART;TZID=America/Los_Angeles:20211020T170000
DTEND;TZID=America/Los_Angeles:20211020T180000
DTSTAMP:20260423T192136
CREATED:20220209T001900Z
LAST-MODIFIED:20220209T001900Z
UID:10000301-1634749200-1634752800@helmsdesigndistrict.com
SUMMARY:Join @arcanabooks for "Show & Tell" Moderated by Jason E.C. Wright Copy
DESCRIPTION:On Wednesday\, October 20th at 5:00 PM\, join Arcana: Books on the Arts for an Instagram “Show & Tell” as we welcome back moderator Jason E.C. Wright of @burntsiennaresearchsociety. You are in for a real treat so gather up your art books\, design books\, coffee table books or rare magazines and come nerd out with Jason. \nHere’s how it works: Jason will be live @arcanabooks sharing some of his faves with you. Raise your hand to share and he will tap you in.  Chat about your most influential book or bookshop. Enjoy the hour\, meet some interesting people\, and support your local bookstore. @arcanabooks is a great place to start\, online or in person. Shop Local and Love Local. There’s nothing like a little book fun in the middle of the week. Thanks Jason! \nABOUT JASON\nJason E.C. Wright is the Founder of Burntsienna Research Society\, a critical-thinking research consultancy for design histories\, intangible culture\, and reference materials. Jason is Indiana born and raised\, who now considers Los Angeles home. Jason is an accomplished designer\, researcher\, writer\, with 20+ years as a retail and fashion professional\, who takes his love of books seriously\, serving as librarian-in-residence at home in Treehouse Hollywood.
URL:https://helmsdesigndistrict.com/event/join-arcanabooks-for-show-tell-moderated-by-jason-e-c-wright-3-copy/
LOCATION:Online\, CA
CATEGORIES:News
ATTACH;FMTTYPE=image/jpeg:https://helmsdesigndistrict.com/wp-content/uploads/2021/09/JECW-Bio-500x750-web.jpg
END:VEVENT
BEGIN:VEVENT
DTSTART;TZID=America/Los_Angeles:20210915T170000
DTEND;TZID=America/Los_Angeles:20210915T180000
DTSTAMP:20260423T192136
CREATED:20210903T221702Z
LAST-MODIFIED:20210903T222945Z
UID:10000448-1631725200-1631728800@helmsdesigndistrict.com
SUMMARY:Join @arcanabooks for "Show & Tell" Moderated by Jason E.C. Wright
DESCRIPTION:On Wednesday\, September 15th at 5:00 PM\, join Arcana: Books on the Arts for an Instagram “Show & Tell” as we welcome back moderator Jason E.C. Wright of @burntsiennaresearchsociety. You are in for a real treat so gather up your art books\, design books\, coffee table books or rare magazines and come nerd out with Jason. \nHere’s how it works: Jason will be live @arcanabooks sharing some of his faves with you. Raise your hand to share and he will tap you in.  Chat about your most influential book or bookshop. Enjoy the hour\, meet some interesting people\, and support your local bookstore. @arcanabooks is a great place to start\, online or in person. Shop Local and Love Local. There’s nothing like a little book fun in the middle of the week. Thanks Jason! \nABOUT JASON\nJason E.C. Wright is the Founder of Burntsienna Research Society\, a critical-thinking research consultancy for design histories\, intangible culture\, and reference materials. Jason is Indiana born and raised\, who now considers Los Angeles home. Jason is an accomplished designer\, researcher\, writer\, with 20+ years as a retail and fashion professional\, who takes his love of books seriously\, serving as librarian-in-residence at home in Treehouse Hollywood.
URL:https://helmsdesigndistrict.com/event/join-arcanabooks-for-show-tell-moderated-by-jason-e-c-wright-2/
LOCATION:Online\, CA
CATEGORIES:News
ATTACH;FMTTYPE=image/jpeg:https://helmsdesigndistrict.com/wp-content/uploads/2021/05/Jason-Wright-500x750-web.jpg
END:VEVENT
BEGIN:VEVENT
DTSTART;TZID=America/Los_Angeles:20210630T170000
DTEND;TZID=America/Los_Angeles:20210630T180000
DTSTAMP:20260423T192136
CREATED:20210622T202024Z
LAST-MODIFIED:20210622T202238Z
UID:10000434-1625072400-1625076000@helmsdesigndistrict.com
SUMMARY:Join @arcanabooks for "Show & Tell" Moderated by Jason E.C. Wright
DESCRIPTION:On Wednesday\, June 30th at 5:00 PM\, join Arcana: Books on the Arts for an Instagram “Show & Tell” as we welcome back moderator Jason E.C. Wright of @burntsiennaresearchsociety. You are in for a real treat so gather up your art books\, design books\, coffee table books or rare magazines and come nerd out with Jason. \nHere’s how it works: Jason will be live @arcanabooks sharing some of his faves with you. Raise your hand to share and he will tap you in.  Chat about your most influential book or bookshop. Enjoy the hour\, meet some interesting people\, and support your local bookstore. @arcanabooks is a great place to start\, online or in person. Shop Local and Love Local. There’s nothing like a little book fun in the middle of the week. Thanks Jason! \nABOUT JASON\nJason E.C. Wright is the Founder of Burntsienna Research Society\, a critical-thinking research consultancy for design histories\, intangible culture\, and reference materials. Jason is Indiana born and raised\, who now considers Los Angeles home. Jason is an accomplished designer\, researcher\, writer\, with 20+ years as a retail and fashion professional\, who takes his love of books seriously\, serving as librarian-in-residence at home in Treehouse Hollywood.
URL:https://helmsdesigndistrict.com/event/join-arcanabooks-for-show-tell-moderated-by-jason-e-c-wright-copy/
LOCATION:Online\, CA
CATEGORIES:News
ATTACH;FMTTYPE=image/jpeg:https://helmsdesigndistrict.com/wp-content/uploads/2021/05/Jason-Wright-500x750-web.jpg
END:VEVENT
BEGIN:VEVENT
DTSTART;TZID=America/Los_Angeles:20210526T170000
DTEND;TZID=America/Los_Angeles:20210526T180000
DTSTAMP:20260423T192136
CREATED:20210512T173716Z
LAST-MODIFIED:20210512T173716Z
UID:10000263-1622048400-1622052000@helmsdesigndistrict.com
SUMMARY:Join @arcanabooks for "Show & Tell" Moderated by Jason E.C. Wright
DESCRIPTION:On Wednesday\, May 26th at 5:00 PM\, join Arcana: Books on the Arts for an Instagram “Show & Tell” moderated by Jason E.C. Wright of @burntsiennaresearchsociety. You are in for a real treat so gather up your art books\, design books\, coffee table books or rare magazines and come nerd out with Jason. \nHere’s how it works: Jason will be live @arcanabooks sharing some of his faves with you. Raise your hand to share and he will tap you in.  Chat about your most influential book or bookshop. Enjoy the hour\, meet some interesting people\, and support your local bookstore. @arcanabooks is a great place to start\, online or in person. Shop Local and Love Local. There’s nothing like a little book fun in the middle of the week. Thanks Jason! \nABOUT JASON\nJason E.C. Wright is the Founder of Burntsienna Research Society\, a critical-thinking research consultancy for design histories\, intangible culture\, and reference materials. Jason is Indiana born and raised\, who now considers Los Angeles home. Jason is an accomplished designer\, researcher\, writer\, with 20+ years as a retail and fashion professional\, who takes his love of books seriously\, serving as librarian-in-residence at home in Treehouse Hollywood.
URL:https://helmsdesigndistrict.com/event/join-arcanabooks-for-show-tell-moderated-by-jason-e-c-wright/
LOCATION:Online\, CA
CATEGORIES:News
ATTACH;FMTTYPE=image/jpeg:https://helmsdesigndistrict.com/wp-content/uploads/2021/05/Jason-Wright-500x750-web.jpg
END:VEVENT
END:VCALENDAR