BEGIN:VCALENDAR
VERSION:2.0
PRODID:-//Helms Design District - ECPv6.15.18//NONSGML v1.0//EN
CALSCALE:GREGORIAN
METHOD:PUBLISH
X-ORIGINAL-URL:https://helmsdesigndistrict.com
X-WR-CALDESC:Events for Helms Design District
REFRESH-INTERVAL;VALUE=DURATION:PT1H
X-Robots-Tag:noindex
X-PUBLISHED-TTL:PT1H
BEGIN:VTIMEZONE
TZID:America/Los_Angeles
BEGIN:DAYLIGHT
TZOFFSETFROM:-0800
TZOFFSETTO:-0700
TZNAME:PDT
DTSTART:20190310T100000
END:DAYLIGHT
BEGIN:STANDARD
TZOFFSETFROM:-0700
TZOFFSETTO:-0800
TZNAME:PST
DTSTART:20191103T090000
END:STANDARD
BEGIN:DAYLIGHT
TZOFFSETFROM:-0800
TZOFFSETTO:-0700
TZNAME:PDT
DTSTART:20200308T100000
END:DAYLIGHT
BEGIN:STANDARD
TZOFFSETFROM:-0700
TZOFFSETTO:-0800
TZNAME:PST
DTSTART:20201101T090000
END:STANDARD
BEGIN:DAYLIGHT
TZOFFSETFROM:-0800
TZOFFSETTO:-0700
TZNAME:PDT
DTSTART:20210314T100000
END:DAYLIGHT
BEGIN:STANDARD
TZOFFSETFROM:-0700
TZOFFSETTO:-0800
TZNAME:PST
DTSTART:20211107T090000
END:STANDARD
BEGIN:DAYLIGHT
TZOFFSETFROM:-0800
TZOFFSETTO:-0700
TZNAME:PDT
DTSTART:20220313T100000
END:DAYLIGHT
BEGIN:STANDARD
TZOFFSETFROM:-0700
TZOFFSETTO:-0800
TZNAME:PST
DTSTART:20221106T090000
END:STANDARD
BEGIN:DAYLIGHT
TZOFFSETFROM:-0800
TZOFFSETTO:-0700
TZNAME:PDT
DTSTART:20230312T100000
END:DAYLIGHT
BEGIN:STANDARD
TZOFFSETFROM:-0700
TZOFFSETTO:-0800
TZNAME:PST
DTSTART:20231105T090000
END:STANDARD
BEGIN:DAYLIGHT
TZOFFSETFROM:-0800
TZOFFSETTO:-0700
TZNAME:PDT
DTSTART:20240310T100000
END:DAYLIGHT
BEGIN:STANDARD
TZOFFSETFROM:-0700
TZOFFSETTO:-0800
TZNAME:PST
DTSTART:20241103T090000
END:STANDARD
BEGIN:DAYLIGHT
TZOFFSETFROM:-0800
TZOFFSETTO:-0700
TZNAME:PDT
DTSTART:20250309T100000
END:DAYLIGHT
BEGIN:STANDARD
TZOFFSETFROM:-0700
TZOFFSETTO:-0800
TZNAME:PST
DTSTART:20251102T090000
END:STANDARD
BEGIN:DAYLIGHT
TZOFFSETFROM:-0800
TZOFFSETTO:-0700
TZNAME:PDT
DTSTART:20260308T100000
END:DAYLIGHT
BEGIN:STANDARD
TZOFFSETFROM:-0700
TZOFFSETTO:-0800
TZNAME:PST
DTSTART:20261101T090000
END:STANDARD
BEGIN:DAYLIGHT
TZOFFSETFROM:-0800
TZOFFSETTO:-0700
TZNAME:PDT
DTSTART:20270314T100000
END:DAYLIGHT
BEGIN:STANDARD
TZOFFSETFROM:-0700
TZOFFSETTO:-0800
TZNAME:PST
DTSTART:20271107T090000
END:STANDARD
END:VTIMEZONE
BEGIN:VEVENT
DTSTART;TZID=America/Los_Angeles:20260423T183000
DTEND;TZID=America/Los_Angeles:20260423T203000
DTSTAMP:20260424T002224
CREATED:20260416T214449Z
LAST-MODIFIED:20260416T225941Z
UID:10002017-1776969000-1776976200@helmsdesigndistrict.com
SUMMARY:A reception\, lecture\, and discussion with Paul Lewis
DESCRIPTION:Please join us on Thursday\, April 23rd\, 6:30-8:30 pm\, for a special evening with Paul Lewis.\nIn collaboration with the Helms Design District and the Cal Poly SLO/LA Metro Program in Architecture and Urban Design \nHelms Design Center        \n8745 Washington Blvd.\, Culver City\, CA 90232 \nFree Parking is available at the corner of Helms Ave. and Venice Blvd. \nLecture is Free and Open to the Public with RSVP \n\n		\n	 \n \n	\n		\n			RSVP HERE\n		\n	 \n \n\n \n\n \n	\n		\n			\nPaul Lewis\, FAIA\, is a Principal at LTL Architects based in New York City and Professor / Interim Associate Dean at Princeton University School of Architecture. LTL are the 2019 NY State AIA firm of the year\, have received a National Design Award\, and were inducted into the ID Hall of Fame.\nThe firm’s recent work includes All Straw House\, First Place in The Resilient Campus an International Design Competition for University of Buffalo\, Ithaca Straw House\, Poster House\, The Helen R. Walton Children’s Enrichment Center\, and a new residence hall at Carnegie Mellon University. Their current focus is on the architectural potentials of plant and earth-based materials which is explicated in their most recent book Manual of Biogenic House Sections (2022). LTL Architects are also the authors of Intensities (2013)\, Opportunistic Architecture (2008) and Situation Normal….Pamphlet Architecture #21 (1998) and Manual of Section (2016) which has been translated into seven languages. Paul received a BA from Wesleyan University and a M.Arch from Princeton University\, and is a recent past president of The Architectural League of New York. \nFollow Link To Purchase: Manual of Biogenic House Sections (ORO Editions\, 2022) by authors Paul Lewis\, Marc Tsurumaki & David J. Lewis. \n\nIntroduced and moderated by Stephen Phillips\, FAIA\, PhD\, of Stephen Phillips Architects (SPARCHS) and professor\, director\, Cal Poly LA Metro Program in Architecture and Urban Design (California Polytechnic State University\, San Luis Obispo). \n\n		\n	 \n \n            \n\n                \n                \n                \n                \n                     \n	\n		\n		\n		\n	  \n	\n		\n		\n		\n	 \n                 \n                \n                \n            \n\n            \n\n            \n\n         \n	\n		\n			\nPhotos: All Straw House section perspective; Manual of Biogenic House Sections book cover; All Straw House construction image.\n \n\n		\n	 \n \n	\n		\n			\nSPONSORED BY
URL:https://helmsdesigndistrict.com/event/a-reception-lecture-and-discussion-with-paul-lewis/
LOCATION:Helms Design Center\, 8745 Washington Boulevard\, Culver City\, CA\, 90232
CATEGORIES:News
ATTACH;FMTTYPE=image/jpeg:https://helmsdesigndistrict.com/wp-content/uploads/2026/04/PLewis_featuredimage.jpg
GEO:34.0286594;-118.3857496
X-APPLE-STRUCTURED-LOCATION;VALUE=URI;X-ADDRESS=Helms Design Center 8745 Washington Boulevard Culver City CA 90232;X-APPLE-RADIUS=500;X-TITLE=8745 Washington Boulevard:geo:-118.3857496,34.0286594
END:VEVENT
BEGIN:VEVENT
DTSTART;TZID=America/Los_Angeles:20200423T160000
DTEND;TZID=America/Los_Angeles:20200423T173000
DTSTAMP:20260424T002224
CREATED:20200421T232737Z
LAST-MODIFIED:20200426T224418Z
UID:10000387-1587657600-1587663000@helmsdesigndistrict.com
SUMMARY:A lecture and live Q+A discussion with Paul Lewis
DESCRIPTION:Join us on Thursday\, April 23rd\, for a lecture and live Q+A discussion with Paul Lewis: LTL Recent Work filtered by Section\nIn collaboration with the Cal Poly LA Metro Program in Architecture and Urban Design \nLecture is Free and Open to the Public \nRegister for the  Zoom Webinar\n\nPaul Lewis\, FAIA\, is a Principal at LTL Architects based in New York City. He is currently a Professor and Associate Dean at Princeton University School of Architecture\, where he has taught since 2000. He received a BA from Wesleyan University and a M.Arch from Princeton University. His New York based firm has completed academic\, cultural and institutional projects throughout the United States. LTL are the 2019 NY State AIA firm of the year. They have received a National Design Award\, have been inducted into the ID Hall of Fame\, and have received multiple AIA design awards. \nThe firm’s recent work includes Poster House\, a new museum dedicated to the poster in New York City; The Helen R. Walton Children’s Enrichment Center\, an early childhood center in Bentonville\, AR that sets a national model for children’s health; A new residence hall at Carnegie Mellon University; The ContemporAry Austin – Jones Center; Upson Hall at Cornell University and the Joseph D. Jamail Lecture Hall at Columbia University. \nThe firm’s designs and drawings been exhibited around the world\, including the U.S. Pavilion at the Venice Architecture Biennale\, and are part of the permanent collections of the Museum of Modern Art\, San Francisco Museum of Modern Art\, and Carnegie Museum of Art. LTL Architects are the authors of Intensities (2013)\, Opportunistic Architecture (2008) and Situation Normal….Pamphlet Architecture #21 (1998). Their newest book entitled Manual of Section\, an analysis of the history and typology of section in architecture\, is in its fourth printing. It has been translated into German\, Japanese\, Korean and Chinese. Paul is the President of the Architectural League of New York and a Fellow of the American Academy in Rome. \n\nIntroduced and moderated by Stephen Phillips\, AIA\, PhD\, Principal of Stephen Phillips Architects (SPARCHS) and professor\, director\, Cal Poly LA Metro Program in Architecture and Urban Design (California Polytechnic State University\, San Luis Obispo) \ncalpolylametro.com \nPhotos (Left to Right): Image of Paul Lewis; Image of Helen R. Walton Children’s Enrichment Center + HighQ Education Center; Book Cover of Manual of Section.
URL:https://helmsdesigndistrict.com/event/paul-lewis/
LOCATION:Zoom\, CA
CATEGORIES:News
ATTACH;FMTTYPE=image/jpeg:https://helmsdesigndistrict.com/wp-content/uploads/2020/04/Paul-Lewis-600px.jpg
END:VEVENT
END:VCALENDAR