BEGIN:VCALENDAR
VERSION:2.0
PRODID:-//Helms Design District - ECPv6.15.18//NONSGML v1.0//EN
CALSCALE:GREGORIAN
METHOD:PUBLISH
X-ORIGINAL-URL:https://helmsdesigndistrict.com
X-WR-CALDESC:Events for Helms Design District
REFRESH-INTERVAL;VALUE=DURATION:PT1H
X-Robots-Tag:noindex
X-PUBLISHED-TTL:PT1H
BEGIN:VTIMEZONE
TZID:America/Los_Angeles
BEGIN:DAYLIGHT
TZOFFSETFROM:-0800
TZOFFSETTO:-0700
TZNAME:PDT
DTSTART:20240310T100000
END:DAYLIGHT
BEGIN:STANDARD
TZOFFSETFROM:-0700
TZOFFSETTO:-0800
TZNAME:PST
DTSTART:20241103T090000
END:STANDARD
BEGIN:DAYLIGHT
TZOFFSETFROM:-0800
TZOFFSETTO:-0700
TZNAME:PDT
DTSTART:20250309T100000
END:DAYLIGHT
BEGIN:STANDARD
TZOFFSETFROM:-0700
TZOFFSETTO:-0800
TZNAME:PST
DTSTART:20251102T090000
END:STANDARD
BEGIN:DAYLIGHT
TZOFFSETFROM:-0800
TZOFFSETTO:-0700
TZNAME:PDT
DTSTART:20260308T100000
END:DAYLIGHT
BEGIN:STANDARD
TZOFFSETFROM:-0700
TZOFFSETTO:-0800
TZNAME:PST
DTSTART:20261101T090000
END:STANDARD
END:VTIMEZONE
BEGIN:VEVENT
DTSTART;TZID=America/Los_Angeles:20250426T160000
DTEND;TZID=America/Los_Angeles:20250426T180000
DTSTAMP:20260423T192131
CREATED:20250417T194037Z
LAST-MODIFIED:20250418T162409Z
UID:10001949-1745683200-1745690400@helmsdesigndistrict.com
SUMMARY:Arcana Book Signing + Discussion with Photographer Luisa Opalesky: Big City Nobody
DESCRIPTION:On Saturday\, April 26th from 4 until 6 PM\, Arcana: Books on the Arts will proudly host the photographer Luisa Opalesky in conversation with director Luke Gilford to celebrate her new book Big City Nobody. The talk will be followed by the chance to get your copy signed by Luisa herself! \nLuisa Opalesky (b. 1987) is an artist whose practice seeks to connect with all walks of life through photography\, dance\, and film. Originally from Philadelphia\, she earned a BFA in photography under the mentorship of George Pitts at Parsons New School for Design. She draws inspiration from her elders\, multicultural background\, glamour\, squalor\, going to the cinema three times a week\, and her home downtown in New York City. Her work is consistently characterized by its vibrant color\, hazard\, and comedic relief. \nBig City Nobody is Opalesky’s debut photography book. Published by Spotz Studios and featuring work created between 2020 and 2024\, the photographs in the book reveal glimpses of daily life\, vibrancy of nightlife\, and outtakes from assignments commissioned by the New York Times and Interview magazine. The collection unfolds with a flow reminiscent of walking crosstown caffeinated and immersed in the pulse of the city. The book includes writings by Alissa Bennett\, Susie Essman\, Daniel Arnold\, and Teardrop. \nIf you cannot attend and would like to purchase a SIGNED copy of Big City Nobody\, please place your order below. \nJoin Arcana on April 26th for good talk\, good books\, and free libations. All are welcome! \n\n		\n	 \n \n	\n		\n			PURCHASE BOOK
URL:https://helmsdesigndistrict.com/event/arcana-hosts-book-signing-discussion-with-photographer-luisa-opalesky/
LOCATION:Arcana: Books on the Arts\, 8675 Washington Blvd.\, Culver City\, CA\, 90232
CATEGORIES:News
ATTACH;FMTTYPE=image/jpeg:https://helmsdesigndistrict.com/wp-content/uploads/2025/04/Luisa-Opalesky_Big-City-Nobody_Cover_1200px.jpg
GEO:34.0300679;-118.3835128
X-APPLE-STRUCTURED-LOCATION;VALUE=URI;X-ADDRESS=Arcana: Books on the Arts 8675 Washington Blvd. Culver City CA 90232;X-APPLE-RADIUS=500;X-TITLE=8675 Washington Blvd.:geo:-118.3835128,34.0300679
END:VEVENT
END:VCALENDAR