BEGIN:VCALENDAR
VERSION:2.0
PRODID:-//Helms Design District - ECPv6.15.18//NONSGML v1.0//EN
CALSCALE:GREGORIAN
METHOD:PUBLISH
X-ORIGINAL-URL:https://helmsdesigndistrict.com
X-WR-CALDESC:Events for Helms Design District
REFRESH-INTERVAL;VALUE=DURATION:PT1H
X-Robots-Tag:noindex
X-PUBLISHED-TTL:PT1H
BEGIN:VTIMEZONE
TZID:America/Los_Angeles
BEGIN:DAYLIGHT
TZOFFSETFROM:-0800
TZOFFSETTO:-0700
TZNAME:PDT
DTSTART:20150308T100000
END:DAYLIGHT
BEGIN:STANDARD
TZOFFSETFROM:-0700
TZOFFSETTO:-0800
TZNAME:PST
DTSTART:20151101T090000
END:STANDARD
BEGIN:DAYLIGHT
TZOFFSETFROM:-0800
TZOFFSETTO:-0700
TZNAME:PDT
DTSTART:20160313T100000
END:DAYLIGHT
BEGIN:STANDARD
TZOFFSETFROM:-0700
TZOFFSETTO:-0800
TZNAME:PST
DTSTART:20161106T090000
END:STANDARD
BEGIN:DAYLIGHT
TZOFFSETFROM:-0800
TZOFFSETTO:-0700
TZNAME:PDT
DTSTART:20170312T100000
END:DAYLIGHT
BEGIN:STANDARD
TZOFFSETFROM:-0700
TZOFFSETTO:-0800
TZNAME:PST
DTSTART:20171105T090000
END:STANDARD
END:VTIMEZONE
BEGIN:VEVENT
DTSTART;TZID=America/Los_Angeles:20161218T160000
DTEND;TZID=America/Los_Angeles:20161218T180000
DTSTAMP:20260423T204942
CREATED:20161207T184613Z
LAST-MODIFIED:20161207T190354Z
UID:10000148-1482076800-1482084000@helmsdesigndistrict.com
SUMMARY:Arcana Books Hosts A Book Signing With Marc Appleton & Melba Levick
DESCRIPTION:Free\nOn Sunday\, December 18th from 4 to 6 PM\, please join Arcana: Books on the Arts for a book signing  and celebration of Ranches: Home on the Range in California with author Marc Appleton and photographer Melba Levick. \nThe lure of the West has been strong in American history\, representing the promise of beautiful\, wild landscapes\, broad vistas\, clean air\, and bright skies. On this magnificent land are the romantic and intriguing homes set in the idyllic landscapes of the great California ranches. From the one hundred and fifty year-old Rancho Camulos of “Ramona” fame to Jack London’s Beauty Ranch on the slopes of Sonoma Mountain to the working ranches of today\, Ranches: Home on the Range in California presents an expression of a lifestyle steeped in self-sufficiency\, love of the land\, and lack of pretense. Arising from the tradition of the Mexican land-grant ranchos and the spread of Spanish Catholic missions\, the ranches of California have a long and multifaceted history which is examined by author Marc Appleton – who himself can attest to the challenges and charms of ranch life. Located in dramatic landscapes of rolling hills\, upon the sides of mountains\, or in vast plains bordered by snow-capped mountains\, the featured homes are exquisitely captured by renowned architectural photographer Melba Levick. At once a tribute to a historic form and a fading way of life\, as well as a celebration of renewal\, architectural beauty\, and the romance of the West\, this beautiful and authoritative book offers the reader an immersive experience of living on the land.
URL:https://helmsdesigndistrict.com/event/arcana-books-hosts-a-book-signing-with-marc-appleton-and-melba-levick/
LOCATION:Arcana: Books on the Arts\, 8675 Washington Blvd.\, Culver City\, CA\, 90232
CATEGORIES:News
ATTACH;FMTTYPE=image/jpeg:https://helmsdesigndistrict.com/wp-content/uploads/2016/12/Book-Launch-16.12.18.jpg
GEO:34.0300679;-118.3835128
X-APPLE-STRUCTURED-LOCATION;VALUE=URI;X-ADDRESS=Arcana: Books on the Arts 8675 Washington Blvd. Culver City CA 90232;X-APPLE-RADIUS=500;X-TITLE=8675 Washington Blvd.:geo:-118.3835128,34.0300679
END:VEVENT
END:VCALENDAR