BEGIN:VCALENDAR
VERSION:2.0
PRODID:-//Helms Design District - ECPv6.15.18//NONSGML v1.0//EN
CALSCALE:GREGORIAN
METHOD:PUBLISH
X-ORIGINAL-URL:https://helmsdesigndistrict.com
X-WR-CALDESC:Events for Helms Design District
REFRESH-INTERVAL;VALUE=DURATION:PT1H
X-Robots-Tag:noindex
X-PUBLISHED-TTL:PT1H
BEGIN:VTIMEZONE
TZID:America/Los_Angeles
BEGIN:DAYLIGHT
TZOFFSETFROM:-0800
TZOFFSETTO:-0700
TZNAME:PDT
DTSTART:20220313T100000
END:DAYLIGHT
BEGIN:STANDARD
TZOFFSETFROM:-0700
TZOFFSETTO:-0800
TZNAME:PST
DTSTART:20221106T090000
END:STANDARD
BEGIN:DAYLIGHT
TZOFFSETFROM:-0800
TZOFFSETTO:-0700
TZNAME:PDT
DTSTART:20230312T100000
END:DAYLIGHT
BEGIN:STANDARD
TZOFFSETFROM:-0700
TZOFFSETTO:-0800
TZNAME:PST
DTSTART:20231105T090000
END:STANDARD
BEGIN:DAYLIGHT
TZOFFSETFROM:-0800
TZOFFSETTO:-0700
TZNAME:PDT
DTSTART:20240310T100000
END:DAYLIGHT
BEGIN:STANDARD
TZOFFSETFROM:-0700
TZOFFSETTO:-0800
TZNAME:PST
DTSTART:20241103T090000
END:STANDARD
END:VTIMEZONE
BEGIN:VEVENT
DTSTART;TZID=America/Los_Angeles:20230623T140000
DTEND;TZID=America/Los_Angeles:20230623T180000
DTSTAMP:20260423T193819
CREATED:20230620T185858Z
LAST-MODIFIED:20230620T190907Z
UID:10001829-1687528800-1687543200@helmsdesigndistrict.com
SUMMARY:Open Studio with Room & Board and artist Marcos Lutyens
DESCRIPTION:Free \nJoin Room & Board and local artist Marcos Lutyens\, to view and explore one of a kind Olfactory Haptic therapeutic sculptures.\nOlfactory Haptic sculptures aim to provide therapeutic benefits to neurodivergent people\, enhancing their engagement with the environment and aiding in recovery. By activating multiple senses\, these sculptures have the potential to evoke emotions\, trigger healing responses\, and contribute to overall mental well-being\, with prospects for further development and application in treating various mental health challenges. The smells within the sculptures will include evocative aromas such as bubble gum\, freshly cut grass\, the fresh breeze of the ocean and more. \nThese fascinating Olfactory Haptic therapeutic sculptures will be on display and can be experienced during Open Studios at Room & Board. \nRoom & Board\n3231 Helms Avenue\, Los Angeles\, CA 90034\nJune 23\, 2023 | 2 pm – 6 pm
URL:https://helmsdesigndistrict.com/event/marcos-lutyens/
LOCATION:Room&Board\, 3231 Helms Avenue\, Culver City\, CA\, 90034
CATEGORIES:News
ATTACH;FMTTYPE=image/jpeg:https://helmsdesigndistrict.com/wp-content/uploads/2023/06/Olfactory-Haptic-Sculptures_1080px.jpg
GEO:34.0296674;-118.3846043
X-APPLE-STRUCTURED-LOCATION;VALUE=URI;X-ADDRESS=Room&Board 3231 Helms Avenue Culver City CA 90034;X-APPLE-RADIUS=500;X-TITLE=3231 Helms Avenue:geo:-118.3846043,34.0296674
END:VEVENT
END:VCALENDAR