BEGIN:VCALENDAR
VERSION:2.0
PRODID:-//Helms Design District - ECPv6.15.18//NONSGML v1.0//EN
CALSCALE:GREGORIAN
METHOD:PUBLISH
X-WR-CALNAME:Helms Design District
X-ORIGINAL-URL:https://helmsdesigndistrict.com
X-WR-CALDESC:Events for Helms Design District
REFRESH-INTERVAL;VALUE=DURATION:PT1H
X-Robots-Tag:noindex
X-PUBLISHED-TTL:PT1H
BEGIN:VTIMEZONE
TZID:America/Los_Angeles
BEGIN:DAYLIGHT
TZOFFSETFROM:-0800
TZOFFSETTO:-0700
TZNAME:PDT
DTSTART:20220313T100000
END:DAYLIGHT
BEGIN:STANDARD
TZOFFSETFROM:-0700
TZOFFSETTO:-0800
TZNAME:PST
DTSTART:20221106T090000
END:STANDARD
BEGIN:DAYLIGHT
TZOFFSETFROM:-0800
TZOFFSETTO:-0700
TZNAME:PDT
DTSTART:20230312T100000
END:DAYLIGHT
BEGIN:STANDARD
TZOFFSETFROM:-0700
TZOFFSETTO:-0800
TZNAME:PST
DTSTART:20231105T090000
END:STANDARD
BEGIN:DAYLIGHT
TZOFFSETFROM:-0800
TZOFFSETTO:-0700
TZNAME:PDT
DTSTART:20240310T100000
END:DAYLIGHT
BEGIN:STANDARD
TZOFFSETFROM:-0700
TZOFFSETTO:-0800
TZNAME:PST
DTSTART:20241103T090000
END:STANDARD
END:VTIMEZONE
BEGIN:VEVENT
DTSTART;TZID=America/Los_Angeles:20230329T190000
DTEND;TZID=America/Los_Angeles:20230329T210000
DTSTAMP:20260423T220052
CREATED:20230314T183642Z
LAST-MODIFIED:20230315T011803Z
UID:10000527-1680116400-1680123600@helmsdesigndistrict.com
SUMMARY:Material and Mind: An Author Talk with Chris Bardt
DESCRIPTION:Material Encounters in partnership with PLP So Cal is delighted to welcome Christopher Bardt\, AIA\, to discuss his recent book\, Material and Mind.\nIn Material and Mind\, Christopher Bardt delves deeply into the interaction of mind and material world\, mediated by language\, image\, and the process of making. He examines thought not as something “pure” and autonomous but as emerging from working with material\, and he identifies this as the source of imagination and creative insight. This takes place as much in such disciplines as cognitive science\, anthropology\, and poetry as it does in the more obvious painting\, sculpture\, and design. In some fields\, the medium of work is\, in fact\, the very medium of thinking—as fabric is for the tailor. \nMore info and tickets available here. \nBrought to you by Material Encounters\, in partnership with PLP So Cal.
URL:https://helmsdesigndistrict.com/event/christopher-bardt/
LOCATION:Helms Design Center\, 8745 Washington Boulevard\, Culver City\, CA\, 90232
CATEGORIES:News
ATTACH;FMTTYPE=image/jpeg:https://helmsdesigndistrict.com/wp-content/uploads/2023/03/ChrisBardt_Composed_1000w.jpg
GEO:34.0286594;-118.3857496
X-APPLE-STRUCTURED-LOCATION;VALUE=URI;X-ADDRESS=Helms Design Center 8745 Washington Boulevard Culver City CA 90232;X-APPLE-RADIUS=500;X-TITLE=8745 Washington Boulevard:geo:-118.3857496,34.0286594
END:VEVENT
END:VCALENDAR