BEGIN:VCALENDAR
VERSION:2.0
PRODID:-//Helms Design District - ECPv6.15.18//NONSGML v1.0//EN
CALSCALE:GREGORIAN
METHOD:PUBLISH
X-WR-CALNAME:Helms Design District
X-ORIGINAL-URL:https://helmsdesigndistrict.com
X-WR-CALDESC:Events for Helms Design District
REFRESH-INTERVAL;VALUE=DURATION:PT1H
X-Robots-Tag:noindex
X-PUBLISHED-TTL:PT1H
BEGIN:VTIMEZONE
TZID:America/Los_Angeles
BEGIN:DAYLIGHT
TZOFFSETFROM:-0800
TZOFFSETTO:-0700
TZNAME:PDT
DTSTART:20250309T100000
END:DAYLIGHT
BEGIN:STANDARD
TZOFFSETFROM:-0700
TZOFFSETTO:-0800
TZNAME:PST
DTSTART:20251102T090000
END:STANDARD
BEGIN:DAYLIGHT
TZOFFSETFROM:-0800
TZOFFSETTO:-0700
TZNAME:PDT
DTSTART:20260308T100000
END:DAYLIGHT
BEGIN:STANDARD
TZOFFSETFROM:-0700
TZOFFSETTO:-0800
TZNAME:PST
DTSTART:20261101T090000
END:STANDARD
BEGIN:DAYLIGHT
TZOFFSETFROM:-0800
TZOFFSETTO:-0700
TZNAME:PDT
DTSTART:20270314T100000
END:DAYLIGHT
BEGIN:STANDARD
TZOFFSETFROM:-0700
TZOFFSETTO:-0800
TZNAME:PST
DTSTART:20271107T090000
END:STANDARD
END:VTIMEZONE
BEGIN:VEVENT
DTSTART;TZID=America/Los_Angeles:20260307T160000
DTEND;TZID=America/Los_Angeles:20260307T180000
DTSTAMP:20260420T224109
CREATED:20260305T165754Z
LAST-MODIFIED:20260305T172508Z
UID:10002007-1772899200-1772906400@helmsdesigndistrict.com
SUMMARY:Book Signing + Discussion with Brandon Ruffin
DESCRIPTION:Please join Arcana: Books on the Arts on Saturday\, March 7th between 4:00 and 6:00 pm as they welcome the Oakland-based multi-disciplinary artist Brandon Ruffin to celebrate the publication of his Setanta Books monograph Migration Patterns. Along with signing copies\, Mr. Ruffin will engage in what is sure to be a lively discussion with noted art director\, photographer\, and filmmaker Mathieu Bitton. \n“Rooted in personal history and collective memory\, Migration Patterns offers a powerful reflection on the enduring presence of Southern Black culture in Northern California; particularly in the cities of Oakland\, San Francisco\, and Ruffin’s hometown\, Richmond. The project opens with Siobhan\, a poem by Enjoli Flynn-Ruffin\, and is accompanied by an essay from journalist and cultural critic Pendarvis Harshaw. Together\, these texts frame the book not simply as a collection of photographs\, but as a lyrical meditation on legacy\, migration\, and the evolving meaning of home. At its heart\, Migration Patterns is a reflection on lineage: on what it means to be the continuation of a story\, and on the responsibility of documenting that story with care. With it\,  Ruffin adds a vital voice to the canon of contemporary Black photography.” \nWe look forward to seeing you for the opportunity to meet and greet Brandon Ruffin – and to pick up a signed example of this engaging new book! If you cannot attend and would like to purchase a signed copy of Migration Patterns\, please place your order below. \n\n		\n	 \n \n	\n		\n			PURCHASE THE BOOK
URL:https://helmsdesigndistrict.com/event/book-signing-discussion-with-brandon-ruffin/
LOCATION:Arcana: Books on the Arts\, 8675 Washington Blvd.\, Culver City\, CA\, 90232
CATEGORIES:News
ATTACH;FMTTYPE=image/jpeg:https://helmsdesigndistrict.com/wp-content/uploads/2026/03/Brandon_Ruffin_1.jpeg
GEO:34.0300679;-118.3835128
X-APPLE-STRUCTURED-LOCATION;VALUE=URI;X-ADDRESS=Arcana: Books on the Arts 8675 Washington Blvd. Culver City CA 90232;X-APPLE-RADIUS=500;X-TITLE=8675 Washington Blvd.:geo:-118.3835128,34.0300679
END:VEVENT
END:VCALENDAR