BEGIN:VCALENDAR
VERSION:2.0
PRODID:-//Helms Design District - ECPv6.15.18//NONSGML v1.0//EN
CALSCALE:GREGORIAN
METHOD:PUBLISH
X-WR-CALNAME:Helms Design District
X-ORIGINAL-URL:https://helmsdesigndistrict.com
X-WR-CALDESC:Events for Helms Design District
REFRESH-INTERVAL;VALUE=DURATION:PT1H
X-Robots-Tag:noindex
X-PUBLISHED-TTL:PT1H
BEGIN:VTIMEZONE
TZID:America/Los_Angeles
BEGIN:DAYLIGHT
TZOFFSETFROM:-0800
TZOFFSETTO:-0700
TZNAME:PDT
DTSTART:20170312T100000
END:DAYLIGHT
BEGIN:STANDARD
TZOFFSETFROM:-0700
TZOFFSETTO:-0800
TZNAME:PST
DTSTART:20171105T090000
END:STANDARD
BEGIN:DAYLIGHT
TZOFFSETFROM:-0800
TZOFFSETTO:-0700
TZNAME:PDT
DTSTART:20180311T100000
END:DAYLIGHT
BEGIN:STANDARD
TZOFFSETFROM:-0700
TZOFFSETTO:-0800
TZNAME:PST
DTSTART:20181104T090000
END:STANDARD
BEGIN:DAYLIGHT
TZOFFSETFROM:-0800
TZOFFSETTO:-0700
TZNAME:PDT
DTSTART:20190310T100000
END:DAYLIGHT
BEGIN:STANDARD
TZOFFSETFROM:-0700
TZOFFSETTO:-0800
TZNAME:PST
DTSTART:20191103T090000
END:STANDARD
END:VTIMEZONE
BEGIN:VEVENT
DTSTART;TZID=America/Los_Angeles:20180721T190000
DTEND;TZID=America/Los_Angeles:20180721T220000
DTSTAMP:20260423T185701
CREATED:20180611T202744Z
LAST-MODIFIED:20180706T193850Z
UID:10000242-1532199600-1532210400@helmsdesigndistrict.com
SUMMARY:Little Bite Gallery Returns to Helms with a Solo Exhibition by Melissa Falco Williams
DESCRIPTION:Free\nOn Saturday\, July 21st from 7 to 10 pm\, join us for the second installation from Little Bite Gallery inside the Helms Design Center\, presenting Inch by Inch\, a solo exhibition featuring 70+ works of art by Melissa Falco Williams\, as part of the Helms fine art series remnants & artifacts. \nAfter the opening night\, Inch by Inch will be available to the public on Friday\, July 27th and Sunday\, July 29th\, time TBD.  ALL OTHER TIMES\, the exhibition is available BY APPOINTMENT ONLY through August 2nd\, by contacting Alyssa at Info@littlebitegallery.com. \n“My inspiration comes from life\, from every experience I’ve had\, from every person I’ve met. Perhaps I’ve always had a desire to discover a greater connection to the world around me and bring beauty and understanding in moments that can sometimes feel scary and harsh—to find the extraordinary in the smallest details and kindness in every expression. \nThrough art\, I have discovered a place of serenity\, a place of freedom. Creating art has been a pathway to my heart and also to my community. It has given me the courage to embrace a bigger piece of me\, to connect and share with fellow artists and join hands in the spirit of discovery.” -Melissa Falco Williams \n“I first met Melissa three and a half years ago. Her curious\, vibrant approach to creativity always enthralled me. Over the years I’ve witnessed the unabashed expression and truth Melissa conveys through her artwork. Her work makes a resounding mark on all who view it\, leaving us to bask in the glory of it’s unedited expression. You can feel the catharsis\, the freedom and release Melissa feels when she paints. How she makes sense of the world and lovingly adds to it. My hope in presenting her work is to present as many people as possible to this expressive resonance and color\, and the power of Melissa’s honest and emotive movement. Inch by Inch challenges the viewer to look closely\, to feel deeply\, and to express fully. Can you feel the freedom?” -Alyssa\, Director of Little Bite Gallery \nAbout renmants & artifacts\nA well-lived life is often driven by a search to find meaning and purpose within a world that frequently appears irrational and chaotic.  We use our collected experiences — encounters with people\, places\, objects\, literature\, music and art — to develop a personal paradigm\, an internal language that helps us make sense of our significance and define our reason for being.\n\nPlease join us for an ongoing art series that examines the idea of ‘remnants and artifacts’\, the small remainders\, residues\, and unexpected revelations of the artist’s collected experiences as discovered within their body of work and provide us with a possible avenue for a deeper appreciation of the worldview that underlies their creative hopes\, dreams\, and fears.
URL:https://helmsdesigndistrict.com/event/little-bite-gallery-returns-to-helms-with-a-solo-exhibition-by-melissa-falco-williams/
LOCATION:Helms Design Center\, 8745 Washington Boulevard\, Culver City\, CA\, 90232
CATEGORIES:News
ATTACH;FMTTYPE=image/jpeg:https://helmsdesigndistrict.com/wp-content/uploads/2018/06/inch-by-inch-1.jpg
GEO:34.0286594;-118.3857496
X-APPLE-STRUCTURED-LOCATION;VALUE=URI;X-ADDRESS=Helms Design Center 8745 Washington Boulevard Culver City CA 90232;X-APPLE-RADIUS=500;X-TITLE=8745 Washington Boulevard:geo:-118.3857496,34.0286594
END:VEVENT
END:VCALENDAR