BEGIN:VCALENDAR
VERSION:2.0
PRODID:-//Helms Design District - ECPv6.15.18//NONSGML v1.0//EN
CALSCALE:GREGORIAN
METHOD:PUBLISH
X-ORIGINAL-URL:https://helmsdesigndistrict.com
X-WR-CALDESC:Events for Helms Design District
REFRESH-INTERVAL;VALUE=DURATION:PT1H
X-Robots-Tag:noindex
X-PUBLISHED-TTL:PT1H
BEGIN:VTIMEZONE
TZID:America/Los_Angeles
BEGIN:DAYLIGHT
TZOFFSETFROM:-0800
TZOFFSETTO:-0700
TZNAME:PDT
DTSTART:20160313T100000
END:DAYLIGHT
BEGIN:STANDARD
TZOFFSETFROM:-0700
TZOFFSETTO:-0800
TZNAME:PST
DTSTART:20161106T090000
END:STANDARD
BEGIN:DAYLIGHT
TZOFFSETFROM:-0800
TZOFFSETTO:-0700
TZNAME:PDT
DTSTART:20170312T100000
END:DAYLIGHT
BEGIN:STANDARD
TZOFFSETFROM:-0700
TZOFFSETTO:-0800
TZNAME:PST
DTSTART:20171105T090000
END:STANDARD
BEGIN:DAYLIGHT
TZOFFSETFROM:-0800
TZOFFSETTO:-0700
TZNAME:PDT
DTSTART:20180311T100000
END:DAYLIGHT
BEGIN:STANDARD
TZOFFSETFROM:-0700
TZOFFSETTO:-0800
TZNAME:PST
DTSTART:20181104T090000
END:STANDARD
END:VTIMEZONE
BEGIN:VEVENT
DTSTART;TZID=America/Los_Angeles:20170409T160000
DTEND;TZID=America/Los_Angeles:20170409T180000
DTSTAMP:20260423T213417
CREATED:20170328T192818Z
LAST-MODIFIED:20170328T193001Z
UID:10000072-1491753600-1491760800@helmsdesigndistrict.com
SUMMARY:Arcana Books Hosts a Book Signing With Photographer Moshe Brakha
DESCRIPTION:Free\nOn Sunday\, April 9th from 4:00 to 6:00PM\, please join Arcana: Books on the Arts for a book signing with photographer Moshe Brakha on the release of L.A. Babe: The Real Women of Los Angeles 1975-1988. \nMoshe Brakha’s acidly crisp\, otherworldly images evoke a certain stylistic sensibility and a knack for innovative and sensual photography that engages the viewer. This latest release\, collects his most compelling subjects from the late seventies and early eighties – the various women he encountered all over Los Angeles. The book includes vintage portraits of legendary proto-punk band The Runaways\, LaToya and Janet Jackson\, Patricia Arquette\, longtime Los Angeles scene-maker Angelyne\, and many\, many others. From Beverly Hills High School cheerleaders to brash bartenders and groupies\, L.A. Babe captures the essential Los Angeles at its sunniest\, coolest\, grittiest glam and punk peak. \nIn a career spanning five decades\, Moshe Brakha has created scores of iconic editorial images including work for the legendary Wet: The Magazine of Gourmet Bathing and Beyond\, and album covers for the likes of Devo\, The Ramones\, Sparks\, Neil Young\, Cat Stevens\, Cheap Trick\, Aerosmith\, Pat Benatar\, The Weirdos\, and Alice Coltrane.
URL:https://helmsdesigndistrict.com/event/arcana-books-hosts-a-book-signing-with-photographer-moshe-brakha/
LOCATION:Arcana: Books on the Arts\, 8675 Washington Blvd.\, Culver City\, CA\, 90232
CATEGORIES:News
ATTACH;FMTTYPE=image/jpeg:https://helmsdesigndistrict.com/wp-content/uploads/2017/03/Book-Signing-17.04.09.jpg
GEO:34.0300679;-118.3835128
X-APPLE-STRUCTURED-LOCATION;VALUE=URI;X-ADDRESS=Arcana: Books on the Arts 8675 Washington Blvd. Culver City CA 90232;X-APPLE-RADIUS=500;X-TITLE=8675 Washington Blvd.:geo:-118.3835128,34.0300679
END:VEVENT
END:VCALENDAR