BEGIN:VCALENDAR
VERSION:2.0
PRODID:-//Helms Design District - ECPv6.15.18//NONSGML v1.0//EN
CALSCALE:GREGORIAN
METHOD:PUBLISH
X-WR-CALNAME:Helms Design District
X-ORIGINAL-URL:https://helmsdesigndistrict.com
X-WR-CALDESC:Events for Helms Design District
REFRESH-INTERVAL;VALUE=DURATION:PT1H
X-Robots-Tag:noindex
X-PUBLISHED-TTL:PT1H
BEGIN:VTIMEZONE
TZID:America/Los_Angeles
BEGIN:DAYLIGHT
TZOFFSETFROM:-0800
TZOFFSETTO:-0700
TZNAME:PDT
DTSTART:20240310T100000
END:DAYLIGHT
BEGIN:STANDARD
TZOFFSETFROM:-0700
TZOFFSETTO:-0800
TZNAME:PST
DTSTART:20241103T090000
END:STANDARD
BEGIN:DAYLIGHT
TZOFFSETFROM:-0800
TZOFFSETTO:-0700
TZNAME:PDT
DTSTART:20250309T100000
END:DAYLIGHT
BEGIN:STANDARD
TZOFFSETFROM:-0700
TZOFFSETTO:-0800
TZNAME:PST
DTSTART:20251102T090000
END:STANDARD
BEGIN:DAYLIGHT
TZOFFSETFROM:-0800
TZOFFSETTO:-0700
TZNAME:PDT
DTSTART:20260308T100000
END:DAYLIGHT
BEGIN:STANDARD
TZOFFSETFROM:-0700
TZOFFSETTO:-0800
TZNAME:PST
DTSTART:20261101T090000
END:STANDARD
END:VTIMEZONE
BEGIN:VEVENT
DTSTART;TZID=America/Los_Angeles:20250305T080000
DTEND;TZID=America/Los_Angeles:20250305T100000
DTSTAMP:20260423T231159
CREATED:20250228T194215Z
LAST-MODIFIED:20250304T203323Z
UID:10001932-1741161600-1741168800@helmsdesigndistrict.com
SUMMARY:POSTPONED: Westside Urban Forum Hosts a Book Launch with Nick Patsaouras
DESCRIPTION:This event has been postponed. A new date will be scheduled shortly. \nPlease join Westside Urban Forum\, Move LA\, and CoMotion on Wednesday\, March 5th at 8:00 am for a conversation with Nick Patsaouras on the launch of his new book: The Making of Modern Los Angeles: A Chronicle. \nNick arrived from Athens at age seventeen and established a successful electrical engineering company designing commercial\, industrial\, educational\, residential\, medical\, institutional\, religious\, and entertainment projects. Nick served on several boards—from LA Metro to LADWP—and even ran for LA Mayor! \nHis book is a firsthand account of decisions made in public and behind the scenes over a fifty-year career that has truly made Los Angeles what it is today. Nick is a true insider whose vision and persistence prevailed and made a monumental difference. The insights and wisdom he gained from all these endeavors are woven throughout this book\, making it a must-read for anyone with even a passing interest in Los Angeles’s recent past and future. \nRegistration Fees\n$25 Members\n$35 Non-Members \nPrice of admission includes a signed copy of the book and breakfast! \n\n		\n	 \n \n	\n		\n			NON-MEMBER TICKETS\n		\n	  \n	\n		\n			MEMBER TICKETS
URL:https://helmsdesigndistrict.com/event/westside-urban-forum-book-launch-nick-patsaouras/
LOCATION:Helms Design Center\, 8745 Washington Boulevard\, Culver City\, CA\, 90232
CATEGORIES:News
ATTACH;FMTTYPE=image/jpeg:https://helmsdesigndistrict.com/wp-content/uploads/2025/02/Making_of_Modern_LA_image_.jpg
GEO:34.0286594;-118.3857496
X-APPLE-STRUCTURED-LOCATION;VALUE=URI;X-ADDRESS=Helms Design Center 8745 Washington Boulevard Culver City CA 90232;X-APPLE-RADIUS=500;X-TITLE=8745 Washington Boulevard:geo:-118.3857496,34.0286594
END:VEVENT
END:VCALENDAR