BEGIN:VCALENDAR
VERSION:2.0
PRODID:-//Helms Design District - ECPv6.15.18//NONSGML v1.0//EN
CALSCALE:GREGORIAN
METHOD:PUBLISH
X-WR-CALNAME:Helms Design District
X-ORIGINAL-URL:https://helmsdesigndistrict.com
X-WR-CALDESC:Events for Helms Design District
REFRESH-INTERVAL;VALUE=DURATION:PT1H
X-Robots-Tag:noindex
X-PUBLISHED-TTL:PT1H
BEGIN:VTIMEZONE
TZID:America/Los_Angeles
BEGIN:DAYLIGHT
TZOFFSETFROM:-0800
TZOFFSETTO:-0700
TZNAME:PDT
DTSTART:20240310T100000
END:DAYLIGHT
BEGIN:STANDARD
TZOFFSETFROM:-0700
TZOFFSETTO:-0800
TZNAME:PST
DTSTART:20241103T090000
END:STANDARD
BEGIN:DAYLIGHT
TZOFFSETFROM:-0800
TZOFFSETTO:-0700
TZNAME:PDT
DTSTART:20250309T100000
END:DAYLIGHT
BEGIN:STANDARD
TZOFFSETFROM:-0700
TZOFFSETTO:-0800
TZNAME:PST
DTSTART:20251102T090000
END:STANDARD
BEGIN:DAYLIGHT
TZOFFSETFROM:-0800
TZOFFSETTO:-0700
TZNAME:PDT
DTSTART:20260308T100000
END:DAYLIGHT
BEGIN:STANDARD
TZOFFSETFROM:-0700
TZOFFSETTO:-0800
TZNAME:PST
DTSTART:20261101T090000
END:STANDARD
END:VTIMEZONE
BEGIN:VEVENT
DTSTART;TZID=America/Los_Angeles:20250201T160000
DTEND;TZID=America/Los_Angeles:20250201T180000
DTSTAMP:20260423T191810
CREATED:20250131T013504Z
LAST-MODIFIED:20250131T015512Z
UID:10001937-1738425600-1738432800@helmsdesigndistrict.com
SUMMARY:Arcana Book Signing for Mick Haggerty: MXWX
DESCRIPTION:Join us at Arcana on Saturday\, February 1st\, between 4:00 and 6:00 PM to celebrate the publication of MXWX\, the new release by venerable Los Angeles creative treasure Mick Haggerty! \nMXWX — Mick’s Works — is a more or less comprehensive compendium of the various visual works imagined and fabricated by Mick Haggerty over the past half century. Upon moving to Los Angeles from London in 1973\, Haggerty quickly established himself as a go-to record industry designer\, illustrator\, art director\, and later music video director. He has won a Grammy for the visual packaging for Supertramp’s “Breakfast in America” along with designing iconic covers for David Bowie\, The Police\, Electric Light Orchestra\, The Go-Go’s\, Tom Petty and The Heartbreakers\, Jimi Hendrix\, Nazareth\, Public Image Ltd.\, Keith Richards\, and many\, many more. His editorial illustration includes covers for Time\, Vanity Fair\, New York Magazine\, and New West Magazine. \nThis beautifully illustrated tome additionally features contributions by Gary Panter and Steven Heller along with a stunning archive of Mick’s personal work — much of which is reproduced here for the very first time. Produced in an edition limited to one hundred and fifty hand-numbered copies\, this is sure to sell out quickly\, so come join us for a fun and refreshment filled afternoon with the esteemed Mr. Haggerty. \nIf you cannot attend and would like to purchase a SIGNED copy of “MXWX\,” please place your order at arcanabooks.com.
URL:https://helmsdesigndistrict.com/event/mxwx/
LOCATION:Arcana: Books on the Arts\, 8675 Washington Blvd.\, Culver City\, CA\, 90232
CATEGORIES:News
ATTACH;FMTTYPE=image/jpeg:https://helmsdesigndistrict.com/wp-content/uploads/2025/01/MickHaggerty_1080x1189.jpg
GEO:34.0300679;-118.3835128
X-APPLE-STRUCTURED-LOCATION;VALUE=URI;X-ADDRESS=Arcana: Books on the Arts 8675 Washington Blvd. Culver City CA 90232;X-APPLE-RADIUS=500;X-TITLE=8675 Washington Blvd.:geo:-118.3835128,34.0300679
END:VEVENT
END:VCALENDAR