BEGIN:VCALENDAR
VERSION:2.0
PRODID:-//Helms Design District - ECPv6.15.18//NONSGML v1.0//EN
CALSCALE:GREGORIAN
METHOD:PUBLISH
X-WR-CALNAME:Helms Design District
X-ORIGINAL-URL:https://helmsdesigndistrict.com
X-WR-CALDESC:Events for Helms Design District
REFRESH-INTERVAL;VALUE=DURATION:PT1H
X-Robots-Tag:noindex
X-PUBLISHED-TTL:PT1H
BEGIN:VTIMEZONE
TZID:America/Los_Angeles
BEGIN:DAYLIGHT
TZOFFSETFROM:-0800
TZOFFSETTO:-0700
TZNAME:PDT
DTSTART:20150308T100000
END:DAYLIGHT
BEGIN:STANDARD
TZOFFSETFROM:-0700
TZOFFSETTO:-0800
TZNAME:PST
DTSTART:20151101T090000
END:STANDARD
BEGIN:DAYLIGHT
TZOFFSETFROM:-0800
TZOFFSETTO:-0700
TZNAME:PDT
DTSTART:20160313T100000
END:DAYLIGHT
BEGIN:STANDARD
TZOFFSETFROM:-0700
TZOFFSETTO:-0800
TZNAME:PST
DTSTART:20161106T090000
END:STANDARD
BEGIN:DAYLIGHT
TZOFFSETFROM:-0800
TZOFFSETTO:-0700
TZNAME:PDT
DTSTART:20170312T100000
END:DAYLIGHT
BEGIN:STANDARD
TZOFFSETFROM:-0700
TZOFFSETTO:-0800
TZNAME:PST
DTSTART:20171105T090000
END:STANDARD
END:VTIMEZONE
BEGIN:VEVENT
DTSTART;TZID=America/Los_Angeles:20160514T170000
DTEND;TZID=America/Los_Angeles:20160514T190000
DTSTAMP:20260424T002544
CREATED:20160505T010404Z
LAST-MODIFIED:20160505T011326Z
UID:10000088-1463245200-1463252400@helmsdesigndistrict.com
SUMMARY:Arcana Hosts A Book Signing With Olivia Bee And Special Guest\, BØRNS
DESCRIPTION:On Saturday\, May 14th from 5:00pm – 7:00pm\, please join Arcana: Books on the Arts as they host Olivia Bee in a celebration of the publication of her book Kids In Love. Joining Olivia will be her friend and very special musical guest\, BØRNS\, who will present an acoustic set as part of the evening’s festivities. \nOlivia Bee is celebrated for her dreamy\, evocative portraits and landscapes rich with implied narratives of intimacy\, freedom\, and adventure. Her first full-length book Kids in Love from Aperture showcases two bodies of photographic work\, including the series “Enveloped in a Dream” that first brought Bee recognition as a teenager. These images offer a visual diary of girlhood friendship and the exploration of self\, showcasing Bee’s unique ability to convey the bittersweet nostalgia of adolescence on the brink of adulthood and new possibilities. The second\, “Kids in Love”\, is a photographic chronicle of her circle of friends and new loves\, capturing both the pleasures and terrors of the fleeting passage of romanticized youth. While the work continues to evolve\, what remains constant is her seductive use of color and photographic artifact\, as well as the immediacy and charge of each image. \nBee gives voice to the self-awareness and visual fluency of the millennial generation. Experiences are sharply felt\, and easily communicated and shared\, generating visual records that render these memories as significant as the moments themselves. Tavi Gevinson\, founding editor of the online magazine “Rookie” as well as Bee’s frequent collaborator and model writes about the work and about the role of images as social currency in today’s image-driven world. \n8675 Washington Boulevard\n310-458-1499 \n 
URL:https://helmsdesigndistrict.com/event/arcana-hosts-a-book-signing-with-steven-rea-plus-cognoscenti-coffee-copy/
LOCATION:Arcana: Books on the Arts\, 8675 Washington Blvd.\, Culver City\, CA\, 90232
CATEGORIES:News
ATTACH;FMTTYPE=image/jpeg:https://helmsdesigndistrict.com/wp-content/uploads/2016/05/Arcana-16.05.14.jpg
GEO:34.0300679;-118.3835128
X-APPLE-STRUCTURED-LOCATION;VALUE=URI;X-ADDRESS=Arcana: Books on the Arts 8675 Washington Blvd. Culver City CA 90232;X-APPLE-RADIUS=500;X-TITLE=8675 Washington Blvd.:geo:-118.3835128,34.0300679
END:VEVENT
END:VCALENDAR