BEGIN:VCALENDAR
VERSION:2.0
PRODID:-//Helms Design District - ECPv6.15.18//NONSGML v1.0//EN
CALSCALE:GREGORIAN
METHOD:PUBLISH
X-ORIGINAL-URL:https://helmsdesigndistrict.com
X-WR-CALDESC:Events for Helms Design District
REFRESH-INTERVAL;VALUE=DURATION:PT1H
X-Robots-Tag:noindex
X-PUBLISHED-TTL:PT1H
BEGIN:VTIMEZONE
TZID:America/Los_Angeles
BEGIN:DAYLIGHT
TZOFFSETFROM:-0800
TZOFFSETTO:-0700
TZNAME:PDT
DTSTART:20180311T100000
END:DAYLIGHT
BEGIN:STANDARD
TZOFFSETFROM:-0700
TZOFFSETTO:-0800
TZNAME:PST
DTSTART:20181104T090000
END:STANDARD
BEGIN:DAYLIGHT
TZOFFSETFROM:-0800
TZOFFSETTO:-0700
TZNAME:PDT
DTSTART:20190310T100000
END:DAYLIGHT
BEGIN:STANDARD
TZOFFSETFROM:-0700
TZOFFSETTO:-0800
TZNAME:PST
DTSTART:20191103T090000
END:STANDARD
BEGIN:DAYLIGHT
TZOFFSETFROM:-0800
TZOFFSETTO:-0700
TZNAME:PDT
DTSTART:20200308T100000
END:DAYLIGHT
BEGIN:STANDARD
TZOFFSETFROM:-0700
TZOFFSETTO:-0800
TZNAME:PST
DTSTART:20201101T090000
END:STANDARD
END:VTIMEZONE
BEGIN:VEVENT
DTSTART;TZID=America/Los_Angeles:20191011T073000
DTEND;TZID=America/Los_Angeles:20191011T090000
DTSTAMP:20260423T200709
CREATED:20191008T001144Z
LAST-MODIFIED:20191008T165342Z
UID:10000335-1570779000-1570784400@helmsdesigndistrict.com
SUMMARY:OM Chats: Design Discussions for Thinking Professionals
DESCRIPTION:THIS EVENT IS SOLD OUT! \nOn Friday\, October 11th from 7:30 to 9:00 am\, OM presents How Empathy Creates Extraordinary Experiences\, a multi-speaker conversation exploring the role of empathy in the design of private and public space. This inaugural event in a newly launched program titled OM Chats: Design Discussions for Thinking Professionals. \nOM will be joined by architects\, interior designers\, and product designers from leading firms\, including Adaeze Cadet\, AIA\, LEED AP BD+C\, Vice President at HKS; Julie Smith-Clementi\, AIA\, ISDA\, Product Designer and Architect\, Smith-Clementi; Lynnette Tedder\, IIDA\, CHID\, CID\, EDAC\, LEED AP BD+C\, WELL AP\, Lean Black Belt AP\, LEED AP\, Healthcare Interiors Practice Leader\, Perkins&Will; and Sarah Barnard\, WELL AP and LEED AP\, Principal\, Sarah Barnard Design. With disciplines that range from healthcare to hospitality\, from product design to interiors\, these speakers represent current practices in the way we think about and design space with the human being at the center. \nThe subject matter will span case studies\, anecdotes\, and visuals that support theories of how we understand the nature of place and the people and communities affected by design interventions; approaches to the design process and accountability; creating an expanded practice of universal design to include mental\, physical\, and emotional wellbeing; and even some examples of projects and products that did not work. \nBreakfast will be served inside the Louis Poulsen showroom. Free Parking is available at 7:00 am inside the garage located at 8711 Washington Boulevard. \nAdaeze Cadet \nJulie Smith-Clementi \nLynnette Tedder \nSarah Barnard \nABOUT OM\nOM is a national leader in mid-market seating solutions for small and large businesses\, healthcare environments\, educational and governmental institutions\, various public and private organizations\, and anywhere work happens. Founded in 1986 on an egg ranch in San Marcos\, CA\, OM has grown from a regional provider of ergonomic task seating into a nationally respected and sought-after source for seating for anywhere work happens.
URL:https://helmsdesigndistrict.com/event/om-chats-design-discussions-for-thinking-professionals/
LOCATION:Helms Design Center\, 8745 Washington Boulevard\, Culver City\, CA\, 90232
CATEGORIES:News
ATTACH;FMTTYPE=image/gif:https://helmsdesigndistrict.com/wp-content/uploads/2019/10/OM-Chats-logo.gif
GEO:34.0286594;-118.3857496
X-APPLE-STRUCTURED-LOCATION;VALUE=URI;X-ADDRESS=Helms Design Center 8745 Washington Boulevard Culver City CA 90232;X-APPLE-RADIUS=500;X-TITLE=8745 Washington Boulevard:geo:-118.3857496,34.0286594
END:VEVENT
END:VCALENDAR