BEGIN:VCALENDAR
VERSION:2.0
PRODID:-//Helms Design District - ECPv6.15.18//NONSGML v1.0//EN
CALSCALE:GREGORIAN
METHOD:PUBLISH
X-ORIGINAL-URL:https://helmsdesigndistrict.com
X-WR-CALDESC:Events for Helms Design District
REFRESH-INTERVAL;VALUE=DURATION:PT1H
X-Robots-Tag:noindex
X-PUBLISHED-TTL:PT1H
BEGIN:VTIMEZONE
TZID:America/Los_Angeles
BEGIN:DAYLIGHT
TZOFFSETFROM:-0800
TZOFFSETTO:-0700
TZNAME:PDT
DTSTART:20210314T100000
END:DAYLIGHT
BEGIN:STANDARD
TZOFFSETFROM:-0700
TZOFFSETTO:-0800
TZNAME:PST
DTSTART:20211107T090000
END:STANDARD
BEGIN:DAYLIGHT
TZOFFSETFROM:-0800
TZOFFSETTO:-0700
TZNAME:PDT
DTSTART:20220313T100000
END:DAYLIGHT
BEGIN:STANDARD
TZOFFSETFROM:-0700
TZOFFSETTO:-0800
TZNAME:PST
DTSTART:20221106T090000
END:STANDARD
BEGIN:DAYLIGHT
TZOFFSETFROM:-0800
TZOFFSETTO:-0700
TZNAME:PDT
DTSTART:20230312T100000
END:DAYLIGHT
BEGIN:STANDARD
TZOFFSETFROM:-0700
TZOFFSETTO:-0800
TZNAME:PST
DTSTART:20231105T090000
END:STANDARD
END:VTIMEZONE
BEGIN:VEVENT
DTSTART;TZID=America/Los_Angeles:20220519T183000
DTEND;TZID=America/Los_Angeles:20220519T203000
DTSTAMP:20260424T003715
CREATED:20220517T191821Z
LAST-MODIFIED:20220517T204111Z
UID:10000495-1652985000-1652992200@helmsdesigndistrict.com
SUMMARY:A reception\, lecture\, and discussion with Marcelo Spina and Georgina Huljich\, P-A-T-T-E-R-N-S
DESCRIPTION:Join us on Thursday\, May 19th\, 6:30-8:30 pm\, for a reception\, lecture\, and discussion with Marcelo Spina and Georgina Huljich\, P-A-T-T-E-R-N-S\nIn collaboration with the Helms Bakery District and the Cal Poly SLO LA Metro Program in Architecture and Urban Design \nHELMS DESIGN CENTER        \n8745 Washington Blvd.\, Culver City\, CA 90232 \nFree Parking is available at the corner of Helms Ave. and Venice Blvd. \nLecture is Free and Open to the Public \nRSVP\n\nP-A-T-T-E-R-N-S \nBorn and raised in Rosario\, Argentina\, Marcelo Spina and Georgina Huljich are both renowned architects and distinguished educators. Together\, they lead Los Angeles-based and award-winning architectural practice P-A-T-T-E-R-N-S\, which they founded in 2002 as a speculative platform to explore an increasingly global design culture. Their work reveals a rigorous and progressive approach to projects and buildings across materials\, scales\, agendas and geographies\, insisting on the cultural and social relevance of architectural form\, contemporary aesthetics and emerging technologies. Their books include PATTERNS: Embedded\, the studio first monograph published in 2010 by Shanghai based ACDCU and Mute Icons & Other Dichotomies of the Real in Architecture recently released by ACTAR Press. Marcelo Spina is a Design Faculty at SCI-Arc and Georgina Huljich is an Associate Professor at UCLA AUD. \nP-A-T-T-E-R-N-S is a leading architectural practice led by partners Marcelo Spina and Georgina Huljich. The studio brings a critical and progressive approach to projects across scales\, programs\, and geographies\, insisting on the cultural and social relevance of architectural form\, contemporary aesthetics\, and emerging technologies. Based in Los Angeles\, the forward-looking studio takes advantage of the city’s decidedly global stance and idiosyncratic identity to create engaging and speculative architectural projects that become civic and cultural landmarks within the public realm. \nP-A-T-T-E-R-N-S gained international recognition as one of the most intriguing and broadminded firms in contemporary architecture with work exhibited worldwide\, most notably at the Venice Biennale in Italy\, The Chicago Biennial\, The Museum of Contemporary Art in Los Angeles\, The Art Institute of Chicago\, The San Francisco MOMA\, The MAK Museum in Vienna\, and The FRAC in Orleans\, where it is also part of their permanent collections. \nP-A-T-T-E-R-N-S work has been published extensively and has been the subject of numerous essays\, books\, magazines\, newspapers\, and catalogues. \nP-A-T-T-E-R-N-S is a registered Women Owned Business\, Minority Owned Business and Small Business Enterprise. \nIntroduced and moderated by Stephen Phillips\, FAIA\, PhD\, Principal of Stephen Phillips Architects (SPARCHS) and professor\, director\, Cal Poly LA Metro Program in Architecture and Urban Design (California Polytechnic State University\, San Luis Obispo). \nPhotos (Left to Right): Image of A4H Office Building\, 2020\, Image of Marcelo Spina and Georgina Huljich\, Image of Prism Gallery\, 2013.\n \n 
URL:https://helmsdesigndistrict.com/event/patterns/
LOCATION:Helms Design Center\, 8745 Washington Boulevard\, Culver City\, CA\, 90232
CATEGORIES:News
ATTACH;FMTTYPE=image/jpeg:https://helmsdesigndistrict.com/wp-content/uploads/2022/05/PATTERNS-constant-contact-banner.jpg
GEO:34.0286594;-118.3857496
X-APPLE-STRUCTURED-LOCATION;VALUE=URI;X-ADDRESS=Helms Design Center 8745 Washington Boulevard Culver City CA 90232;X-APPLE-RADIUS=500;X-TITLE=8745 Washington Boulevard:geo:-118.3857496,34.0286594
END:VEVENT
END:VCALENDAR