BEGIN:VCALENDAR
VERSION:2.0
PRODID:-//Helms Design District - ECPv6.15.18//NONSGML v1.0//EN
CALSCALE:GREGORIAN
METHOD:PUBLISH
X-ORIGINAL-URL:https://helmsdesigndistrict.com
X-WR-CALDESC:Events for Helms Design District
REFRESH-INTERVAL;VALUE=DURATION:PT1H
X-Robots-Tag:noindex
X-PUBLISHED-TTL:PT1H
BEGIN:VTIMEZONE
TZID:America/Los_Angeles
BEGIN:DAYLIGHT
TZOFFSETFROM:-0800
TZOFFSETTO:-0700
TZNAME:PDT
DTSTART:20180311T100000
END:DAYLIGHT
BEGIN:STANDARD
TZOFFSETFROM:-0700
TZOFFSETTO:-0800
TZNAME:PST
DTSTART:20181104T090000
END:STANDARD
BEGIN:DAYLIGHT
TZOFFSETFROM:-0800
TZOFFSETTO:-0700
TZNAME:PDT
DTSTART:20190310T100000
END:DAYLIGHT
BEGIN:STANDARD
TZOFFSETFROM:-0700
TZOFFSETTO:-0800
TZNAME:PST
DTSTART:20191103T090000
END:STANDARD
BEGIN:DAYLIGHT
TZOFFSETFROM:-0800
TZOFFSETTO:-0700
TZNAME:PDT
DTSTART:20200308T100000
END:DAYLIGHT
BEGIN:STANDARD
TZOFFSETFROM:-0700
TZOFFSETTO:-0800
TZNAME:PST
DTSTART:20201101T090000
END:STANDARD
END:VTIMEZONE
BEGIN:VEVENT
DTSTART;TZID=America/Los_Angeles:20190505T160000
DTEND;TZID=America/Los_Angeles:20190505T180000
DTSTAMP:20260422T165639
CREATED:20190417T203013Z
LAST-MODIFIED:20190427T002009Z
UID:10000310-1557072000-1557079200@helmsdesigndistrict.com
SUMMARY:Join us for a Reception + Book Signing for Paperback L.A. Book 3
DESCRIPTION:Free\nOn Sunday\, May 5th from 4:00 to 6:00 pm\, please join us for a reception and book signing to celebrate the launch of Paperback L.A. Book 3\, A Casual Anthology: Secrets. SigAlerts. Ravines. Records. \nPaperback L.A. Book 3 is a freewheeling\, visually striking book that brings together an unusual collection of texts and photos to create what Los Angeles Magazine called a “genius” mosaic of Los Angeles\, present and past. It’s the final volume of the acclaimed Paperback L.A. anthology series\, which was introduced last year and has been honored by critics as among the best recent books about L.A. \nContributors include journalists\, fiction writers\, oral history tellers\, humorists\, food writers\, and essayists from many different decades from 1873 to the present. Writers will present brief readings from selections of their work: \nLisa See on the legendary 1930s Dragon’s Den nightclub\, created by Asian American art students\, from her bestselling family history\, On Gold Mountain \nRJ Smith on a 1940s moment when Central Avenue musicians amplified awareness of a Supreme Court civil rights case\, from his book The Great Black Way \nLou Mathews on the street racing scene in the late 1960s\, from his novel L.A. Breakdown \nRiver Garza on his apprenticeship as a Tongva plank-canoe paddler\, from his essay for News from Native California \nRosanne Welch on how the old New Hollywood came up with The Monkees\, from her article for Written By \nPatricia Freeman on comparing summers in L.A. and N.Y. circa late’80s when pantyhose were an issue\, from her essay for L.A. Style magazine \nContributing photographers will be on hand to introduce their photo essays:\nAlexandra Hedison (Nowhere)\nWarren Hill (The Right Notes)\nAnn Elliott Cutting (Motion and Stasis)\nKovi Konowiecki (Hometown Gold) \nCopies of Paperback L.A. Books 1 & 2 will also be available\, and writers and photographers from those books will be on hand for signing. The launch is co-sponsored by publisher Prospect Park Books and Liberty Hill Foundation\, L.A.’s social justice foundation. Culver City Mayor Meghan Sahli-Wells and Council Member Daniel Lee will welcome attendees.
URL:https://helmsdesigndistrict.com/event/join-us-for-a-reception-book-signing-for-paperback-l-a-book-3/
LOCATION:Helms Design Center\, 8745 Washington Boulevard\, Culver City\, CA\, 90232
CATEGORIES:News
ATTACH;FMTTYPE=image/jpeg:https://helmsdesigndistrict.com/wp-content/uploads/2019/04/Paperback-LA-Book-3.jpg
GEO:34.0286594;-118.3857496
X-APPLE-STRUCTURED-LOCATION;VALUE=URI;X-ADDRESS=Helms Design Center 8745 Washington Boulevard Culver City CA 90232;X-APPLE-RADIUS=500;X-TITLE=8745 Washington Boulevard:geo:-118.3857496,34.0286594
END:VEVENT
END:VCALENDAR