BEGIN:VCALENDAR
VERSION:2.0
PRODID:-//Helms Design District - ECPv6.15.18//NONSGML v1.0//EN
CALSCALE:GREGORIAN
METHOD:PUBLISH
X-ORIGINAL-URL:https://helmsdesigndistrict.com
X-WR-CALDESC:Events for Helms Design District
REFRESH-INTERVAL;VALUE=DURATION:PT1H
X-Robots-Tag:noindex
X-PUBLISHED-TTL:PT1H
BEGIN:VTIMEZONE
TZID:America/Los_Angeles
BEGIN:DAYLIGHT
TZOFFSETFROM:-0800
TZOFFSETTO:-0700
TZNAME:PDT
DTSTART:20180311T100000
END:DAYLIGHT
BEGIN:STANDARD
TZOFFSETFROM:-0700
TZOFFSETTO:-0800
TZNAME:PST
DTSTART:20181104T090000
END:STANDARD
BEGIN:DAYLIGHT
TZOFFSETFROM:-0800
TZOFFSETTO:-0700
TZNAME:PDT
DTSTART:20190310T100000
END:DAYLIGHT
BEGIN:STANDARD
TZOFFSETFROM:-0700
TZOFFSETTO:-0800
TZNAME:PST
DTSTART:20191103T090000
END:STANDARD
BEGIN:DAYLIGHT
TZOFFSETFROM:-0800
TZOFFSETTO:-0700
TZNAME:PDT
DTSTART:20200308T100000
END:DAYLIGHT
BEGIN:STANDARD
TZOFFSETFROM:-0700
TZOFFSETTO:-0800
TZNAME:PST
DTSTART:20201101T090000
END:STANDARD
END:VTIMEZONE
BEGIN:VEVENT
DTSTART;TZID=America/Los_Angeles:20190411T183000
DTEND;TZID=America/Los_Angeles:20190411T203000
DTSTAMP:20260424T003410
CREATED:20190328T202741Z
LAST-MODIFIED:20190328T214308Z
UID:10000305-1555007400-1555014600@helmsdesigndistrict.com
SUMMARY:Reception\, Lecture\, and Discussion with Jon Lott of PARA Project
DESCRIPTION:Free – Please RSVP\nOn Thursday\, April 11\, from 6:30 pm – 8:30 pm Helms Bakery District and the Cal Poly LA Metro Program in Architecture and Urban Design are excited to host a reception\, lecture\, and discussion with Jon Lott of PARA Project. \n\nJon Lott of PARA Project\n \nJon Lott is principal of PARA Project\, co-founder of Collective-LOK\, and Assistant Professor of Architecture at Harvard University’s Graduate School of Design\, where he is the Director of the Master in Architecture I Program. \nHe is recipient of both the Emerging Voices Award and the Architectural League Prize (from the Architectural League of New York)\, the Design Vanguard award (by Architectural Record)\, the New Practices New York award (by the American Institute of Architects)\, and twice a MoMA/PS1 Young Architect’s finalist. \nLott’s recent and current work includes: Syracuse University’s School of Education Commons; Haffenden House (a finalist for the Mies Crown Hall Americas Prize); the Van Alen Institute in New York City (with Collective-LOK); and two houses in California (both receiving P/A awards). The work has been published in the New York Times\, the LA Times\, Architectural Record\, Metropolis\, Domus\, the Architect’s Newspaper\, a+u\, Form\, Azure\, among others. \nHe holds a Master of Architecture with distinction from Harvard University’s Graduate School of Design\, a Bachelor of Architecture from California Polytechnic State University San Luis Obispo\, and is an NCARB-certified architect\, with licensure in New York\, California\, and Massachusetts. \nIntroduced and moderated by Stephen Phillips\, AIA\, PhD\, Principal of Stephen Phillips Architects (SPARCHS) and professor\, director\, Cal Poly LA Metro Program in Architecture and Urban Design (California Polytechnic State University\, San Luis Obispo) \nFree Parking is available at the corner of Helms Ave. and Venice Blvd. \nPhotos above\, left to right: Jon Lott\, Stump House by PARA Project office. Below: Stump House and Pioneertown House. \n\nUpcoming Schedule\nApril 25th: Oyler Wu\nMay 9th: Ball Nogues\nMay 23rd: Lucia Allais (Princeton)
URL:https://helmsdesigndistrict.com/event/jon-lott/
LOCATION:Helms Design Center\, 8745 Washington Boulevard\, Culver City\, CA\, 90232
CATEGORIES:News
ATTACH;FMTTYPE=image/jpeg:https://helmsdesigndistrict.com/wp-content/uploads/2019/03/Jon-Lott-Graphic_600px.jpg
GEO:34.0286594;-118.3857496
X-APPLE-STRUCTURED-LOCATION;VALUE=URI;X-ADDRESS=Helms Design Center 8745 Washington Boulevard Culver City CA 90232;X-APPLE-RADIUS=500;X-TITLE=8745 Washington Boulevard:geo:-118.3857496,34.0286594
END:VEVENT
END:VCALENDAR