BEGIN:VCALENDAR
VERSION:2.0
PRODID:-//Helms Design District - ECPv6.15.18//NONSGML v1.0//EN
CALSCALE:GREGORIAN
METHOD:PUBLISH
X-ORIGINAL-URL:https://helmsdesigndistrict.com
X-WR-CALDESC:Events for Helms Design District
REFRESH-INTERVAL;VALUE=DURATION:PT1H
X-Robots-Tag:noindex
X-PUBLISHED-TTL:PT1H
BEGIN:VTIMEZONE
TZID:America/Los_Angeles
BEGIN:DAYLIGHT
TZOFFSETFROM:-0800
TZOFFSETTO:-0700
TZNAME:PDT
DTSTART:20220313T100000
END:DAYLIGHT
BEGIN:STANDARD
TZOFFSETFROM:-0700
TZOFFSETTO:-0800
TZNAME:PST
DTSTART:20221106T090000
END:STANDARD
BEGIN:DAYLIGHT
TZOFFSETFROM:-0800
TZOFFSETTO:-0700
TZNAME:PDT
DTSTART:20230312T100000
END:DAYLIGHT
BEGIN:STANDARD
TZOFFSETFROM:-0700
TZOFFSETTO:-0800
TZNAME:PST
DTSTART:20231105T090000
END:STANDARD
BEGIN:DAYLIGHT
TZOFFSETFROM:-0800
TZOFFSETTO:-0700
TZNAME:PDT
DTSTART:20240310T100000
END:DAYLIGHT
BEGIN:STANDARD
TZOFFSETFROM:-0700
TZOFFSETTO:-0800
TZNAME:PST
DTSTART:20241103T090000
END:STANDARD
END:VTIMEZONE
BEGIN:VEVENT
DTSTART;TZID=America/Los_Angeles:20230119T074500
DTEND;TZID=America/Los_Angeles:20230119T093000
DTSTAMP:20260423T191936
CREATED:20230117T220116Z
LAST-MODIFIED:20230117T220116Z
UID:10000365-1674114300-1674120600@helmsdesigndistrict.com
SUMMARY:Westside Urban Forum Breakfast Talk: California’s Brave New World of Parking
DESCRIPTION:On Thursday\, January 19th at 7:45 am\, please join Westside Urban Forum for a breakfast reception and panel discussion about California’s Brave New World of Parking. \nFor at least two decades\, advocates and urban planners have decried the overabundance of parking in many cities. Many of the garages\, lots\, and spaces in Los Angeles exist not necessarily because they are needed but because regulations require them. The passage of Senate Bill 2097 last year nullifies minimum parking requirements across the state\, including large swaths of the Los Angeles region. The goal is twofold: give developers more freedom to build housing and discourage overuse of personal vehicles. \nNow developers — along with financiers\, architects\, and planners — get to figure out what to do with their freedom. \nIf developers choose to provide less parking\, they could\, potentially\, add more units\, experiment with design\, and transform entire corridors of the City. This could also set off battles for parking spaces and impose burdens upon neighbors. Please join WUF to discuss whether the relaxation of parking requirements will lead to a development revolution along the major corridors of the Los Angeles region or whether conventional wisdom about car dependency will persist. \nPanelists\nDonna Shen Tripp\, Vice President/Partner\, Craig Lawson & Co.\nHagu Solomon-Cary\, AICP; Principal City Planner; Los Angeles City Planning\nPatrick Tighe FAIA\, FAAR; Principal; Tighe Architecture\nAdditional panelists to be announced \nMembers Register Here\nNonmembers Register Here\nRegistration Fees\n$50 Members\n$65 Non-Members\n$10 Student Members\n$15 Student Non-Members\nPre-registration closes on Wednesday\, January 18th\, at 4:00 PM. After Wednesday\, January 18th\, onsite registration will be available at the cost of an additional $10. No refunds or credits will be provided after this day. \nEvent Time\n7:45 am – 9:30 am\n7:45 am – Registration & Light Breakfast\n8:30 am – Panel Discussion \nFree Parking is located inside the interior parking garage located at 8711 Washington Boulevard\, adjacent to the event.
URL:https://helmsdesigndistrict.com/event/westside-urban-forum-breakfast-talk-californias-brave-new-world-of-parking/
LOCATION:Helms Design Center\, 8745 Washington Boulevard\, Culver City\, CA\, 90232
CATEGORIES:News
ATTACH;FMTTYPE=image/jpeg:https://helmsdesigndistrict.com/wp-content/uploads/2022/10/WestsideUrbanForum_Logo_sq.jpg
GEO:34.0286594;-118.3857496
X-APPLE-STRUCTURED-LOCATION;VALUE=URI;X-ADDRESS=Helms Design Center 8745 Washington Boulevard Culver City CA 90232;X-APPLE-RADIUS=500;X-TITLE=8745 Washington Boulevard:geo:-118.3857496,34.0286594
END:VEVENT
END:VCALENDAR