BEGIN:VCALENDAR
VERSION:2.0
PRODID:-//Helms Design District - ECPv6.15.18//NONSGML v1.0//EN
CALSCALE:GREGORIAN
METHOD:PUBLISH
X-ORIGINAL-URL:https://helmsdesigndistrict.com
X-WR-CALDESC:Events for Helms Design District
REFRESH-INTERVAL;VALUE=DURATION:PT1H
X-Robots-Tag:noindex
X-PUBLISHED-TTL:PT1H
BEGIN:VTIMEZONE
TZID:America/Los_Angeles
BEGIN:DAYLIGHT
TZOFFSETFROM:-0800
TZOFFSETTO:-0700
TZNAME:PDT
DTSTART:20240310T100000
END:DAYLIGHT
BEGIN:STANDARD
TZOFFSETFROM:-0700
TZOFFSETTO:-0800
TZNAME:PST
DTSTART:20241103T090000
END:STANDARD
BEGIN:DAYLIGHT
TZOFFSETFROM:-0800
TZOFFSETTO:-0700
TZNAME:PDT
DTSTART:20250309T100000
END:DAYLIGHT
BEGIN:STANDARD
TZOFFSETFROM:-0700
TZOFFSETTO:-0800
TZNAME:PST
DTSTART:20251102T090000
END:STANDARD
BEGIN:DAYLIGHT
TZOFFSETFROM:-0800
TZOFFSETTO:-0700
TZNAME:PDT
DTSTART:20260308T100000
END:DAYLIGHT
BEGIN:STANDARD
TZOFFSETFROM:-0700
TZOFFSETTO:-0800
TZNAME:PST
DTSTART:20261101T090000
END:STANDARD
BEGIN:DAYLIGHT
TZOFFSETFROM:-0800
TZOFFSETTO:-0700
TZNAME:PDT
DTSTART:20270314T100000
END:DAYLIGHT
BEGIN:STANDARD
TZOFFSETFROM:-0700
TZOFFSETTO:-0800
TZNAME:PST
DTSTART:20271107T090000
END:STANDARD
END:VTIMEZONE
BEGIN:VEVENT
DTSTART;TZID=America/Los_Angeles:20260201T080000
DTEND;TZID=America/Los_Angeles:20260228T170000
DTSTAMP:20260423T192102
CREATED:20260201T170044Z
LAST-MODIFIED:20260205T195625Z
UID:10001998-1769932800-1772298000@helmsdesigndistrict.com
SUMMARY:Fresh Perks: February Instagram Giveaway
DESCRIPTION:A Pasta Sisters Dinner Worth Staying In For\nEnter February 1 – February 28\nFebruary calls for something warm\, handmade\, and meant to be shared. This month’s Fresh Perks giveaway comes from our friends at Pasta Sisters and it’s basically dinner plans solved. \nOne lucky winner will receive a Pasta Sisters Ravioli Love Box\, a beautifully packed meal-for-two featuring heart-shaped porcini ravioli plus all the essentials to finish the dish at home: butter\, cheese\, and edible flowers. The box also includes a bottle of wine and a small dessert\, because the best meals always end on a sweet note. \nWhether you’re planning a date night\, a friend dinner\, or just a really great night in\, this is comfort cooking at its most joyful. \nThis Fresh Perks giveaway runs from February 1st at 9:00 am through February 28th at 5:00 pm. One lucky winner will be contacted after the end of the giveaway. \nWe appreciate you for choosing Helms Design District as your go-to design hub\, your shopping destination\, and a favorite spot to dine. Thank you for spending time with us throughout the entire year and thank you for always showing up. We love seeing you! \n\nTo enter is simple: \n(1) You must Follow us on Instagram.\n(2) Tag two friends in your comment so they can follow us and enter too.\n(3) This answer isn’t mandatory\, but tell us your favorite pasta shape. \nSign up for our newsletter and automatically be entered for a second chance to win. \nPlus\, you’ll find out when the next Helms Fresh Perk drops. Good luck! \n\n		\n	 \n \n	\n		\n			ENTER ON INSTAGRAM\n		\n	 \n \n	\n		\n			\n  \n\nRules & Regs \nNo purchase is required to enter. \nWinners will be selected randomly\, contacted after each giveaway closes\, and announced in our comments on Instagram. \nOpen to US residents only\, 18 years and older.  By entering\, entrants confirm they are at least 18+ years of age. \nThis is a “GIVEAWAY” and is not eligible for return\, refund\, or exchange at any of our showrooms or restaurants. \nThe “Fresh Perks” giveaway  is not sponsored\, endorsed\, administered by or associated with Instagram. Entrants release Instagram and all brands of all responsibility and agree to Instagram’s terms of use. \nOne entry per Instagram user. Duplicate entries will not be considered. \nThis giveaway is open to residents of Los Angeles County.
URL:https://helmsdesigndistrict.com/event/fresh-perks-february-2026/
LOCATION:Online\, CA
CATEGORIES:Long Term Events
ATTACH;FMTTYPE=image/jpeg:https://helmsdesigndistrict.com/wp-content/uploads/2026/02/Fresh-Perks_02.2026_Horiz.jpg
END:VEVENT
BEGIN:VEVENT
DTSTART;TZID=America/Los_Angeles:20250201T080000
DTEND;TZID=America/Los_Angeles:20250212T170000
DTSTAMP:20260423T192102
CREATED:20250131T201431Z
LAST-MODIFIED:20260201T170314Z
UID:10001938-1738396800-1739379600@helmsdesigndistrict.com
SUMMARY:Fresh Perks: February Instagram Giveaway
DESCRIPTION:Pasta Sisters Ravioli Love Box\, Wine & Dessert\nEnter February 1 – February 12\nPasta Sisters LOVES pasta and February\, so what better way to celebrate than with a delicious Ravioli Love Box from Pasta Sisters during this month’s Fresh Perks Giveaway. Enter-to-Win the perfect make-at-home dinner for two: the box comes with delicious\, pillowy heart-shaped porcini raviolis and all the fixings – butter\, cheese\, and edible flowers. Plus\, you will get a bottle of Pinot Noir wine and a little sweet dessert for a Valentine’s Day dinner to remember. \nThis Fresh Perks giveaway runs from February 1st at 9:00 am through February 12th at 5:00 pm. One lucky winner will be contacted after the end of the giveaway. \nWe appreciate you for choosing Helms Design District as your go-to design hub\, your shopping destination\, and a favorite spot to dine. Thank you for spending time with us throughout the entire year and thank you for always showing up. We love seeing you! \n\nTo enter is simple: \n(1) You must Follow us on Instagram.\n(2) Tag two friends in your comment so they can follow us and enter too.\n(3) This answer isn’t mandatory\, but tell us your favorite pasta shape. \nSign up for our newsletter and automatically be entered for a second chance to win. \nPlus\, you’ll find out when the next Helms Fresh Perk drops. Good luck! \n\n		\n	 \n \n	\n		\n			ENTER ON INSTAGRAM\n		\n	 \n \n	\n		\n			\n  \n\nRules & Regs \nNo purchase is required to enter. \nWinners will be selected randomly\, contacted after each giveaway closes\, and announced in our comments on Instagram. \nOpen to US residents only\, 18 years and older.  By entering\, entrants confirm they are at least 18+ years of age. \nThis is a “GIVEAWAY” and is not eligible for return\, refund\, or exchange at any of our showrooms or restaurants. \nThe “Fresh Perks” giveaway  is not sponsored\, endorsed\, administered by or associated with Instagram. Entrants release Instagram and all brands of all responsibility and agree to Instagram’s terms of use. \nOne entry per Instagram user. Duplicate entries will not be considered. \nThis giveaway is open to residents of Los Angeles County.
URL:https://helmsdesigndistrict.com/event/fresh-perks-febuary-2025/
LOCATION:Online\, CA
CATEGORIES:Long Term Events
ATTACH;FMTTYPE=image/jpeg:https://helmsdesigndistrict.com/wp-content/uploads/2025/02/Fresh-Perks_02.2025_IGPost_1.jpg
END:VEVENT
END:VCALENDAR