BEGIN:VCALENDAR
VERSION:2.0
PRODID:-//Helms Design District - ECPv6.15.18//NONSGML v1.0//EN
CALSCALE:GREGORIAN
METHOD:PUBLISH
X-WR-CALNAME:Helms Design District
X-ORIGINAL-URL:https://helmsdesigndistrict.com
X-WR-CALDESC:Events for Helms Design District
REFRESH-INTERVAL;VALUE=DURATION:PT1H
X-Robots-Tag:noindex
X-PUBLISHED-TTL:PT1H
BEGIN:VTIMEZONE
TZID:America/Los_Angeles
BEGIN:DAYLIGHT
TZOFFSETFROM:-0800
TZOFFSETTO:-0700
TZNAME:PDT
DTSTART:20230312T100000
END:DAYLIGHT
BEGIN:STANDARD
TZOFFSETFROM:-0700
TZOFFSETTO:-0800
TZNAME:PST
DTSTART:20231105T090000
END:STANDARD
BEGIN:DAYLIGHT
TZOFFSETFROM:-0800
TZOFFSETTO:-0700
TZNAME:PDT
DTSTART:20240310T100000
END:DAYLIGHT
BEGIN:STANDARD
TZOFFSETFROM:-0700
TZOFFSETTO:-0800
TZNAME:PST
DTSTART:20241103T090000
END:STANDARD
BEGIN:DAYLIGHT
TZOFFSETFROM:-0800
TZOFFSETTO:-0700
TZNAME:PDT
DTSTART:20250309T100000
END:DAYLIGHT
BEGIN:STANDARD
TZOFFSETFROM:-0700
TZOFFSETTO:-0800
TZNAME:PST
DTSTART:20251102T090000
END:STANDARD
END:VTIMEZONE
BEGIN:VEVENT
DTSTART;TZID=America/Los_Angeles:20241109T160000
DTEND;TZID=America/Los_Angeles:20241109T180000
DTSTAMP:20260423T220051
CREATED:20241105T175214Z
LAST-MODIFIED:20241105T175214Z
UID:10001923-1731168000-1731175200@helmsdesigndistrict.com
SUMMARY:Arcana Book Launch with Photographer Patrick O'Dell
DESCRIPTION:Come one\, come all to Arcana: Books on the Arts on Saturday\, November 9th\, between 4:00 and 6:00 PM to celebrate Epicly Later’d\, the new Anthology Editions book by photographer Patrick O’Dell! \nA dizzying\, nostalgic katabasis through the simmering melting pot of early 2000s downtown NYC skaters\, artists\, actors\, musicians\, scumbags\, junkies\, geniuses\, and local legends\, Epicly Later’d is a record of a bygone\, immediately post 9-11 era of artistic innovation and productivity crossed with laissez-faire hedonism and\, above all\, friendships that transcend even death. \nThe gathering will be lubricated thanks to Arcana’s generous friends at Open Beer. \nIf you cannot attend (bummer) and would like to order a signed copy to have shipped or to pick up at the shop\, please place your order here! \nSee you then! \nUpcoming Arcana Events \nSaturday\, November 16th\, 4:00 – 6:00 PM\nLorcan O’Herlihy + Greg Goldin: Building in Place\nBook signing + Discussion \nSaturday\, November 23rd\, 4:00 – 6:00 PM\nRyan McGinley: Yearbook\nBook Signing \nSaturday\, November 21st\, 4:00 – 6:00 PM\nHuggy Bear: Killed (Of Kids)\nBook Launch
URL:https://helmsdesigndistrict.com/event/arcana-book-launch-with-photographer-patrick-odell/
LOCATION:Arcana: Books on the Arts\, 8675 Washington Blvd.\, Culver City\, CA\, 90232
CATEGORIES:News
ATTACH;FMTTYPE=image/jpeg:https://helmsdesigndistrict.com/wp-content/uploads/2024/11/Book_Event_2024.11.09-1.jpg
GEO:34.0300679;-118.3835128
X-APPLE-STRUCTURED-LOCATION;VALUE=URI;X-ADDRESS=Arcana: Books on the Arts 8675 Washington Blvd. Culver City CA 90232;X-APPLE-RADIUS=500;X-TITLE=8675 Washington Blvd.:geo:-118.3835128,34.0300679
END:VEVENT
END:VCALENDAR