BEGIN:VCALENDAR
VERSION:2.0
PRODID:-//Helms Design District - ECPv6.15.18//NONSGML v1.0//EN
CALSCALE:GREGORIAN
METHOD:PUBLISH
X-ORIGINAL-URL:https://helmsdesigndistrict.com
X-WR-CALDESC:Events for Helms Design District
REFRESH-INTERVAL;VALUE=DURATION:PT1H
X-Robots-Tag:noindex
X-PUBLISHED-TTL:PT1H
BEGIN:VTIMEZONE
TZID:America/Los_Angeles
BEGIN:DAYLIGHT
TZOFFSETFROM:-0800
TZOFFSETTO:-0700
TZNAME:PDT
DTSTART:20140309T100000
END:DAYLIGHT
BEGIN:STANDARD
TZOFFSETFROM:-0700
TZOFFSETTO:-0800
TZNAME:PST
DTSTART:20141102T090000
END:STANDARD
BEGIN:DAYLIGHT
TZOFFSETFROM:-0800
TZOFFSETTO:-0700
TZNAME:PDT
DTSTART:20150308T100000
END:DAYLIGHT
BEGIN:STANDARD
TZOFFSETFROM:-0700
TZOFFSETTO:-0800
TZNAME:PST
DTSTART:20151101T090000
END:STANDARD
BEGIN:DAYLIGHT
TZOFFSETFROM:-0800
TZOFFSETTO:-0700
TZNAME:PDT
DTSTART:20160313T100000
END:DAYLIGHT
BEGIN:STANDARD
TZOFFSETFROM:-0700
TZOFFSETTO:-0800
TZNAME:PST
DTSTART:20161106T090000
END:STANDARD
END:VTIMEZONE
BEGIN:VEVENT
DTSTART;TZID=America/Los_Angeles:20151206T190000
DTEND;TZID=America/Los_Angeles:20151206T210000
DTSTAMP:20260423T220229
CREATED:20151125T233158Z
LAST-MODIFIED:20151125T233945Z
UID:10000005-1449428400-1449435600@helmsdesigndistrict.com
SUMMARY:Helms Bakery Partners With VisionLA To Screen "Soil Carbon Cowboys"
DESCRIPTION:Join us on Sunday\, December 6th from 7:00 – 9:00pm for an evening of films including the screening of Soil Carbon Cowboys. Meet Allen Williams\, Gabe Brown and Neil Dennis – heroes and innovators! \nThese ranchers now know how to regenerate their soils while making their animals healthier and their operations more profitable. They are turning ON their soils\, enabling rainwater to sink into the earth rather than run off. And these turned ON soils retain that water\, so the ranches are much more resilient in drought. It’s an amazing story that has just begun. \n\nGuests Attending this Screening: Director Peter Byck \nScreening with: 100 Mules Walking the Los Angeles Aqueduct \nUS 2014 56 min\, Director Peter Byck \n\nParking is located at the Free Valet in the lot on Helms Avenue and Venice Boulevard. \nThe Helms Bakery Festival events run Thursday\, December 3rd through Wednesday\, December 9th.  We hope you join us for a film screening or discussion\, enjoy an art installation or theatre performance\, or come to all of the events around our campus. The Festival umbrella brings together a collective of artists who have much to share about shaping a better future. For a complete Festival calendar\, click here. \nAbout VisionLA\n The VisionLA ’15 Climate Action Arts Festival is the first-ever multi-disciplinary arts festival throughout the greater Los Angeles area organized to give artists a voice in the increasingly urgent conversation around climate change\, resource use and environmental social justice. The festival is an all-volunteer\, grassroots effort organized by artists for artists\, and for the Los Angeles community as a whole. This first year\, the festival is timed to coincide with the UN’s COP21 Global Climate Conference in Paris\, from November 30 through December 11\, to raise awareness of this important milestone in the international call for strong carbon emissions standards.
URL:https://helmsdesigndistrict.com/event/helms-bakery-partners-with-visionla-to-screen-soil-carbon-cowboys/
LOCATION:Helms Design Center\, 8745 Washington Boulevard\, Culver City\, CA\, 90232
CATEGORIES:News
ATTACH;FMTTYPE=image/gif:https://helmsdesigndistrict.com/wp-content/uploads/2015/11/Soil-Carbon-Cowboys.gif
GEO:34.0286594;-118.3857496
X-APPLE-STRUCTURED-LOCATION;VALUE=URI;X-ADDRESS=Helms Design Center 8745 Washington Boulevard Culver City CA 90232;X-APPLE-RADIUS=500;X-TITLE=8745 Washington Boulevard:geo:-118.3857496,34.0286594
END:VEVENT
END:VCALENDAR