BEGIN:VCALENDAR
VERSION:2.0
PRODID:-//Helms Design District - ECPv6.15.18//NONSGML v1.0//EN
CALSCALE:GREGORIAN
METHOD:PUBLISH
X-ORIGINAL-URL:https://helmsdesigndistrict.com
X-WR-CALDESC:Events for Helms Design District
REFRESH-INTERVAL;VALUE=DURATION:PT1H
X-Robots-Tag:noindex
X-PUBLISHED-TTL:PT1H
BEGIN:VTIMEZONE
TZID:America/Los_Angeles
BEGIN:DAYLIGHT
TZOFFSETFROM:-0800
TZOFFSETTO:-0700
TZNAME:PDT
DTSTART:20210314T100000
END:DAYLIGHT
BEGIN:STANDARD
TZOFFSETFROM:-0700
TZOFFSETTO:-0800
TZNAME:PST
DTSTART:20211107T090000
END:STANDARD
BEGIN:DAYLIGHT
TZOFFSETFROM:-0800
TZOFFSETTO:-0700
TZNAME:PDT
DTSTART:20220313T100000
END:DAYLIGHT
BEGIN:STANDARD
TZOFFSETFROM:-0700
TZOFFSETTO:-0800
TZNAME:PST
DTSTART:20221106T090000
END:STANDARD
BEGIN:DAYLIGHT
TZOFFSETFROM:-0800
TZOFFSETTO:-0700
TZNAME:PDT
DTSTART:20230312T100000
END:DAYLIGHT
BEGIN:STANDARD
TZOFFSETFROM:-0700
TZOFFSETTO:-0800
TZNAME:PST
DTSTART:20231105T090000
END:STANDARD
END:VTIMEZONE
BEGIN:VEVENT
DTSTART;TZID=America/Los_Angeles:20220813T160000
DTEND;TZID=America/Los_Angeles:20220813T180000
DTSTAMP:20260423T221454
CREATED:20220804T194948Z
LAST-MODIFIED:20220830T174928Z
UID:10000331-1660406400-1660413600@helmsdesigndistrict.com
SUMMARY:Join Arcana Books for a book signing with Peter Fetterman: The Power of Photography
DESCRIPTION:Please join us for a Book Signing and discussion with Peter Fetterman at Arcana Saturday\, August 13th\, 4:00 – 6:00 PM. \nIf you cannot attend but would like a signed copy of The Power of Photography please place your order here! \nThe power of photography lies in its ability to ignite emotions across barriers of language and culture. This selection of iconic images\, compiled by pioneering collector and gallerist Peter Fetterman\, celebrates the photograph’s unique capacity for sensibility. \nPeter has been championing the photographic arts for over 30 years. He runs what is arguably the most important commercial photography gallery in the world. During the long months of lockdown\, Peter ‘exhibited’ one photograph per day\, accompanied by inspirational text\, quotes and poetry. This digital collection struck a chord with followers from around the world. The Power of Photography presents 120 outstanding images from the series\, along with Peter’s insightful words. \nThis carefully curated selection offers an inspiring overview of the medium while paying homage to masters of the art. From the bizarre Boschian fantasies of Melvin Sokolsky to the haunting humanity of Ansel Adams’s family portraits; from Miho Kajioka’s interpretation of traditional Japanese aesthetics of to the joyful everyday scenes of Evelyn Hofer; from rare interior shots by famed nude photographer Ruth Bernhard to Bruce Davidson’s wistful depiction of young men playing ballgames on a street; this book gathers some of the most unique and heartening photographs from the 20th century. Each image is a time capsule\, offering us a glimpse into days gone past. Yet each photograph also speaks of tranquility\, peace\, and hope for the future.
URL:https://helmsdesigndistrict.com/event/peter-fetterman/
LOCATION:Arcana: Books on the Arts\, 8675 Washington Blvd.\, Culver City\, CA\, 90232
CATEGORIES:News
ATTACH;FMTTYPE=image/jpeg:https://helmsdesigndistrict.com/wp-content/uploads/2022/08/Arcana_Peter-Fetterman_1.jpg
GEO:34.0300679;-118.3835128
X-APPLE-STRUCTURED-LOCATION;VALUE=URI;X-ADDRESS=Arcana: Books on the Arts 8675 Washington Blvd. Culver City CA 90232;X-APPLE-RADIUS=500;X-TITLE=8675 Washington Blvd.:geo:-118.3835128,34.0300679
END:VEVENT
END:VCALENDAR