BEGIN:VCALENDAR
VERSION:2.0
PRODID:-//Helms Design District - ECPv6.15.18//NONSGML v1.0//EN
CALSCALE:GREGORIAN
METHOD:PUBLISH
X-WR-CALNAME:Helms Design District
X-ORIGINAL-URL:https://helmsdesigndistrict.com
X-WR-CALDESC:Events for Helms Design District
REFRESH-INTERVAL;VALUE=DURATION:PT1H
X-Robots-Tag:noindex
X-PUBLISHED-TTL:PT1H
BEGIN:VTIMEZONE
TZID:America/Los_Angeles
BEGIN:DAYLIGHT
TZOFFSETFROM:-0800
TZOFFSETTO:-0700
TZNAME:PDT
DTSTART:20150308T100000
END:DAYLIGHT
BEGIN:STANDARD
TZOFFSETFROM:-0700
TZOFFSETTO:-0800
TZNAME:PST
DTSTART:20151101T090000
END:STANDARD
BEGIN:DAYLIGHT
TZOFFSETFROM:-0800
TZOFFSETTO:-0700
TZNAME:PDT
DTSTART:20160313T100000
END:DAYLIGHT
BEGIN:STANDARD
TZOFFSETFROM:-0700
TZOFFSETTO:-0800
TZNAME:PST
DTSTART:20161106T090000
END:STANDARD
BEGIN:DAYLIGHT
TZOFFSETFROM:-0800
TZOFFSETTO:-0700
TZNAME:PDT
DTSTART:20170312T100000
END:DAYLIGHT
BEGIN:STANDARD
TZOFFSETFROM:-0700
TZOFFSETTO:-0800
TZNAME:PST
DTSTART:20171105T090000
END:STANDARD
END:VTIMEZONE
BEGIN:VEVENT
DTSTART;TZID=America/Los_Angeles:20161008T160000
DTEND;TZID=America/Los_Angeles:20161008T180000
DTSTAMP:20260423T221614
CREATED:20160927T203450Z
LAST-MODIFIED:20160927T203450Z
UID:10000114-1475942400-1475949600@helmsdesigndistrict.com
SUMMARY:Arcana Hosts A Book Signing & Discussion With Anthony Hernandez
DESCRIPTION:Free\nOn Saturday\, October 8th from 4 to 6PM\, Arcana: Books on the Arts and The Photographic Arts Council/LA invite you to a book signing with Anthony Hernandez\, in conversation with artist Thomas Demand. \nSince the early 1970s\, when he began photographing on the streets of his native Los Angeles\, Anthony Hernandez has consistently pushed his practice into uncharted territory. Challenging himself by adopting new formats and subject matter\, moving from black and white to color\, from 35mm to large-format cameras\, and from the human figure to landscapes to abstracted detail\, he has produced an unusually varied body of work united by its arresting beauty and subtle engagement with social issues. At first largely unaware of the formal traditions of the medium\, Hernandez developed his own style of street photography\, one uniquely attuned to the desolate allure and sprawling expanses of LA. \nPublished in conjunction with the photographer’s major career-spanning retrospective at SFMoMA\, Anthony Hernandez is a beautifully designed and printed hardbound catalogue featuring an introduction by Robert Adams\, texts by Erin O’Toole\, Ralph Rugoff\, Lewis Baltz\, and Anthony Hernandez\, and an extensive selection of images – including many that have until now never been exhibited or published. It represents the full range and breadth of Hernandez’ work tracing his evolution as well as highlighting continuities across his practice. \nSnacks and refreshments will be provided.
URL:https://helmsdesigndistrict.com/event/arcana-hosts-a-book-signing-discussion-with-anthony-hernandez/
LOCATION:Arcana: Books on the Arts\, 8675 Washington Blvd.\, Culver City\, CA\, 90232
CATEGORIES:News
ATTACH;FMTTYPE=image/gif:https://helmsdesigndistrict.com/wp-content/uploads/2016/09/Arcana-16.10.08.gif
GEO:34.0300679;-118.3835128
X-APPLE-STRUCTURED-LOCATION;VALUE=URI;X-ADDRESS=Arcana: Books on the Arts 8675 Washington Blvd. Culver City CA 90232;X-APPLE-RADIUS=500;X-TITLE=8675 Washington Blvd.:geo:-118.3835128,34.0300679
END:VEVENT
END:VCALENDAR