BEGIN:VCALENDAR
VERSION:2.0
PRODID:-//Helms Design District - ECPv6.15.18//NONSGML v1.0//EN
CALSCALE:GREGORIAN
METHOD:PUBLISH
X-ORIGINAL-URL:https://helmsdesigndistrict.com
X-WR-CALDESC:Events for Helms Design District
REFRESH-INTERVAL;VALUE=DURATION:PT1H
X-Robots-Tag:noindex
X-PUBLISHED-TTL:PT1H
BEGIN:VTIMEZONE
TZID:America/Los_Angeles
BEGIN:DAYLIGHT
TZOFFSETFROM:-0800
TZOFFSETTO:-0700
TZNAME:PDT
DTSTART:20150308T100000
END:DAYLIGHT
BEGIN:STANDARD
TZOFFSETFROM:-0700
TZOFFSETTO:-0800
TZNAME:PST
DTSTART:20151101T090000
END:STANDARD
BEGIN:DAYLIGHT
TZOFFSETFROM:-0800
TZOFFSETTO:-0700
TZNAME:PDT
DTSTART:20160313T100000
END:DAYLIGHT
BEGIN:STANDARD
TZOFFSETFROM:-0700
TZOFFSETTO:-0800
TZNAME:PST
DTSTART:20161106T090000
END:STANDARD
BEGIN:DAYLIGHT
TZOFFSETFROM:-0800
TZOFFSETTO:-0700
TZNAME:PDT
DTSTART:20170312T100000
END:DAYLIGHT
BEGIN:STANDARD
TZOFFSETFROM:-0700
TZOFFSETTO:-0800
TZNAME:PST
DTSTART:20171105T090000
END:STANDARD
END:VTIMEZONE
BEGIN:VEVENT
DTSTART;TZID=America/Los_Angeles:20161118T180000
DTEND;TZID=America/Los_Angeles:20161118T200000
DTSTAMP:20260424T003734
CREATED:20161114T191854Z
LAST-MODIFIED:20161114T191854Z
UID:10000140-1479492000-1479499200@helmsdesigndistrict.com
SUMMARY:Arcana Books Celebrates Ari Marcopoulos With A Double Book Signing
DESCRIPTION:Free\nOn Friday\, November 18th from 6:00 to 8:00PM\, please join Arcana: Books on the Arts for a double book signing of Ari Marcopoulos: Not Yet and Rome – Malibu. \nNewly published by Rizzoli\, Not Yet is the definitive publication on the work of Ari Marcopoulos. For nearly four decades this renowned photographer whose explicit and startling visual intimacy bridging art and street photography has broken conventions with his candid and raw style. His images documenting subcultures such as skateboarding\, snowboarding\, and hip-hop; his tendencies to photograph stark landscapes\, portraits of artists\, and celebrities; and his extremely quiet and intimate pictures of his family and friends have all been hugely influential in helping to establish the visual rawness of youth culture\, as well as the ephemeral aesthetic of contemporary photography. Ari Marcopoulos: Not Yet is an unprecedented journey through the artist’s celebrated career including both iconic and never-before-published photographs from the 1980s to now. Each chapter is edited by a different celebrated artist or family member close to Marcopoulos\, and it is through these personal reflections on the artist’s work that this monograph takes on a deeper level of intimacy\, drawing a more complete portrait of his oeuvre. \nRome – Malibu from Amsterdam’s Roma Publications presents photographs taken this year by Ari Marcopoulos in Rome and Malibu\, and features a textual contribution by Kara Walker: “Rome. (…) Here\, no image or structure is complete without symbolic framing devices\, which also require framing devices\, and so on. Ad infinitum. Malibu. Rockstars and fallen rocks and the edge\, here is where the European conquest of the New World meets its fountain of youth endgame. We have reached the end\, and it is vast.”
URL:https://helmsdesigndistrict.com/event/arcana-books-celebrates-ari-marcopoulos-with-a-double-book-signing/
CATEGORIES:News
ATTACH;FMTTYPE=image/jpeg:https://helmsdesigndistrict.com/wp-content/uploads/2016/11/Book-Signing-16.11.18.jpg
END:VEVENT
END:VCALENDAR