BEGIN:VCALENDAR
VERSION:2.0
PRODID:-//Helms Design District - ECPv6.15.18//NONSGML v1.0//EN
CALSCALE:GREGORIAN
METHOD:PUBLISH
X-ORIGINAL-URL:https://helmsdesigndistrict.com
X-WR-CALDESC:Events for Helms Design District
REFRESH-INTERVAL;VALUE=DURATION:PT1H
X-Robots-Tag:noindex
X-PUBLISHED-TTL:PT1H
BEGIN:VTIMEZONE
TZID:America/Los_Angeles
BEGIN:DAYLIGHT
TZOFFSETFROM:-0800
TZOFFSETTO:-0700
TZNAME:PDT
DTSTART:20160313T100000
END:DAYLIGHT
BEGIN:STANDARD
TZOFFSETFROM:-0700
TZOFFSETTO:-0800
TZNAME:PST
DTSTART:20161106T090000
END:STANDARD
BEGIN:DAYLIGHT
TZOFFSETFROM:-0800
TZOFFSETTO:-0700
TZNAME:PDT
DTSTART:20170312T100000
END:DAYLIGHT
BEGIN:STANDARD
TZOFFSETFROM:-0700
TZOFFSETTO:-0800
TZNAME:PST
DTSTART:20171105T090000
END:STANDARD
BEGIN:DAYLIGHT
TZOFFSETFROM:-0800
TZOFFSETTO:-0700
TZNAME:PDT
DTSTART:20180311T100000
END:DAYLIGHT
BEGIN:STANDARD
TZOFFSETFROM:-0700
TZOFFSETTO:-0800
TZNAME:PST
DTSTART:20181104T090000
END:STANDARD
END:VTIMEZONE
BEGIN:VEVENT
DTSTART;TZID=America/Los_Angeles:20170223T183000
DTEND;TZID=America/Los_Angeles:20170223T203000
DTSTAMP:20260423T232035
CREATED:20170217T221837Z
LAST-MODIFIED:20170217T224537Z
UID:10000156-1487874600-1487881800@helmsdesigndistrict.com
SUMMARY:Cal Poly LA Metro Program Hosts Pita & Bloom Inside the Helms Design Center
DESCRIPTION:Free\nOn Thursday\, February 23 from 6:30 – 8:30pm\, Helms Bakery District is pleased to present a reception\, lecture\, and discussion with Florencia Pita nd Jackilin Bloom of Pita and Bloom\, in collaboration with the Cal Poly LA Metro Program in Architecture and Urban Design. The evening will be introduced and moderated by Stephen Phillips\, AIA\, PhD\, Principal of Stephen Phillips Architects (SPARCHS) and professor\, director\, Cal Poly LA Metro Program in Architecture and Urban Design (California Polytechnic State University\, San Luis Obispo). \nThe event is FREE and Open to the Public. Please RSVP to calpolylametro@gmail.com. Free Parking is available at the Valet located on the corner of Helms Avenue and Venice Boulevard. \nUPCOMING SCHEDULE: \nSaturday\, February 25th: Patrick Tighe of Patrick Tighe Architecture\nTuesday\, March 14th: Tom Wiscombe of Tom Wiscombe Architecture\nTuesday\, April 4th: B+U Architects\nThursday\, April 20th: Heather Roberge of Murmur \nAbout the Architects \nPita & Bloom\nPita & Bloom is an architectural research and design collaborative based in Los Angeles. Started in 2010 by Florencia Pita and Jackilin Hah Bloom to test ideas on their shared notions of color\, form\, and material applications\, Pita & Bloom aims to represent attitudes of contemporary culture while addressing each project’s specific challenges. Their projects to date include speculative cultural buildings\, indoor and outdoor environments\, social housing in Mexico\, as well as objects to be viewed or used. In 2014\, Pita & Bloom were called “two female visionaries” in Architecture Magazine’s Next Progressives\, and they were selected as one of five finalists of the MoMA PS1 YAP competition. Recently they were selected as one of twelve teams to represent the U.S. Pavilion’s exhibit\, The Architectural Imagination\, at the 2016 Venice Architecture Biennale.
URL:https://helmsdesigndistrict.com/event/cal-poly-la-metro-program-hosts-pita-bloom-inside-the-helms-design-center/
LOCATION:Helms Design Center\, 8745 Washington Boulevard\, Culver City\, CA\, 90232
CATEGORIES:News
ATTACH;FMTTYPE=image/png:https://helmsdesigndistrict.com/wp-content/uploads/2017/02/Pita-Bloom-1.png
GEO:34.0286594;-118.3857496
X-APPLE-STRUCTURED-LOCATION;VALUE=URI;X-ADDRESS=Helms Design Center 8745 Washington Boulevard Culver City CA 90232;X-APPLE-RADIUS=500;X-TITLE=8745 Washington Boulevard:geo:-118.3857496,34.0286594
END:VEVENT
END:VCALENDAR