BEGIN:VCALENDAR
VERSION:2.0
PRODID:-//Helms Design District - ECPv6.15.18//NONSGML v1.0//EN
CALSCALE:GREGORIAN
METHOD:PUBLISH
X-WR-CALNAME:Helms Design District
X-ORIGINAL-URL:https://helmsdesigndistrict.com
X-WR-CALDESC:Events for Helms Design District
REFRESH-INTERVAL;VALUE=DURATION:PT1H
X-Robots-Tag:noindex
X-PUBLISHED-TTL:PT1H
BEGIN:VTIMEZONE
TZID:America/Los_Angeles
BEGIN:DAYLIGHT
TZOFFSETFROM:-0800
TZOFFSETTO:-0700
TZNAME:PDT
DTSTART:20200308T100000
END:DAYLIGHT
BEGIN:STANDARD
TZOFFSETFROM:-0700
TZOFFSETTO:-0800
TZNAME:PST
DTSTART:20201101T090000
END:STANDARD
BEGIN:DAYLIGHT
TZOFFSETFROM:-0800
TZOFFSETTO:-0700
TZNAME:PDT
DTSTART:20210314T100000
END:DAYLIGHT
BEGIN:STANDARD
TZOFFSETFROM:-0700
TZOFFSETTO:-0800
TZNAME:PST
DTSTART:20211107T090000
END:STANDARD
BEGIN:DAYLIGHT
TZOFFSETFROM:-0800
TZOFFSETTO:-0700
TZNAME:PDT
DTSTART:20220313T100000
END:DAYLIGHT
BEGIN:STANDARD
TZOFFSETFROM:-0700
TZOFFSETTO:-0800
TZNAME:PST
DTSTART:20221106T090000
END:STANDARD
END:VTIMEZONE
BEGIN:VEVENT
DTSTART;TZID=America/Los_Angeles:20211104T190000
DTEND;TZID=America/Los_Angeles:20211104T203000
DTSTAMP:20260424T003503
CREATED:20210821T190537Z
LAST-MODIFIED:20211026T221739Z
UID:10000445-1636052400-1636057800@helmsdesigndistrict.com
SUMMARY:A Conversation with Architect-Filmmaker-Futurist Liam Young
DESCRIPTION:Free\nPlanet City — a Radical Solution to Climate Destruction \nOn Thursday\, November 4th from 7:00 to 8:30 pm\, Textile Arts | Los Angeles and Helms Bakery District invite you to hear Liam Young\, in conversation with Frances Anderton and Benjamin Bratton at the Helms Design Center. \nRSVP HERE\nForget carbon taxes and global commitments to use renewables. Climate change demands bigger solutions\, like moving all ten billion people on earth to one giant city\, leaving the rest of the world to return to the wild\, free from human predation. That’s the vision laid out by Liam Young\, architect-filmmaker-futurist\, in his new film and book\, Planet City\, showcasing a future world in which flora\, fauna and humankind coexist in the Anthropocene\, divided between an uber-megalopolis and a “new national park of the world.” \nYoung will talk about his visionary thought experiment — and the questions it poses about the environment and our place in it — with Frances Anderton\, design reporter and curator\, and Benjamin Bratton\, founder of the design research program The Terraforming\, Professor of Visual Arts at UC San Diego\, and contributor to the Planet City book. \nA meet and greet with Young and Bratton will follow the talk. \nPlanet City was commissioned by the National Gallery of Victoria for the NGV Triennial. Catch Liam’s TEDMonterey Talk here.
URL:https://helmsdesigndistrict.com/event/frances-anderton-in-conversation-with-liam-young/
LOCATION:Helms Design Center\, 8745 Washington Boulevard\, Culver City\, CA\, 90232
CATEGORIES:News
ATTACH;FMTTYPE=image/jpeg:https://helmsdesigndistrict.com/wp-content/uploads/2021/08/liamyoung_zerowasteweavers_1200px.jpg
GEO:34.0286594;-118.3857496
X-APPLE-STRUCTURED-LOCATION;VALUE=URI;X-ADDRESS=Helms Design Center 8745 Washington Boulevard Culver City CA 90232;X-APPLE-RADIUS=500;X-TITLE=8745 Washington Boulevard:geo:-118.3857496,34.0286594
END:VEVENT
END:VCALENDAR