BEGIN:VCALENDAR
VERSION:2.0
PRODID:-//Helms Design District - ECPv6.15.18//NONSGML v1.0//EN
CALSCALE:GREGORIAN
METHOD:PUBLISH
X-ORIGINAL-URL:https://helmsdesigndistrict.com
X-WR-CALDESC:Events for Helms Design District
REFRESH-INTERVAL;VALUE=DURATION:PT1H
X-Robots-Tag:noindex
X-PUBLISHED-TTL:PT1H
BEGIN:VTIMEZONE
TZID:America/Los_Angeles
BEGIN:DAYLIGHT
TZOFFSETFROM:-0800
TZOFFSETTO:-0700
TZNAME:PDT
DTSTART:20180311T100000
END:DAYLIGHT
BEGIN:STANDARD
TZOFFSETFROM:-0700
TZOFFSETTO:-0800
TZNAME:PST
DTSTART:20181104T090000
END:STANDARD
BEGIN:DAYLIGHT
TZOFFSETFROM:-0800
TZOFFSETTO:-0700
TZNAME:PDT
DTSTART:20190310T100000
END:DAYLIGHT
BEGIN:STANDARD
TZOFFSETFROM:-0700
TZOFFSETTO:-0800
TZNAME:PST
DTSTART:20191103T090000
END:STANDARD
BEGIN:DAYLIGHT
TZOFFSETFROM:-0800
TZOFFSETTO:-0700
TZNAME:PDT
DTSTART:20200308T100000
END:DAYLIGHT
BEGIN:STANDARD
TZOFFSETFROM:-0700
TZOFFSETTO:-0800
TZNAME:PST
DTSTART:20201101T090000
END:STANDARD
END:VTIMEZONE
BEGIN:VEVENT
DTSTART;TZID=America/Los_Angeles:20191029T183000
DTEND;TZID=America/Los_Angeles:20191029T210000
DTSTAMP:20260423T204227
CREATED:20191008T162553Z
LAST-MODIFIED:20191008T162553Z
UID:10000345-1572373800-1572382800@helmsdesigndistrict.com
SUMMARY:Share Your Story During the October 29th Textile Slam!
DESCRIPTION:On Tuesday\, October 29th from 6:30 to 9:00 pm\, please join Textile Arts Los Angeles (TALA) for an evening of conversation\, good food\, and short presentations.  Have a story to tell about your work\, someone else’s work\, a show you saw\, an idea or a process that intrigues you? Apply to present a 6 minute talk or slide show at the next Textile Slam! \nHere’s how it work: \nTextile Slam! is an opportunity for friendly conversation and networking\, featuring a rotating slate of presenters\, each of whom will deliver an informal six-minute (or less) presentation. \nTALA invites members\, artists\, designers\, architects\, educators\, and all-around neat thinkers to talk about their work\, ideas that interest them\, or projects they are exploring. \nThe Slam! is a casual\, community\, conversation-oriented event. \nSCHEDULE\n6:30 Arrivals and Conversation\n7:00 Dinner\n7:30 Presentations Begin\n9:00 Evening Ends \nSix spaces are available: applications are due no later than midnight Friday\, October 19.  \nCocktails\, dinner\, and program: $45 members; $60 non-members; students + concessions $25 \nAlthough there is no application fee to present; all attendees and presenters must purchase a ticket for the Slam!
URL:https://helmsdesigndistrict.com/event/share-your-story-during-the-october-29th-textile-slam/
LOCATION:Helms Design Center\, 8745 Washington Boulevard\, Culver City\, CA\, 90232
CATEGORIES:News
ATTACH;FMTTYPE=image/gif:https://helmsdesigndistrict.com/wp-content/uploads/2019/10/TALA-Slam-web.gif
GEO:34.0286594;-118.3857496
X-APPLE-STRUCTURED-LOCATION;VALUE=URI;X-ADDRESS=Helms Design Center 8745 Washington Boulevard Culver City CA 90232;X-APPLE-RADIUS=500;X-TITLE=8745 Washington Boulevard:geo:-118.3857496,34.0286594
END:VEVENT
END:VCALENDAR