BEGIN:VCALENDAR
VERSION:2.0
PRODID:-//Helms Design District - ECPv6.15.18//NONSGML v1.0//EN
CALSCALE:GREGORIAN
METHOD:PUBLISH
X-WR-CALNAME:Helms Design District
X-ORIGINAL-URL:https://helmsdesigndistrict.com
X-WR-CALDESC:Events for Helms Design District
REFRESH-INTERVAL;VALUE=DURATION:PT1H
X-Robots-Tag:noindex
X-PUBLISHED-TTL:PT1H
BEGIN:VTIMEZONE
TZID:America/Los_Angeles
BEGIN:DAYLIGHT
TZOFFSETFROM:-0800
TZOFFSETTO:-0700
TZNAME:PDT
DTSTART:20230312T100000
END:DAYLIGHT
BEGIN:STANDARD
TZOFFSETFROM:-0700
TZOFFSETTO:-0800
TZNAME:PST
DTSTART:20231105T090000
END:STANDARD
BEGIN:DAYLIGHT
TZOFFSETFROM:-0800
TZOFFSETTO:-0700
TZNAME:PDT
DTSTART:20240310T100000
END:DAYLIGHT
BEGIN:STANDARD
TZOFFSETFROM:-0700
TZOFFSETTO:-0800
TZNAME:PST
DTSTART:20241103T090000
END:STANDARD
BEGIN:DAYLIGHT
TZOFFSETFROM:-0800
TZOFFSETTO:-0700
TZNAME:PDT
DTSTART:20250309T100000
END:DAYLIGHT
BEGIN:STANDARD
TZOFFSETFROM:-0700
TZOFFSETTO:-0800
TZNAME:PST
DTSTART:20251102T090000
END:STANDARD
END:VTIMEZONE
BEGIN:VEVENT
DTSTART;TZID=America/Los_Angeles:20241121T074500
DTEND;TZID=America/Los_Angeles:20241121T093000
DTSTAMP:20260423T194458
CREATED:20241105T173958Z
LAST-MODIFIED:20241105T173958Z
UID:10001922-1732175100-1732181400@helmsdesigndistrict.com
SUMMARY:Racial Justice and Land Use: Where are we today?
DESCRIPTION:In the past four years\, the movement toward land reparations and racial equity has gained unprecedented momentum in Los Angeles— a city marked by land use practices that have exacerbated racial inequalities and robbed communities of color of opportunities to build generational wealth. As the city\, county\, and state explore reparative measures through groundbreaking reports and task forces\, there is a critical window of opportunity to address these injustices. \nJoin Westside Urban Forum on Thursday\, November 21st at 7:45 am\, for an informative panel discussion to explore the intersections of reparations and land use\, with a focus on restrictive covenants\, eminent domain\, and pathways to justice for the affected families and communities. This event will provide a high-level overview of the land use history\, current reparative efforts and case studies. \nModerator\nTony Tolbert\, Professor at UCLA School of Law \nPanelists\nCaroline Torosis\, Councilmember\, City of Santa Monica\nEric J. Miller\, Professor and Leo J. O’Brien Fellow at Loyola Law School \nAdditional speakers to be announced shortly \nEvent Time \n7:45 am – 9:30 am\n7:45 am – Registration & Light Breakfast\n8:15 am – Panel Discussion \nParking is available in any of the Helms Bakery District lots. \nRSVP Required \nMember Tickets\nNON-MEMBER TICKETS\nFREE RSVP (Student\, Public Sector & Retired Members)\nRegistration Fees\n$25 Members\n$65 Nonmembers\nFREE Student\, Public Sector Employee\, and Retired Members \nPre-registration closes on Wednesday\, November 20th. \nContact\ninfo@westsideurbanforum.com
URL:https://helmsdesigndistrict.com/event/racial-justice-and-land-use-where-are-we-today/
LOCATION:Helms Design Center\, 8745 Washington Boulevard\, Culver City\, CA\, 90232
CATEGORIES:News
ATTACH;FMTTYPE=image/png:https://helmsdesigndistrict.com/wp-content/uploads/2024/11/WUF_Event_Image_2024.11.21-e1730828310164.png
GEO:34.0286594;-118.3857496
X-APPLE-STRUCTURED-LOCATION;VALUE=URI;X-ADDRESS=Helms Design Center 8745 Washington Boulevard Culver City CA 90232;X-APPLE-RADIUS=500;X-TITLE=8745 Washington Boulevard:geo:-118.3857496,34.0286594
END:VEVENT
END:VCALENDAR