BEGIN:VCALENDAR
VERSION:2.0
PRODID:-//Helms Design District - ECPv6.15.18//NONSGML v1.0//EN
CALSCALE:GREGORIAN
METHOD:PUBLISH
X-ORIGINAL-URL:https://helmsdesigndistrict.com
X-WR-CALDESC:Events for Helms Design District
REFRESH-INTERVAL;VALUE=DURATION:PT1H
X-Robots-Tag:noindex
X-PUBLISHED-TTL:PT1H
BEGIN:VTIMEZONE
TZID:America/Los_Angeles
BEGIN:DAYLIGHT
TZOFFSETFROM:-0800
TZOFFSETTO:-0700
TZNAME:PDT
DTSTART:20220313T100000
END:DAYLIGHT
BEGIN:STANDARD
TZOFFSETFROM:-0700
TZOFFSETTO:-0800
TZNAME:PST
DTSTART:20221106T090000
END:STANDARD
BEGIN:DAYLIGHT
TZOFFSETFROM:-0800
TZOFFSETTO:-0700
TZNAME:PDT
DTSTART:20230312T100000
END:DAYLIGHT
BEGIN:STANDARD
TZOFFSETFROM:-0700
TZOFFSETTO:-0800
TZNAME:PST
DTSTART:20231105T090000
END:STANDARD
BEGIN:DAYLIGHT
TZOFFSETFROM:-0800
TZOFFSETTO:-0700
TZNAME:PDT
DTSTART:20240310T100000
END:DAYLIGHT
BEGIN:STANDARD
TZOFFSETFROM:-0700
TZOFFSETTO:-0800
TZNAME:PST
DTSTART:20241103T090000
END:STANDARD
END:VTIMEZONE
BEGIN:VEVENT
DTSTART;TZID=America/Los_Angeles:20230624T150000
DTEND;TZID=America/Los_Angeles:20230624T160000
DTSTAMP:20260424T002224
CREATED:20230613T181223Z
LAST-MODIFIED:20230614T195243Z
UID:10001820-1687618800-1687622400@helmsdesigndistrict.com
SUMMARY:Foresight\, Futuring\, and Prospective Design
DESCRIPTION:Free \nNu Goteh of Deem Journal in conversation with Radha Mistry about foresight as practice and industry.\nRadha Mistry is Arup’s Americas Foresight Leader and an Associate Principal in the Los Angeles office. Radha’s background spans architecture\, narrative environments\, and strategic foresight and she has been a leading voice in the development of foresight both in professional practice and academia\, building foresight fluency across organizations like Autodesk\, where she served as Foresight leader\, and working with executive leadership to drive key foresight-led initiatives. Radha serves on the Foresight Advisory Council for the Middle East Institute and teaches as part-time faculty on the MFA Transdisciplinary Design program at The New School (Parsons) and the DesignMBA program at the California College of the Arts. \nHelms Design Center\n8745 Washington Blvd\, Culver City\, CA 90232
URL:https://helmsdesigndistrict.com/event/foresight-futuring-and-prospective-design/
LOCATION:Helms Design Center\, 8745 Washington Boulevard\, Culver City\, CA\, 90232
CATEGORIES:News
ATTACH;FMTTYPE=image/jpeg:https://helmsdesigndistrict.com/wp-content/uploads/2023/06/LADF-Radha-IG-2.jpg
GEO:34.0286594;-118.3857496
X-APPLE-STRUCTURED-LOCATION;VALUE=URI;X-ADDRESS=Helms Design Center 8745 Washington Boulevard Culver City CA 90232;X-APPLE-RADIUS=500;X-TITLE=8745 Washington Boulevard:geo:-118.3857496,34.0286594
END:VEVENT
END:VCALENDAR