BEGIN:VCALENDAR
VERSION:2.0
PRODID:-//Helms Design District - ECPv6.15.18//NONSGML v1.0//EN
CALSCALE:GREGORIAN
METHOD:PUBLISH
X-ORIGINAL-URL:https://helmsdesigndistrict.com
X-WR-CALDESC:Events for Helms Design District
REFRESH-INTERVAL;VALUE=DURATION:PT1H
X-Robots-Tag:noindex
X-PUBLISHED-TTL:PT1H
BEGIN:VTIMEZONE
TZID:America/Los_Angeles
BEGIN:DAYLIGHT
TZOFFSETFROM:-0800
TZOFFSETTO:-0700
TZNAME:PDT
DTSTART:20150308T100000
END:DAYLIGHT
BEGIN:STANDARD
TZOFFSETFROM:-0700
TZOFFSETTO:-0800
TZNAME:PST
DTSTART:20151101T090000
END:STANDARD
BEGIN:DAYLIGHT
TZOFFSETFROM:-0800
TZOFFSETTO:-0700
TZNAME:PDT
DTSTART:20160313T100000
END:DAYLIGHT
BEGIN:STANDARD
TZOFFSETFROM:-0700
TZOFFSETTO:-0800
TZNAME:PST
DTSTART:20161106T090000
END:STANDARD
BEGIN:DAYLIGHT
TZOFFSETFROM:-0800
TZOFFSETTO:-0700
TZNAME:PDT
DTSTART:20170312T100000
END:DAYLIGHT
BEGIN:STANDARD
TZOFFSETFROM:-0700
TZOFFSETTO:-0800
TZNAME:PST
DTSTART:20171105T090000
END:STANDARD
END:VTIMEZONE
BEGIN:VEVENT
DTSTART;TZID=America/Los_Angeles:20160903T191500
DTEND;TZID=America/Los_Angeles:20160903T213000
DTSTAMP:20260421T070946
CREATED:20160720T005200Z
LAST-MODIFIED:20160901T214113Z
UID:10000092-1472930100-1472938200@helmsdesigndistrict.com
SUMMARY:Helms Sunset Cinema: RAIDERS OF THE LOST ARK
DESCRIPTION:We invite you to join us on Helms Walk\, our pedestrian plaza on Helms Avenue\, for our 7th Annual Sunset Cinema series. This year\, we are craving a little action and adventure so we’ll host four weeks of outdoor screenings of some of our favorite classic action/adventure/sci-fi films. First up in our series: RAIDERS OF THE LOST ARK. Come by early to shop\, grab a bite or get a movie snack to go. We’ll provide plenty of chairs\, so bring your friends and neighbors for a little free fun under the stars! Free Valet parking on Helms Avenue and Venice Boulevard. \n\nRAIDERS OF THE LOST ARK \n1981 | Rated PG | Runtime: 115 Min \nIndiana Jones (Harrison Ford) is no ordinary archeologist. When we first see him\, he is somewhere in the Peruvian jungle in 1936\, running a booby-trapped gauntlet (complete with an over-sized rolling boulder) to fetch a solid-gold idol. He loses this artifact to his chief rival\, a French archeologist named Belloq (Paul Freeman)\, who then prepares to kill our hero. In the first of many serial-like escapes\, Indy eludes Belloq throughout the film and takes the audience on a 115-minute thrill ride. \n\nSPECIAL PRE-MOVIE GUEST: \nROSIES Foundation will be bringing the ROSIES Bus to Helms Avenue from 4 to 7pm\, featuring an exclusive Frozen Yogurt sandwich from The Bigg Chill and Enjoyer Popsicles. Both of these products are made available from ROSIES partners who support their mission. ROSIES creates employment opportunities that empower people with diverse abilities through professional development and social enterprise. \nThe ROSIE bus features a special party-karaoke system where guests can sing along to their favorite songs as they order their desserts before the movie begins. ROSIES employees facilitate the karaoke experience\, helping to spread awareness about everyone’s diverse abilities. We can’t wait to welcome ROSIES Foundation and rock out with you Saturday nights in September!
URL:https://helmsdesigndistrict.com/event/helms-sunset-cinema-raiders-of-the-lost-ark/
LOCATION:Helms Walk\, 3270 Helms Avenue\, Los Angeles\, CA\, 90034
CATEGORIES:News
ATTACH;FMTTYPE=image/jpeg:https://helmsdesigndistrict.com/wp-content/uploads/2016/07/0004351.jpg
GEO:34.0306591;-118.384688
X-APPLE-STRUCTURED-LOCATION;VALUE=URI;X-ADDRESS=Helms Walk 3270 Helms Avenue Los Angeles CA 90034;X-APPLE-RADIUS=500;X-TITLE=3270 Helms Avenue:geo:-118.384688,34.0306591
END:VEVENT
END:VCALENDAR