BEGIN:VCALENDAR
VERSION:2.0
PRODID:-//Helms Design District - ECPv6.15.18//NONSGML v1.0//EN
CALSCALE:GREGORIAN
METHOD:PUBLISH
X-WR-CALNAME:Helms Design District
X-ORIGINAL-URL:https://helmsdesigndistrict.com
X-WR-CALDESC:Events for Helms Design District
REFRESH-INTERVAL;VALUE=DURATION:PT1H
X-Robots-Tag:noindex
X-PUBLISHED-TTL:PT1H
BEGIN:VTIMEZONE
TZID:America/Los_Angeles
BEGIN:DAYLIGHT
TZOFFSETFROM:-0800
TZOFFSETTO:-0700
TZNAME:PDT
DTSTART:20160313T100000
END:DAYLIGHT
BEGIN:STANDARD
TZOFFSETFROM:-0700
TZOFFSETTO:-0800
TZNAME:PST
DTSTART:20161106T090000
END:STANDARD
BEGIN:DAYLIGHT
TZOFFSETFROM:-0800
TZOFFSETTO:-0700
TZNAME:PDT
DTSTART:20170312T100000
END:DAYLIGHT
BEGIN:STANDARD
TZOFFSETFROM:-0700
TZOFFSETTO:-0800
TZNAME:PST
DTSTART:20171105T090000
END:STANDARD
BEGIN:DAYLIGHT
TZOFFSETFROM:-0800
TZOFFSETTO:-0700
TZNAME:PDT
DTSTART:20180311T100000
END:DAYLIGHT
BEGIN:STANDARD
TZOFFSETFROM:-0700
TZOFFSETTO:-0800
TZNAME:PST
DTSTART:20181104T090000
END:STANDARD
BEGIN:DAYLIGHT
TZOFFSETFROM:-0800
TZOFFSETTO:-0700
TZNAME:PDT
DTSTART:20190310T100000
END:DAYLIGHT
BEGIN:STANDARD
TZOFFSETFROM:-0700
TZOFFSETTO:-0800
TZNAME:PST
DTSTART:20191103T090000
END:STANDARD
BEGIN:DAYLIGHT
TZOFFSETFROM:-0800
TZOFFSETTO:-0700
TZNAME:PDT
DTSTART:20200308T100000
END:DAYLIGHT
BEGIN:STANDARD
TZOFFSETFROM:-0700
TZOFFSETTO:-0800
TZNAME:PST
DTSTART:20201101T090000
END:STANDARD
BEGIN:DAYLIGHT
TZOFFSETFROM:-0800
TZOFFSETTO:-0700
TZNAME:PDT
DTSTART:20210314T100000
END:DAYLIGHT
BEGIN:STANDARD
TZOFFSETFROM:-0700
TZOFFSETTO:-0800
TZNAME:PST
DTSTART:20211107T090000
END:STANDARD
BEGIN:DAYLIGHT
TZOFFSETFROM:-0800
TZOFFSETTO:-0700
TZNAME:PDT
DTSTART:20220313T100000
END:DAYLIGHT
BEGIN:STANDARD
TZOFFSETFROM:-0700
TZOFFSETTO:-0800
TZNAME:PST
DTSTART:20221106T090000
END:STANDARD
BEGIN:DAYLIGHT
TZOFFSETFROM:-0800
TZOFFSETTO:-0700
TZNAME:PDT
DTSTART:20230312T100000
END:DAYLIGHT
BEGIN:STANDARD
TZOFFSETFROM:-0700
TZOFFSETTO:-0800
TZNAME:PST
DTSTART:20231105T090000
END:STANDARD
BEGIN:DAYLIGHT
TZOFFSETFROM:-0800
TZOFFSETTO:-0700
TZNAME:PDT
DTSTART:20240310T100000
END:DAYLIGHT
BEGIN:STANDARD
TZOFFSETFROM:-0700
TZOFFSETTO:-0800
TZNAME:PST
DTSTART:20241103T090000
END:STANDARD
BEGIN:DAYLIGHT
TZOFFSETFROM:-0800
TZOFFSETTO:-0700
TZNAME:PDT
DTSTART:20250309T100000
END:DAYLIGHT
BEGIN:STANDARD
TZOFFSETFROM:-0700
TZOFFSETTO:-0800
TZNAME:PST
DTSTART:20251102T090000
END:STANDARD
END:VTIMEZONE
BEGIN:VEVENT
DTSTART;TZID=America/Los_Angeles:20240420T130000
DTEND;TZID=America/Los_Angeles:20240420T150000
DTSTAMP:20260423T154211
CREATED:20240411T202533Z
LAST-MODIFIED:20240417T203223Z
UID:10001886-1713618000-1713625200@helmsdesigndistrict.com
SUMMARY:Join Rejuvenation for a Conversation with Designer Anita Yokota
DESCRIPTION:On Saturday\, April 20th from 1:00 to 3:00 pm\, Rejuvenation welcomes Anita Yokota\, author of the acclaimed book Home Therapy for a conversation with practical tips on refreshing your home effortlessly. From optimizing lighting to choosing the right cabinet hardware\, Anita will delve into the transformative power of fresh air\, mirrors\, and decor. Stick around for a Q&A session that is sure to help you achieve your home refresh goals. Anita’s book will be available for purchase during the event. What a great way to enjoy a little Earth Day fun! \nABOUT ANITA\nAnita Yokota\, author of the acclaimed book “Home Therapy\,” infuses vibrant energy into her designs\, employing intentional color schemes and thoughtful layouts. Her signature style seamlessly blends high-end and budget-friendly design solutions\, offering a refreshing take on timeless aesthetics. A master at layering textiles\, Anita skillfully integrates patterns and textures to infuse depth and harmony into every home. \nSince the inception of her blog in 2016\, Anita has garnered a dedicated following drawn to her relatable\, positive demeanor and innate design sensibilities\, evident across Instagram\, Pinterest\, and her website. Through numerous DIY projects and successful renovations\, this former therapist turned designer has developed a methodology that prioritizes the relationships at the core of each home\, a focal point explored in her book\, “Home Therapy!” \nAdditionally\, Anita hosts the popular podcast “Home Therapy\, with Anita Yokota” where she shares insightful tips and interviews experts in the field of design\, home organization\, mental health and more! \nAnita\, a Southern California resident\, shares her vibrant home with her three lively daughters—Rachel\, Emily\, and Natalie. Alongside Travis\, aka “Mr. Meticulous\,” her DIY/GC husband\, Anita continuously explores innovative techniques for creating a more organized and intentional at-home experience. \n 
URL:https://helmsdesigndistrict.com/event/join-rejuvenation-for-a-conversation-with-designer-anita-yokota/
LOCATION:Rejuvenation\, 8780 Venice Boulevard\, Los Angeles\, CA\, 90034\, United States
CATEGORIES:News
ATTACH;FMTTYPE=image/jpeg:https://helmsdesigndistrict.com/wp-content/uploads/2024/04/Anita_Yokota.jpg
GEO:34.0308259;-118.3845144
X-APPLE-STRUCTURED-LOCATION;VALUE=URI;X-ADDRESS=Rejuvenation 8780 Venice Boulevard Los Angeles CA 90034 United States;X-APPLE-RADIUS=500;X-TITLE=8780 Venice Boulevard:geo:-118.3845144,34.0308259
END:VEVENT
BEGIN:VEVENT
DTSTART;TZID=America/Los_Angeles:20240113T120000
DTEND;TZID=America/Los_Angeles:20240113T170000
DTSTAMP:20260423T154211
CREATED:20240111T191600Z
LAST-MODIFIED:20240111T213618Z
UID:10001863-1705147200-1705165200@helmsdesigndistrict.com
SUMMARY:Helms Avenue Sidewalk Sale this Saturday
DESCRIPTION:On Saturday\, January 13th from 12:00 to 5:00 PM\, please visit our retailers during a special Helms Avenue Sidewalk Sale\, with incredible savings featured at this pop up event on our pedestrian plaza\, with additional in-store\, online and special-order items available. Additional sales and promotions are located inside our Helms Bakery showrooms. Please see retailers for more details. \nHD Buttercup | Coco Republic not only completed a BIG showroom redesign\, is hosting their famous Half Yearly Sale\, but will pop up outside on Helms Avenue for one day only with not-to-be-missed items for your home. You’ll have to venture inside their showroom to see the rest of the sale\, which is literally everything! \nFeatured items from HD Buttercup include the Montauk Dining Armchair and the Tribeca Emerald Side Table.  \nThe Rug Warehouse has many rugs being deeply discounted during their Semi-Annual Sale\, including a late 19th century antique Lavar Kerman carpet. See the rug experts for additional items on sale in-store. \nRejuvenation is making way for new 2024 designs inside their showroom so their tent will be chock full of sale items to select from\, including a Monrowe Chair in luscious brown leather\, tables\, mirrors and more! \nHarbour Outdoor has a big online sale in full swing\, but they are offering special discount orders on their Loop Sun Lounge\, $2295 and on sale for $1606\, their Pacific Dining Chair\, $750\, on sale for $524\, and their Pacific Angled Sun Lounge\, $1795 on sale for $1256. Don’t miss out on this one-day-only offer.
URL:https://helmsdesigndistrict.com/event/sidewalk-sale/
LOCATION:Helms Walk\, 3270 Helms Avenue\, Los Angeles\, CA\, 90034
CATEGORIES:News
ATTACH;FMTTYPE=image/jpeg:https://helmsdesigndistrict.com/wp-content/uploads/2024/01/SidewalkSale_011124_1000px.jpg
GEO:34.0306591;-118.384688
X-APPLE-STRUCTURED-LOCATION;VALUE=URI;X-ADDRESS=Helms Walk 3270 Helms Avenue Los Angeles CA 90034;X-APPLE-RADIUS=500;X-TITLE=3270 Helms Avenue:geo:-118.384688,34.0306591
END:VEVENT
BEGIN:VEVENT
DTSTART;TZID=America/Los_Angeles:20230623T140000
DTEND;TZID=America/Los_Angeles:20230623T180000
DTSTAMP:20260423T154211
CREATED:20230613T171043Z
LAST-MODIFIED:20230615T221812Z
UID:10001815-1687528800-1687543200@helmsdesigndistrict.com
SUMMARY:Helms Bakery District Open Studio Tours
DESCRIPTION:Free \nJoin the Helms Bakery District Showrooms for open studio tours.\nExperience the latest interior and exterior collections from the Helms Bakery District showrooms and retailers. View the latest introductions and seek one-on-one guidance from the Helms design experts. The following showrooms and retailers will participate in Open Studios from 2:00-6:00 pm on Friday\, June 23rd. \nArcana | Books on the Arts\nCisco Home | Furniture Showroom\nH.D. Buttercup | Coco Republic | Furniture & Homewares\nKOHLER Signature Store | Bathroom Fixtures & Home Accessories\nRejuvenation | Hardware\, Lighting and Furniture\nRoom & Board | Home Furnishing\, Retail\nThe Rug Warehouse | Fine Rugs and Carpets\nThe Shade Store | Window Treatment\nThe Splash Lab | Commercial Sinks\, Fixtures\, and Accessories Showroom
URL:https://helmsdesigndistrict.com/event/open-studio-tours/
LOCATION:Helms Design Center\, 8745 Washington Boulevard\, Culver City\, CA\, 90232
CATEGORIES:News
ATTACH;FMTTYPE=image/jpeg:https://helmsdesigndistrict.com/wp-content/uploads/2023/06/HelmsOlympicsSign_DR_1080px.jpg
GEO:34.0286594;-118.3857496
X-APPLE-STRUCTURED-LOCATION;VALUE=URI;X-ADDRESS=Helms Design Center 8745 Washington Boulevard Culver City CA 90232;X-APPLE-RADIUS=500;X-TITLE=8745 Washington Boulevard:geo:-118.3857496,34.0286594
END:VEVENT
BEGIN:VEVENT
DTSTART;TZID=America/Los_Angeles:20191124T130000
DTEND;TZID=America/Los_Angeles:20191124T160000
DTSTAMP:20260423T154211
CREATED:20191122T001247Z
LAST-MODIFIED:20191122T001247Z
UID:10000353-1574600400-1574611200@helmsdesigndistrict.com
SUMMARY:Rejuvenation Hosts a Wreath-Making Workshop with Claire Thomas
DESCRIPTION:On Sunday\, November 24th from 1:00 to 4:00 pm\, please join Rejuvenation in welcoming Claire Thomas – designer\, author\, and co-owner of Sweet Laurel Bakery – and learn how to create a fresh\, festive wreath to welcome guests for the holidays. Fuel your creativity while sipping on hand-crafted mocktails from Hi-Lo Liquor and gather inspiration for your holiday gatherings from the textures\, tones\, and elegant lighting inside the showroom. \nWreaths are FREE to make and yours to take home! Please RSVP to secure a space.  \nHelp for the Holidays\nYou will also have the opportunity to participate in Rejuvenation’s Thanks and Giving campaign for St Jude’s Children’s Hospital. The Los Angeles store goal of $4500 serves to provide hope\, healing\, and love to families of childhood cancer. The campaign runs from  November 8th to December 8th.
URL:https://helmsdesigndistrict.com/event/rejuvenation-hosts-a-wreath-making-workshop-with-claire-thomas/
LOCATION:Rejuvenation\, 8780 Venice Boulevard\, Los Angeles\, CA\, 90034\, United States
CATEGORIES:News
ATTACH;FMTTYPE=image/jpeg:https://helmsdesigndistrict.com/wp-content/uploads/2019/11/Claire-Thomas-Wreath-Event-web.jpg
GEO:34.0308259;-118.3845144
X-APPLE-STRUCTURED-LOCATION;VALUE=URI;X-ADDRESS=Rejuvenation 8780 Venice Boulevard Los Angeles CA 90034 United States;X-APPLE-RADIUS=500;X-TITLE=8780 Venice Boulevard:geo:-118.3845144,34.0308259
END:VEVENT
BEGIN:VEVENT
DTSTART;TZID=America/Los_Angeles:20180722T120000
DTEND;TZID=America/Los_Angeles:20180722T170000
DTSTAMP:20260423T154211
CREATED:20180717T172502Z
LAST-MODIFIED:20180717T172502Z
UID:10000253-1532260800-1532278800@helmsdesigndistrict.com
SUMMARY:Get Your Garden in Shape! Modernica and Mickey's Plants Pop Up At Rejuvenation
DESCRIPTION:Free\nOn Sunday\, July 22 from 12 to 5 pm\, join Rejuvenation  for two FREE workshops with Modernica and Mickey Hargitay Plants. \nModernica and Mickey’s Plants will provide their expertise on choosing the right greenery for your planter\, plus tips and tricks on plant care during the workshops. Drop-in workshops will take place at 1:00pm and 2:00pm. \nSave 20% on all Modernica planters during this event! \n 
URL:https://helmsdesigndistrict.com/event/get-your-garden-in-shape-modernica-and-mickeys-plants-pop-up-at-rejuvenation/
LOCATION:Rejuvenation\, 8780 Venice Boulevard\, Los Angeles\, CA\, 90034\, United States
CATEGORIES:News
ATTACH;FMTTYPE=image/jpeg:https://helmsdesigndistrict.com/wp-content/uploads/2018/07/Modernica-2.jpg
GEO:34.0308259;-118.3845144
X-APPLE-STRUCTURED-LOCATION;VALUE=URI;X-ADDRESS=Rejuvenation 8780 Venice Boulevard Los Angeles CA 90034 United States;X-APPLE-RADIUS=500;X-TITLE=8780 Venice Boulevard:geo:-118.3845144,34.0308259
END:VEVENT
BEGIN:VEVENT
DTSTART;TZID=America/Los_Angeles:20180419T180000
DTEND;TZID=America/Los_Angeles:20180419T200000
DTSTAMP:20260423T154211
CREATED:20180404T164923Z
LAST-MODIFIED:20180413T224540Z
UID:10000104-1524160800-1524168000@helmsdesigndistrict.com
SUMMARY:Fireclay Tile Pops Into Rejuvenation for a Home Design Celebration
DESCRIPTION:Calling all Design Professionals! \nOn Thursday\, April 19 from 6 to 8 pm\, please join Rejuvenation and Fireclay Tile for cocktails and thoughtful conversation about in-home design. Share your restoration and renovation ideas with experts from all areas of the design industry. Please RSVP.
URL:https://helmsdesigndistrict.com/event/fireclay-tile-pops-into-rejuvenation-for-a-home-design-celebration/
LOCATION:Rejuvenation\, 8780 Venice Boulevard\, Los Angeles\, CA\, 90034\, United States
CATEGORIES:News
ATTACH;FMTTYPE=image/jpeg:https://helmsdesigndistrict.com/wp-content/uploads/2018/03/Fireclay-Rejuvenation-event.jpg
GEO:34.0308259;-118.3845144
X-APPLE-STRUCTURED-LOCATION;VALUE=URI;X-ADDRESS=Rejuvenation 8780 Venice Boulevard Los Angeles CA 90034 United States;X-APPLE-RADIUS=500;X-TITLE=8780 Venice Boulevard:geo:-118.3845144,34.0308259
END:VEVENT
BEGIN:VEVENT
DTSTART;TZID=America/Los_Angeles:20171207T173000
DTEND;TZID=America/Los_Angeles:20171207T200000
DTSTAMP:20260423T154211
CREATED:20171130T194627Z
LAST-MODIFIED:20171206T003437Z
UID:10000204-1512667800-1512676800@helmsdesigndistrict.com
SUMMARY:Join Rejuvenation for a Holiday Launch Party with Hillery Sproatt
DESCRIPTION:Free\nOn Thursday\, December 7th from 5:30 to 8 pm\, stop into the Rejuvenation showroom for an evening of complimentary wine\, live music\, exclusive shopping perks\, and to meet one of their new designer collaborators\, Hillery Sproatt. \nHillery will be holding a watercolor workshop providing everything you need to paint your own one-of-a-kind holiday cards. \nMark your calendars\, and RSVP here!
URL:https://helmsdesigndistrict.com/event/join-rejuvenation-for-a-holiday-launch-party-with-hillery-sproatt/
LOCATION:Rejuvenation\, 8780 Venice Boulevard\, Los Angeles\, CA\, 90034\, United States
CATEGORIES:News
ATTACH;FMTTYPE=image/jpeg:https://helmsdesigndistrict.com/wp-content/uploads/2017/11/Hillery-Sproatt.jpg
GEO:34.0308259;-118.3845144
X-APPLE-STRUCTURED-LOCATION;VALUE=URI;X-ADDRESS=Rejuvenation 8780 Venice Boulevard Los Angeles CA 90034 United States;X-APPLE-RADIUS=500;X-TITLE=8780 Venice Boulevard:geo:-118.3845144,34.0308259
END:VEVENT
BEGIN:VEVENT
DTSTART;TZID=America/Los_Angeles:20170831T180000
DTEND;TZID=America/Los_Angeles:20170831T200000
DTSTAMP:20260423T154211
CREATED:20170825T224219Z
LAST-MODIFIED:20170825T224219Z
UID:10000176-1504202400-1504209600@helmsdesigndistrict.com
SUMMARY:Rejuvenation Hosts "Modern Royal" with designer Ryan Saghian
DESCRIPTION:On Thursday\, August 31st from 6 to 8PM\, please join Rejuvenation in hosting Ryan Saghian\, one of Beverly Hills’ rising stars of interior and furniture design. He will be presenting a pop-up capsule collection featuring new selections from his own line\, vintage pieces\, and Rejuvenation furnishings that remind him of what the Persian Royal family residence might look like today had they continued their reign. \nCome catch Ryan’s exuberance and truly modern take on a “more is more” maximalist tradition. Persian teas\, light bites and good design!
URL:https://helmsdesigndistrict.com/event/rejuvenation-hosts-modern-royal-with-designer-ryan-saghian/
LOCATION:Rejuvenation\, 8780 Venice Boulevard\, Los Angeles\, CA\, 90034\, United States
CATEGORIES:News
ATTACH;FMTTYPE=image/png:https://helmsdesigndistrict.com/wp-content/uploads/2017/08/Ryan-Saghian.png
GEO:34.0308259;-118.3845144
X-APPLE-STRUCTURED-LOCATION;VALUE=URI;X-ADDRESS=Rejuvenation 8780 Venice Boulevard Los Angeles CA 90034 United States;X-APPLE-RADIUS=500;X-TITLE=8780 Venice Boulevard:geo:-118.3845144,34.0308259
END:VEVENT
BEGIN:VEVENT
DTSTART;TZID=America/Los_Angeles:20170610T120000
DTEND;TZID=America/Los_Angeles:20170610T180000
DTSTAMP:20260423T154211
CREATED:20170511T222827Z
LAST-MODIFIED:20170511T232529Z
UID:10000162-1497096000-1497117600@helmsdesigndistrict.com
SUMMARY:This Modern Life: A Design Field Day at Helms Bakery
DESCRIPTION:Welcome to This Modern Life: Embracing Life’s Imperfections\, a campus-wide day of design celebrating the Japanese tradition of wabi-sabi\, the art of recognizing beauty in imperfection. Participating showrooms and stores will feature workshops\, demonstrations\, tastings\, sweepstakes and special guests! Plus Local Mercato and Beautiful Things L.A. pop-up for one day only. Pick up a map at the information booth on Helms Walk and explore! Complete info on our dedicated event page. \nFree Valet Parking by the Rejuvenation showroom at Helms and Venice. \n#thismodernlife
URL:https://helmsdesigndistrict.com/event/this-modern-life-2017/
LOCATION:Helms Design District\, 8800 Venice Blvd.\, Los Angeles\, CA\, 90034\, United States
CATEGORIES:News
ATTACH;FMTTYPE=image/jpeg:https://helmsdesigndistrict.com/wp-content/uploads/2015/04/HelmsBakery_ThisModernLife2017_600px.jpg
GEO:34.0306792;-118.3851538
X-APPLE-STRUCTURED-LOCATION;VALUE=URI;X-ADDRESS=Helms Design District 8800 Venice Blvd. Los Angeles CA 90034 United States;X-APPLE-RADIUS=500;X-TITLE=8800 Venice Blvd.:geo:-118.3851538,34.0306792
END:VEVENT
BEGIN:VEVENT
DTSTART;TZID=America/Los_Angeles:20170601T070000
DTEND;TZID=America/Los_Angeles:20170601T220000
DTSTAMP:20260423T154211
CREATED:20170525T011825Z
LAST-MODIFIED:20170525T011825Z
UID:10000165-1496300400-1496354400@helmsdesigndistrict.com
SUMMARY:Rejuvenation Hosts a Reception with Cheyenne Parker
DESCRIPTION:Free\nOn Thursday\, June 1st from 7 to 10 PM\, Rejuvenation hosts an opening reception for Black Room\, an installation featuring the work of designer\, collector\, artist\, model\, LGBT influencer and Fire Island reality star\, Cheyenne Parker. A portion of proceeds will benefit LA LGBT homeless youth programs\, a cause close to Cheyenne’s heart. The installation will remain in-store until June 3rd. \n  \n  \n  \n 
URL:https://helmsdesigndistrict.com/event/rejuvenation-hosts-a-reception-with-cheyenne-parker/
LOCATION:Rejuvenation\, 8780 Venice Boulevard\, Los Angeles\, CA\, 90034\, United States
CATEGORIES:News
ATTACH;FMTTYPE=image/jpeg:https://helmsdesigndistrict.com/wp-content/uploads/2017/05/Rejuve-2-17.06.01.jpg
GEO:34.0308259;-118.3845144
X-APPLE-STRUCTURED-LOCATION;VALUE=URI;X-ADDRESS=Rejuvenation 8780 Venice Boulevard Los Angeles CA 90034 United States;X-APPLE-RADIUS=500;X-TITLE=8780 Venice Boulevard:geo:-118.3845144,34.0308259
END:VEVENT
END:VCALENDAR