BEGIN:VCALENDAR
VERSION:2.0
PRODID:-//Helms Design District - ECPv6.15.18//NONSGML v1.0//EN
CALSCALE:GREGORIAN
METHOD:PUBLISH
X-ORIGINAL-URL:https://helmsdesigndistrict.com
X-WR-CALDESC:Events for Helms Design District
REFRESH-INTERVAL;VALUE=DURATION:PT1H
X-Robots-Tag:noindex
X-PUBLISHED-TTL:PT1H
BEGIN:VTIMEZONE
TZID:America/Los_Angeles
BEGIN:DAYLIGHT
TZOFFSETFROM:-0800
TZOFFSETTO:-0700
TZNAME:PDT
DTSTART:20180311T100000
END:DAYLIGHT
BEGIN:STANDARD
TZOFFSETFROM:-0700
TZOFFSETTO:-0800
TZNAME:PST
DTSTART:20181104T090000
END:STANDARD
BEGIN:DAYLIGHT
TZOFFSETFROM:-0800
TZOFFSETTO:-0700
TZNAME:PDT
DTSTART:20190310T100000
END:DAYLIGHT
BEGIN:STANDARD
TZOFFSETFROM:-0700
TZOFFSETTO:-0800
TZNAME:PST
DTSTART:20191103T090000
END:STANDARD
BEGIN:DAYLIGHT
TZOFFSETFROM:-0800
TZOFFSETTO:-0700
TZNAME:PDT
DTSTART:20200308T100000
END:DAYLIGHT
BEGIN:STANDARD
TZOFFSETFROM:-0700
TZOFFSETTO:-0800
TZNAME:PST
DTSTART:20201101T090000
END:STANDARD
END:VTIMEZONE
BEGIN:VEVENT
DTSTART;TZID=America/Los_Angeles:20190326T190000
DTEND;TZID=America/Los_Angeles:20190326T210000
DTSTAMP:20260424T002233
CREATED:20190227T011322Z
LAST-MODIFIED:20190312T201151Z
UID:10000290-1553626800-1553634000@helmsdesigndistrict.com
SUMMARY:Join Angel City Press and Robert Inman for a Conversation + Book Signing
DESCRIPTION:Free\nOn Tuesday\, March 26\, from 7 to 9 pm\, please join us for a conversation with Robert Inman in celebration of the (re)launch of The Architectural Guidebook to Los Angeles. \nThe map may not be the territory\, and the word may not be the thing\, but this guide is as close as it gets. \nSince its first publication by the Los Angeles County Museum of Art in 1965\, this seminal vade mecum of Los Angeles architecture has explored every rich potency of the often relentless\, but sometimes—as the authors have captured here—relenting L.A. cityscape. Revised extensively and updated rigorously since its fifth edition published in 2003\, The Architectural Guidebook to Los Angeles now contains ninety-six sections organized in thirteen geographic chapters\, boasting over 200 new additions to over thousands of entries cataloging every crease of Los Angeles County’s metropolitan sheath. \nOriginally written by leading architectural historians Robert Winter—described by Los Angeles Magazine as both the “spiritual godfather” and “father” of L.A. architecture—and the late\, great David Gebhard\, the guide has been revised and edited for a sixth edition by award-winning L.A. urban walker and Winter’s trusted collaborator Robert Inman. Nathan Masters\, historian and Emmy-award-winning host\, producer\, and managing editor of KCET’s Lost LA \, writes the foreword. \nThe Architectural Guidebook to Los Angeles\, hailed by many as the built L.A. opus\, explores the manmade structures\, gardens\, parks\, and other physical features of a fulgurous Los Angeles. With singular wit and brio\, the authors artfully steward readers through all regions and styles\, from the Spanish Mexican Period to Postmodern\, American Take-over to High Tech\, and Beaux-Arts to Craftsman. Sites covered begin with the missions of Spanish California and end with projects completed in 2017. \nDr. Robert W. Winter (1924–2019)Lauded as a “Guru\,” “Father\,” and “Godfather” of Los Angeles architecture\, Dr. Robert W. Winter was a renowned historian of fabricated California. Born in Indianapolis\, Indiana in 1924\, Winter received his doctorate from Johns Hopkins University and went on to teach at Dartmouth College\, then UCLA\, before spending thirty-one years as the Arthur G. Coons Professor of the History of Ideas at Occidental College\, where he retired in 1994. In addition to his seminal work\, An Architectural Guidebook to Los Angeles\, written initially with David Gebhard in 1965 and now in its sixth edition\, Winter’s most notable books include\, Craftsman Style (2004) and The California Bungalow (1980). \nDr. David Gebhard (1927–1996) was a preeminent architectural historian and preservationist. After a long career teaching at UC Santa Barbara\, he is remembered through his many written contributions to both the field writ large and his preservation efforts in both Santa Barbara and Pasadena. \nRobert Inman is the author of A Guide to the Stairways of Los Angeles (2008) and Finding Los Angeles by Foot: Stairstreet\, Bridge\, Pathway\, and Lane (2013). A native son of Los Angeles\, he is an award-winning urban walker and frequent collaborator of his mentor\, Dr. Robert W. Winter.
URL:https://helmsdesigndistrict.com/event/4762/
LOCATION:Helms Design Center\, 8745 Washington Boulevard\, Culver City\, CA\, 90232
CATEGORIES:News
ATTACH;FMTTYPE=image/jpeg:https://helmsdesigndistrict.com/wp-content/uploads/2019/02/Arch-Guidebook-e1551400285828.jpg
GEO:34.0286594;-118.3857496
X-APPLE-STRUCTURED-LOCATION;VALUE=URI;X-ADDRESS=Helms Design Center 8745 Washington Boulevard Culver City CA 90232;X-APPLE-RADIUS=500;X-TITLE=8745 Washington Boulevard:geo:-118.3857496,34.0286594
END:VEVENT
END:VCALENDAR