BEGIN:VCALENDAR
VERSION:2.0
PRODID:-//Helms Design District - ECPv6.15.18//NONSGML v1.0//EN
CALSCALE:GREGORIAN
METHOD:PUBLISH
X-WR-CALNAME:Helms Design District
X-ORIGINAL-URL:https://helmsdesigndistrict.com
X-WR-CALDESC:Events for Helms Design District
REFRESH-INTERVAL;VALUE=DURATION:PT1H
X-Robots-Tag:noindex
X-PUBLISHED-TTL:PT1H
BEGIN:VTIMEZONE
TZID:America/Los_Angeles
BEGIN:DAYLIGHT
TZOFFSETFROM:-0800
TZOFFSETTO:-0700
TZNAME:PDT
DTSTART:20210314T100000
END:DAYLIGHT
BEGIN:STANDARD
TZOFFSETFROM:-0700
TZOFFSETTO:-0800
TZNAME:PST
DTSTART:20211107T090000
END:STANDARD
BEGIN:DAYLIGHT
TZOFFSETFROM:-0800
TZOFFSETTO:-0700
TZNAME:PDT
DTSTART:20220313T100000
END:DAYLIGHT
BEGIN:STANDARD
TZOFFSETFROM:-0700
TZOFFSETTO:-0800
TZNAME:PST
DTSTART:20221106T090000
END:STANDARD
BEGIN:DAYLIGHT
TZOFFSETFROM:-0800
TZOFFSETTO:-0700
TZNAME:PDT
DTSTART:20230312T100000
END:DAYLIGHT
BEGIN:STANDARD
TZOFFSETFROM:-0700
TZOFFSETTO:-0800
TZNAME:PST
DTSTART:20231105T090000
END:STANDARD
END:VTIMEZONE
BEGIN:VEVENT
DTSTART;TZID=America/Los_Angeles:20221203T160000
DTEND;TZID=America/Los_Angeles:20221203T180000
DTSTAMP:20260423T233242
CREATED:20221118T160318Z
LAST-MODIFIED:20221118T173544Z
UID:10000439-1670083200-1670090400@helmsdesigndistrict.com
SUMMARY:Book Signing at Arcana with Roger Davies: Beyond The Canyon: Inside Epic California Homes
DESCRIPTION:Please join us at Arcana: Books on the Arts on Saturday\, December 3rd\, 4:00 – 6:00 PM\, for a book signing \nRoger Davies: Beyond The Canyon: Inside Epic California Homes\nWe are delighted to invite you to attend a special book signing with Roger Davies. \nIf you cannot attend but would like a signed copy\, please call Arcana at 310-458-1499. \nFor more than twenty years\, globe-trotting English-born\, Los Angeles-based photographer Roger Davies has shot stunning\, luxurious\, unique\, and storied residences by the world’s most acclaimed designers and architects for the most prestigious magazines. In “Beyond The Canyon”\, he trains his camera on residences in the Golden State\, his adopted home\, driving the coast to shoot interiors from Malibu to Marin County\, Laurel Canyon to Hollywood. Granted unparalleled access\, Davies takes readers into the often glamorous\, always compelling homes of the artists\, film producers\, actors\, musicians\, interior designers\, art collectors\, and others who lend the West Coast its cachet. Across the variety of spaces represented – among them legacy works by midcentury masters John Lautner\, A. Quincy Jones\, and Craig Ellwood\, and contemporary designs by Tadao Ando and Frank Gehry – he captures the essence of California living in his portraits of spectacular spaces and breathtaking views of the Hollywood Hills and palm tree-lined beaches\, all bathed in a warm glow. As one of the world’s top photographers of interiors\, Davies’s work has appeared in many interior design and architecture monographs. In “Beyond The Canyon”\, his own first book\, he provides in his own words a rare behind-the-scenes\, industry insider’s experience of photographing the stunning residences.
URL:https://helmsdesigndistrict.com/event/roger-davies/
LOCATION:Arcana: Books on the Arts\, 8675 Washington Blvd.\, Culver City\, CA\, 90232
CATEGORIES:News
ATTACH;FMTTYPE=image/jpeg:https://helmsdesigndistrict.com/wp-content/uploads/2022/11/Roger-Davies_event-pics_5.jpg
GEO:34.0300679;-118.3835128
X-APPLE-STRUCTURED-LOCATION;VALUE=URI;X-ADDRESS=Arcana: Books on the Arts 8675 Washington Blvd. Culver City CA 90232;X-APPLE-RADIUS=500;X-TITLE=8675 Washington Blvd.:geo:-118.3835128,34.0300679
END:VEVENT
END:VCALENDAR