BEGIN:VCALENDAR
VERSION:2.0
PRODID:-//Helms Design District - ECPv6.15.18//NONSGML v1.0//EN
CALSCALE:GREGORIAN
METHOD:PUBLISH
X-ORIGINAL-URL:https://helmsdesigndistrict.com
X-WR-CALDESC:Events for Helms Design District
REFRESH-INTERVAL;VALUE=DURATION:PT1H
X-Robots-Tag:noindex
X-PUBLISHED-TTL:PT1H
BEGIN:VTIMEZONE
TZID:America/Los_Angeles
BEGIN:DAYLIGHT
TZOFFSETFROM:-0800
TZOFFSETTO:-0700
TZNAME:PDT
DTSTART:20180311T100000
END:DAYLIGHT
BEGIN:STANDARD
TZOFFSETFROM:-0700
TZOFFSETTO:-0800
TZNAME:PST
DTSTART:20181104T090000
END:STANDARD
BEGIN:DAYLIGHT
TZOFFSETFROM:-0800
TZOFFSETTO:-0700
TZNAME:PDT
DTSTART:20190310T100000
END:DAYLIGHT
BEGIN:STANDARD
TZOFFSETFROM:-0700
TZOFFSETTO:-0800
TZNAME:PST
DTSTART:20191103T090000
END:STANDARD
BEGIN:DAYLIGHT
TZOFFSETFROM:-0800
TZOFFSETTO:-0700
TZNAME:PDT
DTSTART:20200308T100000
END:DAYLIGHT
BEGIN:STANDARD
TZOFFSETFROM:-0700
TZOFFSETTO:-0800
TZNAME:PST
DTSTART:20201101T090000
END:STANDARD
END:VTIMEZONE
BEGIN:VEVENT
DTSTART;TZID=America/Los_Angeles:20191109T160000
DTEND;TZID=America/Los_Angeles:20191109T180000
DTSTAMP:20260423T190346
CREATED:20191030T225926Z
LAST-MODIFIED:20191030T225926Z
UID:10000351-1573315200-1573322400@helmsdesigndistrict.com
SUMMARY:Arcana Books Welcomes Architects Marmol Radziner
DESCRIPTION:Free\nOn Saturday\, November 9th from 4:00 to 6:00 pm\, please join Arcana: Books on the Arts in welcoming Leo Marmol\, Ron Radziner and Mayer Rus for a book signing and discussion of their new release\, Site: Marmol Radziner in the Landscape.  \nCombining style with substance\, this lavish monograph from Princeton Architectural Press is an engaging document of nineteen homes drawn from twenty years of work. For the event principal partners Leo Marmol and Ron Radziner – who maintain an envious reference library\, even by Arcana’s standards – will discuss the firm’s history and projects\, and the making of their new book with the West Coast editor of AD\, critic and historian Mayer Rus. \nThe spectacular houses of Marmol Radziner merge interior and exterior life as they engage the built and natural environment. With lush photography and an expansive format\, Site: Marmol Radziner in the Landscape focuses on the evolving relationship between house and landscape\, revealing what the architects describe as “the gradual erasure of boundaries between indoor and outdoor” spaces. \nThis collection of nineteen houses\, shown in over two-hundred full-color photographs that will make readers swoon\, is organized by habitat – desert\, urban\, canyon\, and woodland – and includes projects in Southern California\, Arizona\, Utah\, Nevada\, and the Netherlands. A foreword by novelist Mona Simpson provides a personal reflection on her experiences in a Marmol Radziner house\, while an interview with partners Leo Marmol and Ron Radziner and detailed descriptions of their projects offer insights into the architects’ philosophy and process.
URL:https://helmsdesigndistrict.com/event/arcana-books-welcomes-architects-marmol-radziner/
LOCATION:Arcana: Books on the Arts\, 8675 Washington Blvd.\, Culver City\, CA\, 90232
CATEGORIES:News
ATTACH;FMTTYPE=image/jpeg:https://helmsdesigndistrict.com/wp-content/uploads/2019/10/Arcana-19.11.09.jpg
GEO:34.0300679;-118.3835128
X-APPLE-STRUCTURED-LOCATION;VALUE=URI;X-ADDRESS=Arcana: Books on the Arts 8675 Washington Blvd. Culver City CA 90232;X-APPLE-RADIUS=500;X-TITLE=8675 Washington Blvd.:geo:-118.3835128,34.0300679
END:VEVENT
END:VCALENDAR