BEGIN:VCALENDAR
VERSION:2.0
PRODID:-//Helms Design District - ECPv6.15.18//NONSGML v1.0//EN
CALSCALE:GREGORIAN
METHOD:PUBLISH
X-ORIGINAL-URL:https://helmsdesigndistrict.com
X-WR-CALDESC:Events for Helms Design District
REFRESH-INTERVAL;VALUE=DURATION:PT1H
X-Robots-Tag:noindex
X-PUBLISHED-TTL:PT1H
BEGIN:VTIMEZONE
TZID:America/Los_Angeles
BEGIN:DAYLIGHT
TZOFFSETFROM:-0800
TZOFFSETTO:-0700
TZNAME:PDT
DTSTART:20220313T100000
END:DAYLIGHT
BEGIN:STANDARD
TZOFFSETFROM:-0700
TZOFFSETTO:-0800
TZNAME:PST
DTSTART:20221106T090000
END:STANDARD
BEGIN:DAYLIGHT
TZOFFSETFROM:-0800
TZOFFSETTO:-0700
TZNAME:PDT
DTSTART:20230312T100000
END:DAYLIGHT
BEGIN:STANDARD
TZOFFSETFROM:-0700
TZOFFSETTO:-0800
TZNAME:PST
DTSTART:20231105T090000
END:STANDARD
BEGIN:DAYLIGHT
TZOFFSETFROM:-0800
TZOFFSETTO:-0700
TZNAME:PDT
DTSTART:20240310T100000
END:DAYLIGHT
BEGIN:STANDARD
TZOFFSETFROM:-0700
TZOFFSETTO:-0800
TZNAME:PST
DTSTART:20241103T090000
END:STANDARD
END:VTIMEZONE
BEGIN:VEVENT
DTSTART;TZID=America/Los_Angeles:20230623T160000
DTEND;TZID=America/Los_Angeles:20230623T170000
DTSTAMP:20260423T190102
CREATED:20230609T204246Z
LAST-MODIFIED:20230613T180647Z
UID:10001177-1687536000-1687539600@helmsdesigndistrict.com
SUMMARY:Illusionistic Design: Art Informed by the Visual and Emotional Effects of Color
DESCRIPTION:Free \nCurated by Saatchi Art\nWe will discuss the ways in which artists use principles of color theory to inform their art practice and ultimately how that affects the design space in which the artwork is placed. We will explore how color is able to evoke profound sensations\, stir emotions\, and communicate ideas and how artists harness the power of color to create visually captivating and emotionally resonant works. \nSpeakers: Kelsey Overstreet / Jayes Caitlin / Seda Saar \nHelms Design Center\n8745 Washington Blvd\, Culver City\, CA 90232\nJune 23\, 2023 | 4 pm – 5 pm
URL:https://helmsdesigndistrict.com/event/illusionistic-design/
LOCATION:Helms Design Center\, 8745 Washington Boulevard\, Culver City\, CA\, 90232
CATEGORIES:News
ATTACH;FMTTYPE=image/gif:https://helmsdesigndistrict.com/wp-content/uploads/2023/06/Saatchi-2023-Illusionistic-Design.gif
GEO:34.0286594;-118.3857496
X-APPLE-STRUCTURED-LOCATION;VALUE=URI;X-ADDRESS=Helms Design Center 8745 Washington Boulevard Culver City CA 90232;X-APPLE-RADIUS=500;X-TITLE=8745 Washington Boulevard:geo:-118.3857496,34.0286594
END:VEVENT
END:VCALENDAR