BEGIN:VCALENDAR
VERSION:2.0
PRODID:-//Helms Design District - ECPv6.15.18//NONSGML v1.0//EN
CALSCALE:GREGORIAN
METHOD:PUBLISH
X-WR-CALNAME:Helms Design District
X-ORIGINAL-URL:https://helmsdesigndistrict.com
X-WR-CALDESC:Events for Helms Design District
REFRESH-INTERVAL;VALUE=DURATION:PT1H
X-Robots-Tag:noindex
X-PUBLISHED-TTL:PT1H
BEGIN:VTIMEZONE
TZID:America/Los_Angeles
BEGIN:DAYLIGHT
TZOFFSETFROM:-0800
TZOFFSETTO:-0700
TZNAME:PDT
DTSTART:20170312T100000
END:DAYLIGHT
BEGIN:STANDARD
TZOFFSETFROM:-0700
TZOFFSETTO:-0800
TZNAME:PST
DTSTART:20171105T090000
END:STANDARD
BEGIN:DAYLIGHT
TZOFFSETFROM:-0800
TZOFFSETTO:-0700
TZNAME:PDT
DTSTART:20180311T100000
END:DAYLIGHT
BEGIN:STANDARD
TZOFFSETFROM:-0700
TZOFFSETTO:-0800
TZNAME:PST
DTSTART:20181104T090000
END:STANDARD
BEGIN:DAYLIGHT
TZOFFSETFROM:-0800
TZOFFSETTO:-0700
TZNAME:PDT
DTSTART:20190310T100000
END:DAYLIGHT
BEGIN:STANDARD
TZOFFSETFROM:-0700
TZOFFSETTO:-0800
TZNAME:PST
DTSTART:20191103T090000
END:STANDARD
END:VTIMEZONE
BEGIN:VEVENT
DTSTART;TZID=America/Los_Angeles:20180609T160000
DTEND;TZID=America/Los_Angeles:20180609T180000
DTSTAMP:20260424T003622
CREATED:20180604T222035Z
LAST-MODIFIED:20180604T222035Z
UID:10000238-1528560000-1528567200@helmsdesigndistrict.com
SUMMARY:Arcana Books Celebrates Shaniqwa Jarvis' First Book
DESCRIPTION:Free\nOn Saturday\, June 9th from 4:00 to 6:00 pm\, head over to Arcana: Books on the Arts to meet Shaniqwa Jarvis and celebrate the arrival of her fabulous new book! \nShaniqwa Jarvis’ first book Shaniqwa Jarvis presents one hundred and sixty pages of editorial and personal work spanning two decades drawn from the photographer’s archive. This lovely hardbound volume published by Baque Creative features an introduction by photographer Ryan McGinley accompanied by a meticulous selection of pictures from her favorite personal series such as “Bathroom Portraits” – shot in the toilets of bars in the early 2000s – along with editorial work for clients like The Gap\, The New York Times\, Supreme\, Billboard\, and Riposte that includes portraits of SZA\, Lee Scratch Perry\, George Condo\, Cardi B\, and a few requisite selfies. \nMs. Jarvis’ work is known for blending the aesthetics of modern fashion photography with the sensitive\, unfiltered emotion of art portraiture. In some of her best-loved imagery she captures vivid reality across a wide variety of subjects that always appear to be an extension of herself. The images speak to raw\, disparate feelings imbued with a deep sparkling optimism. The photos in this collection are an invitation to join Jarvis on a journey to see the world from her vantage point – one that is female\, black\, tirelessly hardworking\, and brimming with raucous\, positive vibrations. These are images of celebrities who seem like best friends\, vintage shots of downtown New York notables in their heyday\, children\, loved ones in all colors of the rainbow\, and delicate landscapes and travel souvenirs. Here is sorrow and joy commingling in pictures\, many of them highly autobiographical\, all representing a progressive and optimistic world.
URL:https://helmsdesigndistrict.com/event/arcana-books-celebrates-shaniqwa-jarvis-first-book/
LOCATION:Arcana: Books on the Arts\, 8675 Washington Blvd.\, Culver City\, CA\, 90232
CATEGORIES:News
ATTACH;FMTTYPE=image/jpeg:https://helmsdesigndistrict.com/wp-content/uploads/2018/06/Arcana-19.06.09-2.jpg
GEO:34.0300679;-118.3835128
X-APPLE-STRUCTURED-LOCATION;VALUE=URI;X-ADDRESS=Arcana: Books on the Arts 8675 Washington Blvd. Culver City CA 90232;X-APPLE-RADIUS=500;X-TITLE=8675 Washington Blvd.:geo:-118.3835128,34.0300679
END:VEVENT
END:VCALENDAR