BEGIN:VCALENDAR
VERSION:2.0
PRODID:-//Helms Design District - ECPv6.15.18//NONSGML v1.0//EN
CALSCALE:GREGORIAN
METHOD:PUBLISH
X-ORIGINAL-URL:https://helmsdesigndistrict.com
X-WR-CALDESC:Events for Helms Design District
REFRESH-INTERVAL;VALUE=DURATION:PT1H
X-Robots-Tag:noindex
X-PUBLISHED-TTL:PT1H
BEGIN:VTIMEZONE
TZID:America/Los_Angeles
BEGIN:DAYLIGHT
TZOFFSETFROM:-0800
TZOFFSETTO:-0700
TZNAME:PDT
DTSTART:20150308T100000
END:DAYLIGHT
BEGIN:STANDARD
TZOFFSETFROM:-0700
TZOFFSETTO:-0800
TZNAME:PST
DTSTART:20151101T090000
END:STANDARD
BEGIN:DAYLIGHT
TZOFFSETFROM:-0800
TZOFFSETTO:-0700
TZNAME:PDT
DTSTART:20160313T100000
END:DAYLIGHT
BEGIN:STANDARD
TZOFFSETFROM:-0700
TZOFFSETTO:-0800
TZNAME:PST
DTSTART:20161106T090000
END:STANDARD
BEGIN:DAYLIGHT
TZOFFSETFROM:-0800
TZOFFSETTO:-0700
TZNAME:PDT
DTSTART:20170312T100000
END:DAYLIGHT
BEGIN:STANDARD
TZOFFSETFROM:-0700
TZOFFSETTO:-0800
TZNAME:PST
DTSTART:20171105T090000
END:STANDARD
END:VTIMEZONE
BEGIN:VEVENT
DTSTART;TZID=America/Los_Angeles:20160206T160000
DTEND;TZID=America/Los_Angeles:20160206T180000
DTSTAMP:20260423T220228
CREATED:20160205T010914Z
LAST-MODIFIED:20160205T010914Z
UID:10000082-1454774400-1454781600@helmsdesigndistrict.com
SUMMARY:Arcana Hosts A Book Signing With Steven Rea (Plus Cognoscenti Coffee)
DESCRIPTION:On Saturday\, February 6th from 4:00pm – 6:00pm\, please join Arcana: Books on the Arts as they host their longtime friend Steven Rea in a celebration of the publication of his new book Hollywood Café: Coffee With The Stars.  \nPut on a pot of your favorite coffee\, perk up\, and enjoy nostalgic black-and-white photos that celebrate screen icons from the Silent Era through the eighties making and drinking their own cups of joe\, java\, pour-overs\, and percolated brews. Hollywood Café bridges the vibrant coffee culture of the present with the glamorous coffee culture of the star-studded past. A cast of nearly two hundred stars – including Elvis Presley\, Marilyn Monroe\, Jayne Mansfield\, Sammy Davis Jr.\, Frank Sinatra\, Jane Fonda\, Ava Gardner\, and many more – is captured on the set\, on the run\, in costume and out\, behind-the-scenes\, and at the kitchen table refilling and refueling\, sipping and savoring\, drinking the good stuff\, just like us. \nPlus\, enjoy divine\, freshly-brewed coffee graciously provided by Cognoscenti Coffee!  RSVP for planning purposes by kindly emailing to let them know you’ll be there.  \n8675 Washington Boulevard\n310-458-1499
URL:https://helmsdesigndistrict.com/event/arcana-hosts-a-book-signing-with-steven-rea-plus-cognoscenti-coffee/
LOCATION:Arcana: Books on the Arts\, 8675 Washington Blvd.\, Culver City\, CA\, 90232
CATEGORIES:News
ATTACH;FMTTYPE=image/jpeg:https://helmsdesigndistrict.com/wp-content/uploads/2016/02/Arcana-16.02.06.jpg
GEO:34.0300679;-118.3835128
X-APPLE-STRUCTURED-LOCATION;VALUE=URI;X-ADDRESS=Arcana: Books on the Arts 8675 Washington Blvd. Culver City CA 90232;X-APPLE-RADIUS=500;X-TITLE=8675 Washington Blvd.:geo:-118.3835128,34.0300679
END:VEVENT
END:VCALENDAR