BEGIN:VCALENDAR
VERSION:2.0
PRODID:-//Helms Design District - ECPv6.15.18//NONSGML v1.0//EN
CALSCALE:GREGORIAN
METHOD:PUBLISH
X-ORIGINAL-URL:https://helmsdesigndistrict.com
X-WR-CALDESC:Events for Helms Design District
REFRESH-INTERVAL;VALUE=DURATION:PT1H
X-Robots-Tag:noindex
X-PUBLISHED-TTL:PT1H
BEGIN:VTIMEZONE
TZID:America/Los_Angeles
BEGIN:DAYLIGHT
TZOFFSETFROM:-0800
TZOFFSETTO:-0700
TZNAME:PDT
DTSTART:20220313T100000
END:DAYLIGHT
BEGIN:STANDARD
TZOFFSETFROM:-0700
TZOFFSETTO:-0800
TZNAME:PST
DTSTART:20221106T090000
END:STANDARD
BEGIN:DAYLIGHT
TZOFFSETFROM:-0800
TZOFFSETTO:-0700
TZNAME:PDT
DTSTART:20230312T100000
END:DAYLIGHT
BEGIN:STANDARD
TZOFFSETFROM:-0700
TZOFFSETTO:-0800
TZNAME:PST
DTSTART:20231105T090000
END:STANDARD
BEGIN:DAYLIGHT
TZOFFSETFROM:-0800
TZOFFSETTO:-0700
TZNAME:PDT
DTSTART:20240310T100000
END:DAYLIGHT
BEGIN:STANDARD
TZOFFSETFROM:-0700
TZOFFSETTO:-0800
TZNAME:PST
DTSTART:20241103T090000
END:STANDARD
END:VTIMEZONE
BEGIN:VEVENT
DTSTART;TZID=America/Los_Angeles:20230625T120000
DTEND;TZID=America/Los_Angeles:20230625T180000
DTSTAMP:20260423T190218
CREATED:20230613T155444Z
LAST-MODIFIED:20230613T175722Z
UID:10001181-1687694400-1687716000@helmsdesigndistrict.com
SUMMARY:Susan Maddux Art Exhibition
DESCRIPTION:Free \nLos Angeles artist Susan Maddux uses origami-inspired folding to transform paintings\, creating hybrid objects that exist in the space between painting and sculpture.\nAs a 4th generation hapa-Japanese born and raised in Hawaii with stints on the continent growing up\, Maddux has a complex relationship with her heritage. This work explores reconnection with personal history and place through the transformation of material and the ritual of gesture. \nMaddux has a degree in painting from the San Francisco Art Institute\, and worked professionally as a surface pattern designer for many years. A decade ago\, she began creating powerful pieces by gently folding paintings composed of repeating patterns. Forms that bring to mind a kimono or a cape began to appear\, bringing together her interests in the figure\, spirituality\, and textiles. \nHelms Design Center\n8745 Washington Blvd\, Culver City\, CA 90232
URL:https://helmsdesigndistrict.com/event/susan-maddux-art-exhibition/2023-06-25/
LOCATION:Helms Design Center\, 8745 Washington Boulevard\, Culver City\, CA\, 90232
CATEGORIES:News
ATTACH;FMTTYPE=image/jpeg:https://helmsdesigndistrict.com/wp-content/uploads/2023/06/Susan_Maddux_Ember_front_1000px.jpg
GEO:34.0286594;-118.3857496
X-APPLE-STRUCTURED-LOCATION;VALUE=URI;X-ADDRESS=Helms Design Center 8745 Washington Boulevard Culver City CA 90232;X-APPLE-RADIUS=500;X-TITLE=8745 Washington Boulevard:geo:-118.3857496,34.0286594
END:VEVENT
BEGIN:VEVENT
DTSTART;TZID=America/Los_Angeles:20230624T120000
DTEND;TZID=America/Los_Angeles:20230624T180000
DTSTAMP:20260423T190218
CREATED:20230613T155444Z
LAST-MODIFIED:20230613T175722Z
UID:10001180-1687608000-1687629600@helmsdesigndistrict.com
SUMMARY:Susan Maddux Art Exhibition
DESCRIPTION:Free \nLos Angeles artist Susan Maddux uses origami-inspired folding to transform paintings\, creating hybrid objects that exist in the space between painting and sculpture.\nAs a 4th generation hapa-Japanese born and raised in Hawaii with stints on the continent growing up\, Maddux has a complex relationship with her heritage. This work explores reconnection with personal history and place through the transformation of material and the ritual of gesture. \nMaddux has a degree in painting from the San Francisco Art Institute\, and worked professionally as a surface pattern designer for many years. A decade ago\, she began creating powerful pieces by gently folding paintings composed of repeating patterns. Forms that bring to mind a kimono or a cape began to appear\, bringing together her interests in the figure\, spirituality\, and textiles. \nHelms Design Center\n8745 Washington Blvd\, Culver City\, CA 90232
URL:https://helmsdesigndistrict.com/event/susan-maddux-art-exhibition/2023-06-24/
LOCATION:Helms Design Center\, 8745 Washington Boulevard\, Culver City\, CA\, 90232
CATEGORIES:News
ATTACH;FMTTYPE=image/jpeg:https://helmsdesigndistrict.com/wp-content/uploads/2023/06/Susan_Maddux_Ember_front_1000px.jpg
GEO:34.0286594;-118.3857496
X-APPLE-STRUCTURED-LOCATION;VALUE=URI;X-ADDRESS=Helms Design Center 8745 Washington Boulevard Culver City CA 90232;X-APPLE-RADIUS=500;X-TITLE=8745 Washington Boulevard:geo:-118.3857496,34.0286594
END:VEVENT
BEGIN:VEVENT
DTSTART;TZID=America/Los_Angeles:20230623T120000
DTEND;TZID=America/Los_Angeles:20230623T180000
DTSTAMP:20260423T190218
CREATED:20230613T155444Z
LAST-MODIFIED:20230613T175722Z
UID:10001179-1687521600-1687543200@helmsdesigndistrict.com
SUMMARY:Susan Maddux Art Exhibition
DESCRIPTION:Free \nLos Angeles artist Susan Maddux uses origami-inspired folding to transform paintings\, creating hybrid objects that exist in the space between painting and sculpture.\nAs a 4th generation hapa-Japanese born and raised in Hawaii with stints on the continent growing up\, Maddux has a complex relationship with her heritage. This work explores reconnection with personal history and place through the transformation of material and the ritual of gesture. \nMaddux has a degree in painting from the San Francisco Art Institute\, and worked professionally as a surface pattern designer for many years. A decade ago\, she began creating powerful pieces by gently folding paintings composed of repeating patterns. Forms that bring to mind a kimono or a cape began to appear\, bringing together her interests in the figure\, spirituality\, and textiles. \nHelms Design Center\n8745 Washington Blvd\, Culver City\, CA 90232
URL:https://helmsdesigndistrict.com/event/susan-maddux-art-exhibition/2023-06-23/
LOCATION:Helms Design Center\, 8745 Washington Boulevard\, Culver City\, CA\, 90232
CATEGORIES:News
ATTACH;FMTTYPE=image/jpeg:https://helmsdesigndistrict.com/wp-content/uploads/2023/06/Susan_Maddux_Ember_front_1000px.jpg
GEO:34.0286594;-118.3857496
X-APPLE-STRUCTURED-LOCATION;VALUE=URI;X-ADDRESS=Helms Design Center 8745 Washington Boulevard Culver City CA 90232;X-APPLE-RADIUS=500;X-TITLE=8745 Washington Boulevard:geo:-118.3857496,34.0286594
END:VEVENT
BEGIN:VEVENT
DTSTART;TZID=America/Los_Angeles:20230622T120000
DTEND;TZID=America/Los_Angeles:20230622T180000
DTSTAMP:20260423T190218
CREATED:20230613T155444Z
LAST-MODIFIED:20230613T175722Z
UID:10001178-1687435200-1687456800@helmsdesigndistrict.com
SUMMARY:Susan Maddux Art Exhibition
DESCRIPTION:Free \nLos Angeles artist Susan Maddux uses origami-inspired folding to transform paintings\, creating hybrid objects that exist in the space between painting and sculpture.\nAs a 4th generation hapa-Japanese born and raised in Hawaii with stints on the continent growing up\, Maddux has a complex relationship with her heritage. This work explores reconnection with personal history and place through the transformation of material and the ritual of gesture. \nMaddux has a degree in painting from the San Francisco Art Institute\, and worked professionally as a surface pattern designer for many years. A decade ago\, she began creating powerful pieces by gently folding paintings composed of repeating patterns. Forms that bring to mind a kimono or a cape began to appear\, bringing together her interests in the figure\, spirituality\, and textiles. \nHelms Design Center\n8745 Washington Blvd\, Culver City\, CA 90232
URL:https://helmsdesigndistrict.com/event/susan-maddux-art-exhibition/2023-06-22/
LOCATION:Helms Design Center\, 8745 Washington Boulevard\, Culver City\, CA\, 90232
CATEGORIES:News
ATTACH;FMTTYPE=image/jpeg:https://helmsdesigndistrict.com/wp-content/uploads/2023/06/Susan_Maddux_Ember_front_1000px.jpg
GEO:34.0286594;-118.3857496
X-APPLE-STRUCTURED-LOCATION;VALUE=URI;X-ADDRESS=Helms Design Center 8745 Washington Boulevard Culver City CA 90232;X-APPLE-RADIUS=500;X-TITLE=8745 Washington Boulevard:geo:-118.3857496,34.0286594
END:VEVENT
END:VCALENDAR