BEGIN:VCALENDAR
VERSION:2.0
PRODID:-//Helms Design District - ECPv6.15.18//NONSGML v1.0//EN
CALSCALE:GREGORIAN
METHOD:PUBLISH
X-WR-CALNAME:Helms Design District
X-ORIGINAL-URL:https://helmsdesigndistrict.com
X-WR-CALDESC:Events for Helms Design District
REFRESH-INTERVAL;VALUE=DURATION:PT1H
X-Robots-Tag:noindex
X-PUBLISHED-TTL:PT1H
BEGIN:VTIMEZONE
TZID:America/Los_Angeles
BEGIN:DAYLIGHT
TZOFFSETFROM:-0800
TZOFFSETTO:-0700
TZNAME:PDT
DTSTART:20240310T100000
END:DAYLIGHT
BEGIN:STANDARD
TZOFFSETFROM:-0700
TZOFFSETTO:-0800
TZNAME:PST
DTSTART:20241103T090000
END:STANDARD
BEGIN:DAYLIGHT
TZOFFSETFROM:-0800
TZOFFSETTO:-0700
TZNAME:PDT
DTSTART:20250309T100000
END:DAYLIGHT
BEGIN:STANDARD
TZOFFSETFROM:-0700
TZOFFSETTO:-0800
TZNAME:PST
DTSTART:20251102T090000
END:STANDARD
BEGIN:DAYLIGHT
TZOFFSETFROM:-0800
TZOFFSETTO:-0700
TZNAME:PDT
DTSTART:20260308T100000
END:DAYLIGHT
BEGIN:STANDARD
TZOFFSETFROM:-0700
TZOFFSETTO:-0800
TZNAME:PST
DTSTART:20261101T090000
END:STANDARD
END:VTIMEZONE
BEGIN:VEVENT
DTSTART;TZID=America/Los_Angeles:20251025T100000
DTEND;TZID=America/Los_Angeles:20251025T150000
DTSTAMP:20260423T195857
CREATED:20251023T194413Z
LAST-MODIFIED:20251023T194413Z
UID:10001988-1761386400-1761404400@helmsdesigndistrict.com
SUMMARY:Pastries\, Puppy Kisses and Community
DESCRIPTION:This Saturday\, Helms Bakery is teaming up with @lovejoyfoundation for Pups & Pastries\, a pet adoption event on Helms Avenue\, sponsored by @smashboxcosmetics and @gogomabakes.  \nStop by for tail wags\, puppy kisses\, and maybe your forever companion. Enjoy dog treat samples\, delicious pastries\, and 100 free OG Primer goodie bags\, plus gifts for every new pet parent from Smashbox Cosmetics. \nCome for the cuddles\, stay for the community.
URL:https://helmsdesigndistrict.com/event/pastries-puppy-kisses-and-community/
LOCATION:Helms Walk\, 3270 Helms Avenue\, Los Angeles\, CA\, 90034
CATEGORIES:News
ATTACH;FMTTYPE=image/jpeg:https://helmsdesigndistrict.com/wp-content/uploads/2025/10/PupsPastries_EmailSite.jpg
GEO:34.0306591;-118.384688
X-APPLE-STRUCTURED-LOCATION;VALUE=URI;X-ADDRESS=Helms Walk 3270 Helms Avenue Los Angeles CA 90034;X-APPLE-RADIUS=500;X-TITLE=3270 Helms Avenue:geo:-118.384688,34.0306591
END:VEVENT
END:VCALENDAR